Workbook
Name db_fifarank: Settings!$B$15:$C$46
Name gmt_delta: Settings!$G$14
Name itype: Settings!$G$46
Name lang: Settings!$G$13
Name lang_list: T!$1:$1
Name T: T!$1:$1048576

Sheet T
A1: English | B1: Albanian | C1: Arabic | D1: Armenian | E1: Azerbaijan | F1: Bulgarian | G1: Català | H1: Chinese (Simplified) | I1: Chinese (Traditional) | J1: Croatian | K1: Czech | L1: Danish | M1: Dutch | N1: French | O1: Georgian | P1: German | Q1: Greek | R1: Hebrew | S1: Hungarian | T1: Indonesia | U1: Icelandic | V1: Italian | W1: Korean | X1: Lithuanian | Y1: Macedonian | Z1: Maltese | AA1: Norwegian | AB1: Persian | AC1: Polish | AD1: Portuguese | AE1: Romanian | AF1: Russian | AG1: Serbian | AH1: Slovak | AI1: Slovenian | AJ1: Spanish | AK1: Swedish | AL1: Thai | AM1: Turkish | AN1: Vietnamese | AO1: Ukrainian | AP1: Urdu
A2: 2014 World Cup Final Tournament Schedule | B2: Kupa Botërore 2014 | C2: جدول مباريات كأس العالم 2014 | D2: Աշխարհի 2014թ. առաջնություն | E2: 2014 - cu il Dünya Çempionatinin Final Mərhələsinin Cədvəli | F2: График на срещите - Световно първенство 2014 | G2: Calendari de la Fase Final de la Copa del Món de futbol 2014 | H2: 2014南非世界杯决赛阶段赛程 | I2: 2014 世界盃賽程 | J2: Svjetsko prvenstvo 2014 raspored utakmica | K2: Mistrovství světa ve fotbale 2014 | L2: 2014 Verdensmesterskabs Oversigt | M2: Wereldkampioenschap 2014 Toernooischema | N2: Coupe du Monde de la FIFA 2014 - Calendrier des matchs | O2: მსოფლიო ჩემპიონატი ფეხბურთში - სამხრეთ აფრიკა 2014 | P2: Spielplan Weltmeisterschafts endrunde 2014 | Q2: Πρόγραμμα Τελικών Παγκοσμίου Κυπέλλου 2014 | R2: 2014 גביע העולם טורניר הגמר תזמן | S2: 2014 Labdarúgó-világbajnokság döntő sorozata | T2: Jadwal Turnamen Final Piala Dunia 2014 | U2: HM 2014 lokakeppnin | V2: Calendario Coppa del mondo 2014 | W2: 2014 월드컵 최종 토너먼트 일정 | X2: 2014 Pasaulio Futbolo Čempionato Tvarkaraštis | Y2: Светски првенство 2014 - Распоред на натпревари | Z2: Skeda tat-Tazza tad-Dinja 2014 | AA2: Verdensmesterskapet i fotball 2014 | AB2: جدول مسابقات فینال جام جهانی 2014 | AC2: 2014 Mistrzostwa Świata Terminarz Meczy | AD2: Calendário Fase Final Mundial 2014 | AE2: Programul Turneului Final FIFA World Cup 2014 | AF2: Расписание Игр Финальной Стадии Чемпионата Мира по Футболу 2014 | AG2: Svetsko prvenstvo u fudbalu 2014 - Raspored utakmica | AH2: Majstrovstvá sveta vo futbale 2014 | AI2: Svetovno prvenstvo 2014 razpored tekem | AJ2: Copa Mundial de Fútbol - Brasil 2014 | AK2: Schema för VM-slutspelet 2014 | AL2: ตารางการแข่งขันฟุตบอลโลก 2014 | AM2: 2014 Dünya Kupası Finalleri Turnuva Fikstürü | AN2: Lịch Thi Đấu Cúp Bóng Đá Thế Giới 2014 | AO2: Календар Чемпіонату Світу 2014 | AP2: ۲۰۱۰ فٹبال عالمی کپ ٹورنمنٹ کا خاکہ
A3: Group Stage | B3: Grupet | C3: الدور الأول | D3: Խմբային փուլ | E3: Qrup Mərhələsi | F3: Групова фаза | G3: Fase de grups | H3: 小组赛阶段 | I3: 分組賽 | J3: Prvi krug | K3: Základní skupiny | L3: Gruppespil | M3: Groepsfase | N3: Phase de groupes | O3: ჯგუფური ეტაპი | P3: Gruppenphase | Q3: Φάση Ομίλων | R3: שלב הבתים | S3: Csoportkörök | T3: Babak Kualifikasi | U3: Riðlakeppnin | V3: Fase a gironi | W3: 조별 리그 | X3: Grupės Etapas | Y3: Фаза по групи | Z3: Fażi tal-Gruppi | AA3: Gruppespill | AB3: مرحله گروهی | AC3: Faza Grupowa | AD3: Fase de grupos | AE3: Faza Grupelor | AF3: Групповой Раунд | AG3: Grupno takmičenje | AH3: Skupinová fáza | AI3: Skupinski del | AJ3: Fase de grupos | AK3: Gruppspel | AL3: รอบแรก | AM3: Grup Aşaması | AN3: Vòng Bảng | AO3: Груповий етап | AP3: گروپ بندی
A4: Round of 16 | B4: Rundi I 16 | C4: دور الستة عشر | D4: 1/8 Եզրափակիչ | E4: 16-da bir raund | F4: 1/8 - финали | G4: Vuitens de final | H4: 16强赛 | I4: 十六強 | J4: Drugi krug | K4: Osmifinále | L4: Runde af 16 | M4: Achtste finales | N4: Huitièmes de finale | O4: მერვედფინალი | P4: Achtelfinale | Q4: Φάση των 16 | R4: שמינית גמר | S4: Nyolcaddöntők | T4: Per Delapan Final | U4: 16 liða úrslit | V4: Ottavi di finale | W4: 16강전 | X4: 16-tuko Raundas | Y4: 1/8 финале | Z4: L-Aħħar Sittax | AA4: 8-dels finale | AB4: یک هشتم نهائی | AC4: 1/8 Finału | AD4: Oitavos de Final | AE4: Optimi | AF4: 1/8 Финала | AG4: Šesnaestina finala | AH4: Osemfinále | AI4: Osminafinala | AJ4: Octavos de final | AK4: Åttondelsfinal | AL4: รอบสอง | AM4: Son 16 | AN4: Vòng 1/16 | AO4: 1/8 фіналу | AP4: سولھواں دور
A5: Quarterfinals | B5: Qerekfinalja | C5: دور الربع نهائي | D5: 1/4 Եզրափակիչ | E5: Dörddə bir Final | F5: 1/4 - финали | G5: Quarts de final | H5: 8强赛 | I5: 八強 | J5: Četvrtfinale | K5: Čtvrtfinále | L5: Kvartfinale | M5: Kwartfinales | N5: Quart de Finale | O5: მეოთხედფინალი | P5: Viertelfinale | Q5: Προημιτελικοί | R5: רבע גמר | S5: Negyeddöntők | T5: Perempat Final | U5: 8 liða úrslit | V5: Quarti di finale | W5: 8강전 | X5: Ketvirtfinaliai | Y5: 1/4 финале | Z5: Kwarti-Finali | AA5: Kvartfinale | AB5: یک چهارم نهائی | AC5: Ćwierćfinały | AD5: Quartos de Final | AE5: Sferturi de finala | AF5: Четвертьфиналы | AG5: Četvrtfinale | AH5: Štvrťfinále | AI5: Četrtfinale | AJ5: Cuartos de Final | AK5: Kvartsfinal | AL5: รอบก่อนรองชนะเลิศ | AM5: Çeyrek Final | AN5: Tứ kết | AO5: Чвертьфінал | AP5: کواٹر فائنل
A6: Semi-Finals | B6: Gjysmëfinalja | C6: دور النصف نهائي | D6: Կիսաեզրափակիչ | E6: Yarım Final | F6: 1/2 - финали | G6: Semifinals | H6: 半决赛 | I6: 準決賽 | J6: Polufinale | K6: Semifinále | L6: Semifinale | M6: Halve finales | N6: Demi-Finale | O6: ნახევარფინალი | P6: Halbfinale | Q6: Ημιτελικοί | R6: חצי גמר | S6: Elődöntők | T6: Semi Final | U6: Undanúrslit | V6: Semifinali | W6: 준결승전 | X6: Pusfinaliai | Y6: 1/2 финале | Z6: Semi-Finali | AA6: Semifinale | AB6: نیمه نهائی | AC6: Półfinały | AD6: Semi-final | AE6: Semifinale | AF6: Полуфиналы | AG6: Polufinale | AH6: Semifinále | AI6: Polfinale | AJ6: Semifinales | AK6: Semifinal | AL6: รอบรองชนะเลิศ | AM6: Yarı Final | AN6: Bán kết | AO6: Півфінал | AP6: سیمی فائنل
A7: Third-Place Play-Off | B7: Takimi për vendin e tretë | C7: تحديد المركزين الثالث والرابع | D7: 3-րդ տեղի համար եզրափակիչ | E7: Üçüncü Yer Uğrunda | F7: Мач за трето място | G7: 3r i 4t lloc | H7: 季军赛 | I7: 季軍賽 | J7: Za treće mjesto | K7: Zápas o 3.místo | L7: Tredjeplads Kamp | M7: Derde en vierde plaats | N7: Match pour la troisième place | O7: მესამე ადგილი | P7: Spiel um den dritten Platz | Q7: Μικρός Τελικός | R7: מקום 3-4 | S7: Bronzmeccs | T7: Perebutan Tempat Ketiga | U7: Leikur um 3.sæti | V7: Finale 3°- 4° posto | W7: 3,4위전 | X7: Rungtynės dėl Trečios Vietos | Y7: Натпревар за трето место | Z7: Final għat-Tielet u r-Raba' Post | AA7: Bronsefinale | AB7: رده بندی | AC7: Mecz o trzecie miejsce | AD7: 3º/4º lugar | AE7: Finala mica | AF7: Матч за Третье Место | AG7: Za treće mjesto | AH7: Zápas o 3. miesto | AI7: Za tretje mesto | AJ7: Tercer puesto | AK7: Match om tredje pris | AL7: รอบชิงที่ 3 | AM7: Üçüncülük Maçı | AN7: Tranh hạng 3 | AO7: Матч за третє місце | AP7: تیسرے مقام کے لئے کھیل
A8: Final | B8: Finalja | C8: المباراة النهائية | D8: Եզրափակիչ | E8: Final | F8: Финал | G8: Final | H8: 总决赛 | I8: 總決賽 | J8: Finale | K8: Finále | L8: Finale | M8: Finale | N8: Finale | O8: ფინალი | P8: Finale | Q8: Τελικός | R8: גמר | S8: Döntő | T8: Final | U8: Úrslit | V8: Finale | W8: 결승전 | X8: Finalas | Y8: Финале | Z8: Finali | AA8: Finale | AB8: فینال | AC8: Finał | AD8: Final | AE8: FINALA | AF8: Финал | AG8: Finale | AH8: Finále | AI8: Finale | AJ8: Final | AK8: Final | AL8: รอบชิงชนะเลิศ | AM8: Final | AN8: Chung Kết | AO8: Фінал | AP8: فائنل
A9: Group | B9: Grupi | C9: المجموعة | D9: Խումբ | E9: Qrup | F9: Група | G9: Grup | H9: 小组 | I9: 小組 | J9: Grupa | K9: Skupina | L9: Gruppe | M9: Groep | N9: Groupe | O9: ჯგუფი | P9: Gruppe | Q9: Όμιλος | R9: בית | S9: Csoport | T9: Kelompok | U9: Riðill | V9: Gruppo | W9: 그룹 | X9: Grupė | Y9: Група | Z9: Grupp | AA9: Gruppe | AB9: گروه | AC9: Grupa | AD9: Grupo | AE9: Grupa | AF9: Группа | AG9: Grupa | AH9: Skupina | AI9: Skupina | AJ9: Grupo | AK9: Grupp | AL9: สาย | AM9: Grup | AN9: Bảng | AO9: Група | AP9: گروپ بندی
A10: PL | B10: L | C10: لعب | D10: Խ | E10: O | F10: М | G10: J | H10: 场次 | I10: 賽 | J10: PL | K10: Z | L10: SP | M10: WG | N10: J | O10: თ | P10: SP | Q10: ΑΓ | R10: משחקים | S10: M | T10: Main | U10: L | V10: G | W10: 경기 | X10: Žst | Y10: О | Z10: L | AA10: S | AB10: بازی | AC10: M | AD10: J | AE10: J | AF10: И | AG10: UT | AH10: Z | AI10: PL | AJ10: J | AK10: Sp | AL10: แข่ง | AM10: O | AN10: Trận | AO10: І | AP10: کھیلے گئے مقابلے
A11: W | B11: F | C11: فاز | D11: Հ | E11: Q | F11: П | G11: G | H11: 胜 | I11: 勝 | J11: W | K11: V | L11: V | M11: W | N11: V | O11: მოგ | P11: S | Q11: Ν | R11: נצחונות | S11: GY | T11: Menang | U11: U | V11: V | W11: 승 | X11: L | Y11: П | Z11: R | AA11: V | AB11: برد | AC11: Z | AD11: V | AE11: V | AF11: В | AG11: P | AH11: V | AI11: W | AJ11: G | AK11: V | AL11: ชนะ | AM11: G | AN11: T | AO11: В | AP11: جیت
A12: DRAW | B12: BAR | C12: تعادل | D12: Ո | E12: H | F12: Р | G12: E | H12: 平 | I12: 和 | J12: DRAW | K12: R | L12: Uafgjort | M12: G | N12: DRAW | O12: ფრე | P12: DRAW | Q12: Ι | R12: תיקו | S12: D | T12: Seri | U12: Jafnt | V12: P | W12: 무 | X12: Lyg | Y12: Н | Z12: I | AA12: T | AB12: مساوی | AC12: R | AD12: E | AE12: E | AF12: Н | AG12: NER. | AH12: R | AI12: DRAW | AJ12: DRAW | AK12: O | AL12: เสมอ | AM12: B | AN12: H | AO12: Н | AP12: برابر
... A115: en | B115: sq | C115: ar | D115: hy | E115: az | F115: bg | G115: ca | H115: zh-CN | I115: zh-TW | J115: hr | K115: cs | L115: da | M115: nl | N115: fr | O115: ka | P115: de | Q115: el | R115: iw | S115: hu | T115: id | U115: is | V115: it | W115: ko | X115: lt | Y115: mk | Z115: mt | AA115: no | AB115: fa | AC115: pl | AD115: pt | AE115: ro | AF115: ru | AG115: sr | AH115: sk | AI115: sl | AJ115: es | AK115: sv | AL115: th | AM115: tr | AN115: vi | AO115: uk | AP115: ur

Sheet Settings
B2: Settings | F2: Group Round Sorting
B4: Language | C4: Italian
F5: Step #1 | G5: Punti
B6: Summer Time | C6: Yes | F6: Step #2 | G6: Differenza Reti
F7: Step #3 | G7: Reti Segnate
B8: GTM-Time | C8: GMT | F8: Step #4 | G8: Classifica Avulsa
F9: Step #5 | G9: FIFA Rank
B10: Minutes | C10: +0 min
F13: Language ID | G13: =IF(ISERROR(MATCH(C4,lang_list,0)),1,MATCH(C4,lang_list,0)) -> 22
C14: FIFA Rank | F14: GMT Delta | G14: =TIME(VLOOKUP(C8,F16:G39,2,FALSE),VLOOKUP(C10,F41:G44,2,FALSE),0)+IF(C6="Yes",TIME(1,0,0),0) -> 0.5
B15: =INDEX(T,66,lang) -> Spagna | C15: 1460
B16: =INDEX(T,50,lang) -> Germania | C16: 1340 | F16: GMT - 11:00 | G16: 0
B17: =INDEX(T,65,lang) -> Portogallo | C17: 1245 | F17: GMT - 10:00 | G17: 1
B18: =INDEX(T,52,lang) -> Colombia | C18: 1186 | F18: GMT - 9:00 | G18: 2
B19: =INDEX(T,40,lang) -> Uruguay | C19: 1181 | F19: GMT - 8:00 | G19: 3
B20: =INDEX(T,42,lang) -> Argentina | C20: 1174 | F20: GMT - 7:00 | G20: 4
B21: =INDEX(T,62,lang) -> Brasile | C21: 1174 | F21: GMT - 6:00 | G21: 5
B22: =INDEX(T,67,lang) -> Svizzera | C22: 1161 | F22: GMT - 5:00 | G22: 6
B23: =INDEX(T,58,lang) -> Italia | C23: 1115 | F23: GMT - 4:00 | G23: 7
B24: =INDEX(T,45,lang) -> Grecia | C24: 1082 | F24: GMT - 3:00 | G24: 8
B25: =INDEX(T,46,lang) -> Inghilterra | C25: 1043 | F25: GMT - 2:00 | G25: 9
B26: =INDEX(T,63,lang) -> Belgio | C26: 1039 | F26: GMT - 1:00 | G26: 10
B27: =INDEX(T,47,lang) -> Stati Uniti d'America | C27: 1015 | F27: GMT | G27: 11
B28: =INDEX(T,69,lang) -> Cile | C28: 1011 | F28: GMT + 1:00 | G28: 12
B29: =INDEX(T,54,lang) -> Paesi Bassi | C29: 967 | F29: GMT + 2:00 | G29: 13
B30: =INDEX(T,41,lang) -> Francia | C30: 935 | F30: GMT + 3:00 | G30: 14
B31: =INDEX(T,49,lang) -> Russia | C31: 903 | F31: GMT + 4:00 | G31: 15
B32: =INDEX(T,39,lang) -> Messico | C32: 876 | F32: GMT + 5:00 | G32: 16
B33: =INDEX(T,38,lang) -> Croazia | C33: 871 | F33: GMT + 6:00 | G33: 17
B34: =INDEX(T,64,lang) -> Costa d' Avorio | C34: 830 | F34: GMT + 7:00 | G34: 18
B35: =INDEX(T,48,lang) -> Algeria | C35: 795 | F35: GMT + 8:00 | G35: 19
B36: =INDEX(T,60,lang) -> Bosnia - Erzegovina | C36: 795 | F36: GMT + 9:00 | G36: 20
B37: =INDEX(T,59,lang) -> Ecuador | C37: 790 | F37: GMT + 10:00 | G37: 21
B38: =INDEX(T,55,lang) -> Costarica | C38: 744 | F38: GMT + 11:00 | G38: 22
B39: =INDEX(T,68,lang) -> Honduras | C39: 754 | F39: GMT + 12:00 | G39: 23
B40: =INDEX(T,61,lang) -> Iran | C40: 715
B41: =INDEX(T,53,lang) -> Ghana | C41: 713 | F41: +0 min | G41: 0
B42: =INDEX(T,43,lang) -> Nigeria | C42: 620 | F42: +15 min | G42: 15
B43: =INDEX(T,56,lang) -> Giappone | C43: 613 | F43: +30 min | G43: 30
B44: =INDEX(T,57,lang) -> Camerun | C44: 583 | F44: +45 min | G44: 45
B45: =INDEX(T,44,lang) -> Corea del Sud | C45: 551
B46: =INDEX(T,51,lang) -> Australia | C46: 545 | F46: itype | G46: =IF(G4="Type 2",0,1) -> 1

Sheet Coopa del Mondo 2014
A1: =INDEX(T,2,lang) -> Calendario Coppa del mondo 2014
R3: ="Language: " & Settings!C4 -> Language: Italian
A5: =INDEX(T,3,lang) -> Fase a gironi
U6: Date + Time + GMT | Y6: GF | Z6: GA | AB6: Place | AC6: Team | AD6: W | AE6: D | AF6: L | AG6: GF | AH6: GA | AI6: Delta | AJ6: Delta | AL6: Pnt | AM6: R | AN6: FIFA | AO6: Rank | AQ6: W | AR6: D | AS6: GF | AT6: GA | AU6: F-A
A7: 1 | B7: =INDEX(T,18+INT(MOD(U7-1,7)),lang) -> Gio | C7: =INDEX(T,24+MONTH(U7),lang) & " " & DAY(U7) & ", " & YEAR(U7) -> Giu 12, 2014 | D7: =TIME(HOUR(U7),MINUTE(U7),0) -> 0.875 | E7: =AC8 -> Brasile | F7: 3 | G7: 1 | H7: =AC9 -> Croazia | I7: =INDEX(T,114,lang) -> Sao Paulo | U7: =DATE(2014,6,12)+TIME(9,0,0)+gmt_delta -> 41802.875 | V7: =IF(OR(F7="",G7=""),"",IF(F7>G7,E7&"_win",IF(F7<G7,E7&"_lose",E7&"_draw"))) -> Brasile_win | W7: =IF(V7="","",IF(F7<G7,H7&"_win",IF(F7>G7,H7&"_lose",H7&"_draw"))) -> Croazia_lose | X7: =IF(V7="",0,IF(VLOOKUP(E7,$AC$8:$AL$53,7,FALSE)=VLOOKUP(H7,$AC$8:$AL$53,7,FALSE),1,0)) -> 0 | Y7: =X7*F7 -> 0 | Z7: =X7*G7 -> 0
A8: 2 | B8: =INDEX(T,18+INT(MOD(U8-1,7)),lang) -> Ven | C8: =INDEX(T,24+MONTH(U8),lang) & " " & DAY(U8) & ", " & YEAR(U8) -> Giu 13, 2014 | D8: =TIME(HOUR(U8),MINUTE(U8),0) -> 0.70833333 | E8: =AC10 -> Messico | F8: 1 | G8: 0 | H8: =AC11 -> Camerun | I8: =INDEX(T,109,lang) -> natale | M8: =INDEX(T,9,lang) & " " & "A" -> Gruppo A | N8: =INDEX(T,10,lang) -> G | O8: =INDEX(T,11,lang) -> V | P8: =INDEX(T,12,lang) -> P | Q8: =INDEX(T,13,lang) -> S | R8: =INDEX(T,14,lang) -> GF - GS | S8: =INDEX(T,15,lang) -> Punti | U8: =DATE(2014,6,13)+TIME(5,0,0)+gmt_delta -> 41803.708 | V8: =IF(OR(F8="",G8=""),"",IF(F8>G8,E8&"_win",IF(F8<G8,E8&"_lose",E8&"_draw"))) -> Messico_win | W8: =IF(V8="","",IF(F8<G8,H8&"_win",IF(F8>G8,H8&"_lose",H8&"_draw"))) -> Camerun_lose | X8: =IF(V8="",0,IF(VLOOKUP(E8,$AC$8:$AL$53,7,FALSE)=VLOOKUP(H8,$AC$8:$AL$53,7,FALSE),1,0)) -> 0 | Y8: =X8*F8 -> 0 | Z8: =X8*G8 -> 0 | AB8: =COUNTIF(AO8:AO11,CONCATENATE(">=",AO8)) -> 1 | AC8: =INDEX(T,62,lang) -> Brasile | AD8: =COUNTIF($V$7:$W$54,"=" & AC8 & "_win") -> 1 | AE8: =COUNTIF($V$7:$W$54,"=" & AC8 & "_draw") -> 0 | AF8: =COUNTIF($V$7:$W$54,"=" & AC8 & "_lose") -> 0 | AG8: =SUMIF($E$7:$E$54,$AC8,$F$7:$F$54) + SUMIF($H$7:$H$54,$AC8,$G$7:$G$54) -> 3 | AH8: =SUMIF($E$7:$E$54,$AC8,$G$7:$G$54) + SUMIF($H$7:$H$54,$AC8,$F$7:$F$54) -> 1 | AI8: =(AG8-AH8)+1 -> 3 | AJ8: =AG8-AH8 -> 2 | AK8: =(AJ8-AJ13)/AJ12 -> 0.8 | AL8: =AD8*3+AE8 -> 3 | AM8: =AQ8/AQ12*1000+AR8/AR12*100+AU8/AU12*10+AS8/AS12 -> 0 | AN8: =VLOOKUP(AC8,db_fifarank,2,FALSE)/2000000 -> 0.000587 | AO8: =1000*AL8/AL12+100*AK8+10*AG8/AG12+1*AM8/AM12+AN8 -> 837.50059 | AP8: =IF(SUM(AD8:AF11)=12,M9,INDEX(T,70,lang)) -> 1A | AQ8: =SUMPRODUCT(($V$7:$V$54=AC8&"_win")*($X$7:$X$54))+SUMPRODUCT(($W$7:$W$54=AC8&"_win")*($X$7:$X$54)) -> 0 | AR8: =SUMPRODUCT(($V$7:$V$54=AC8&"_draw")*($X$7:$X$54))+SUMPRODUCT(($W$7:$W$54=AC8&"_draw")*($X$7:$X$54)) -> 0 | AS8: =SUMPRODUCT(($E$7:$E$54=AC8)*($X$7:$X$54)*($F$7:$F$54))+SUMPRODUCT(($H$7:$H$54=AC8)*($X$7:$X$54)*($G$7:$G$54)) -> 0 | AT8: =SUMPRODUCT(($E$7:$E$54=AC8)*($X$7:$X$54)*($G$7:$G$54))+SUMPRODUCT(($H$7:$H$54=AC8)*($X$7:$X$54)*($F$7:$F$54)) -> 0 | AU8: =AS8-AT8 -> 0
A9: 3 | B9: =INDEX(T,18+INT(MOD(U9-1,7)),lang) -> Ven | C9: =INDEX(T,24+MONTH(U9),lang) & " " & DAY(U9) & ", " & YEAR(U9) -> Giu 13, 2014 | D9: =TIME(HOUR(U9),MINUTE(U9),0) -> 0.83333333 | E9: =AC14 -> Spagna | F9: 1 | G9: 5 | H9: =AC15 -> Paesi Bassi | I9: =INDEX(T,113,lang) -> Salvador | M9: =VLOOKUP(1,AB8:AL11,2,FALSE) -> Brasile | N9: =O9+P9+Q9 -> 1 | O9: =VLOOKUP(1,AB8:AL11,3,FALSE) -> 1 | P9: =VLOOKUP(1,AB8:AL11,4,FALSE) -> 0 | Q9: =VLOOKUP(1,AB8:AL11,5,FALSE) -> 0 | R9: =VLOOKUP(1,AB8:AL11,6,FALSE) & " - " & VLOOKUP(1,AB8:AL11,7,FALSE) -> 3 - 1 | S9: =O9*3+P9 -> 3 | U9: =DATE(2014,6,13)+TIME(8,0,0)+gmt_delta -> 41803.833 | V9: =IF(OR(F9="",G9=""),"",IF(F9>G9,E9&"_win",IF(F9<G9,E9&"_lose",E9&"_draw"))) -> Spagna_lose | W9: =IF(V9="","",IF(F9<G9,H9&"_win",IF(F9>G9,H9&"_lose",H9&"_draw"))) -> Paesi Bassi_win | X9: =IF(V9="",0,IF(VLOOKUP(E9,$AC$8:$AL$53,7,FALSE)=VLOOKUP(H9,$AC$8:$AL$53,7,FALSE),1,0)) -> 0 | Y9: =X9*F9 -> 0 | Z9: =X9*G9 -> 0 | AB9: =COUNTIF(AO8:AO11,CONCATENATE(">=",AO9)) -> 4 | AC9: =INDEX(T,38,lang) -> Croazia | AD9: =COUNTIF($V$7:$W$54,"=" & AC9 & "_win") -> 0 | AE9: =COUNTIF($V$7:$W$54,"=" & AC9 & "_draw") -> 0 | AF9: =COUNTIF($V$7:$W$54,"=" & AC9 & "_lose") -> 1 | AG9: =SUMIF($E$7:$E$54,$AC9,$F$7:$F$54) + SUMIF($H$7:$H$54,$AC9,$G$7:$G$54) -> 1 | AH9: =SUMIF($E$7:$E$54,$AC9,$G$7:$G$54) + SUMIF($H$7:$H$54,$AC9,$F$7:$F$54) -> 3 | AI9: =(AG9-AH9)+1 -> -1 | AJ9: =AG9-AH9 -> -2 | AK9: =(AJ9-AJ13)/AJ12 -> 0 | AL9: =AD9*3+AE9 -> 0 | AM9: =AQ9/AQ12*1000+AR9/AR12*100+AU9/AU12*10+AS9/AS12 -> 0 | AN9: =VLOOKUP(AC9,db_fifarank,2,FALSE)/2000000 -> 0.0004355 | AO9: =1000*AL9/AL12+100*AK9+10*AG9/AG12+1*AM9/AM12+AN9 -> 2.5004355 | AP9: =IF(SUM(AD8:AF11)=12,M10,INDEX(T,71,lang)) -> 2A | AQ9: =SUMPRODUCT(($V$7:$V$54=AC9&"_win")*($X$7:$X$54))+SUMPRODUCT(($W$7:$W$54=AC9&"_win")*($X$7:$X$54)) -> 0 | AR9: =SUMPRODUCT(($V$7:$V$54=AC9&"_draw")*($X$7:$X$54))+SUMPRODUCT(($W$7:$W$54=AC9&"_draw")*($X$7:$X$54)) -> 0 | AS9: =SUMPRODUCT(($E$7:$E$54=AC9)*($X$7:$X$54)*($F$7:$F$54))+SUMPRODUCT(($H$7:$H$54=AC9)*($X$7:$X$54)*($G$7:$G$54)) -> 0 | AT9: =SUMPRODUCT(($E$7:$E$54=AC9)*($X$7:$X$54)*($G$7:$G$54))+SUMPRODUCT(($H$7:$H$54=AC9)*($X$7:$X$54)*($F$7:$F$54)) -> 0 | AU9: =AS9-AT9 -> 0
A10: 4 | B10: =INDEX(T,18+INT(MOD(U10-1,7)),lang) -> Ven | C10: =INDEX(T,24+MONTH(U10),lang) & " " & DAY(U10) & ", " & YEAR(U10) -> Giu 13, 2014 | D10: =TIME(HOUR(U10),MINUTE(U10),0) -> 0.95833333 | E10: =AC16 -> Cile | F10: 3 | G10: 1 | H10: =AC17 -> Australia | I10: =INDEX(T,106,lang) -> Curitiba | M10: =VLOOKUP(2,AB8:AL11,2,FALSE) -> Messico | N10: =O10+P10+Q10 -> 1 | O10: =VLOOKUP(2,AB8:AL11,3,FALSE) -> 1 | P10: =VLOOKUP(2,AB8:AL11,4,FALSE) -> 0 | Q10: =VLOOKUP(2,AB8:AL11,5,FALSE) -> 0 | R10: =VLOOKUP(2,AB8:AL11,6,FALSE) & " - " & VLOOKUP(2,AB8:AL11,7,FALSE) -> 1 - 0 | S10: =O10*3+P10 -> 3 | U10: =DATE(2014,6,13)+TIME(11,0,0)+gmt_delta -> 41803.958 | V10: =IF(OR(F10="",G10=""),"",IF(F10>G10,E10&"_win",IF(F10<G10,E10&"_lose",E10&"_draw"))) -> Cile_win | W10: =IF(V10="","",IF(F10<G10,H10&"_win",IF(F10>G10,H10&"_lose",H10&"_draw"))) -> Australia_lose | X10: =IF(V10="",0,IF(VLOOKUP(E10,$AC$8:$AL$53,7,FALSE)=VLOOKUP(H10,$AC$8:$AL$53,7,FALSE),1,0)) -> 0 | Y10: =X10*F10 -> 0 | Z10: =X10*G10 -> 0 | AB10: =COUNTIF(AO8:AO11,CONCATENATE(">=",AO10)) -> 2 | AC10: =INDEX(T,39,lang) -> Messico | AD10: =COUNTIF($V$7:$W$54,"=" & AC10 & "_win") -> 1 | AE10: =COUNTIF($V$7:$W$54,"=" & AC10 & "_draw") -> 0 | AF10: =COUNTIF($V$7:$W$54,"=" & AC10 & "_lose") -> 0 | AG10: =SUMIF($E$7:$E$54,$AC10,$F$7:$F$54) + SUMIF($H$7:$H$54,$AC10,$G$7:$G$54) -> 1 | AH10: =SUMIF($E$7:$E$54,$AC10,$G$7:$G$54) + SUMIF($H$7:$H$54,$AC10,$F$7:$F$54) -> 0 | AI10: =(AG10-AH10)+1 -> 2 | AJ10: =AG10-AH10 -> 1 | AK10: =(AJ10-AJ13)/AJ12 -> 0.6 | AL10: =AD10*3+AE10 -> 3 | AM10: =AQ10/AQ12*1000+AR10/AR12*100+AU10/AU12*10+AS10/AS12 -> 0 | AN10: =VLOOKUP(AC10,db_fifarank,2,FALSE)/2000000 -> 0.000438 | AO10: =1000*AL10/AL12+100*AK10+10*AG10/AG12+1*AM10/AM12+AN10 -> 812.50044 | AQ10: =SUMPRODUCT(($V$7:$V$54=AC10&"_win")*($X$7:$X$54))+SUMPRODUCT(($W$7:$W$54=AC10&"_win")*($X$7:$X$54)) -> 0 | AR10: =SUMPRODUCT(($V$7:$V$54=AC10&"_draw")*($X$7:$X$54))+SUMPRODUCT(($W$7:$W$54=AC10&"_draw")*($X$7:$X$54)) -> 0 | AS10: =SUMPRODUCT(($E$7:$E$54=AC10)*($X$7:$X$54)*($F$7:$F$54))+SUMPRODUCT(($H$7:$H$54=AC10)*($X$7:$X$54)*($G$7:$G$54)) -> 0 | AT10: =SUMPRODUCT(($E$7:$E$54=AC10)*($X$7:$X$54)*($G$7:$G$54))+SUMPRODUCT(($H$7:$H$54=AC10)*($X$7:$X$54)*($F$7:$F$54)) -> 0 | AU10: =AS10-AT10 -> 0
A11: 5 | B11: =INDEX(T,18+INT(MOD(U11-1,7)),lang) -> Sab | C11: =INDEX(T,24+MONTH(U11),lang) & " " & DAY(U11) & ", " & YEAR(U11) -> Giu 14, 2014 | D11: =TIME(HOUR(U11),MINUTE(U11),0) -> 0.70833333 | E11: =AC20 -> Colombia | F11: 3 | G11: 0 | H11: =AC21 -> Grecia | I11: =INDEX(T,103,lang) -> Belo Horizonte | M11: =VLOOKUP(3,AB8:AL11,2,FALSE) -> Camerun | N11: =O11+P11+Q11 -> 1 | O11: =VLOOKUP(3,AB8:AL11,3,FALSE) -> 0 | P11: =VLOOKUP(3,AB8:AL11,4,FALSE) -> 0 | Q11: =VLOOKUP(3,AB8:AL11,5,FALSE) -> 1 | R11: =VLOOKUP(3,AB8:AL11,6,FALSE) & " - " & VLOOKUP(3,AB8:AL11,7,FALSE) -> 0 - 1 | S11: =O11*3+P11 -> 0 | U11: =DATE(2014,6,14)+TIME(5,0,0)+gmt_delta -> 41804.708 | V11: =IF(OR(F11="",G11=""),"",IF(F11>G11,E11&"_win",IF(F11<G11,E11&"_lose",E11&"_draw"))) -> Colombia_win | W11: =IF(V11="","",IF(F11<G11,H11&"_win",IF(F11>G11,H11&"_lose",H11&"_draw"))) -> Grecia_lose | X11: =IF(V11="",0,IF(VLOOKUP(E11,$AC$8:$AL$53,7,FALSE)=VLOOKUP(H11,$AC$8:$AL$53,7,FALSE),1,0)) -> 0 | Y11: =X11*F11 -> 0 | Z11: =X11*G11 -> 0 | AB11: =COUNTIF(AO8:AO11,CONCATENATE(">=",AO11)) -> 3 | AC11: =INDEX(T,57,lang) -> Camerun | AD11: =COUNTIF($V$7:$W$54,"=" & AC11 & "_win") -> 0 | AE11: =COUNTIF($V$7:$W$54,"=" & AC11 & "_draw") -> 0 | AF11: =COUNTIF($V$7:$W$54,"=" & AC11 & "_lose") -> 1 | AG11: =SUMIF($E$7:$E$54,$AC11,$F$7:$F$54) + SUMIF($H$7:$H$54,$AC11,$G$7:$G$54) -> 0 | AH11: =SUMIF($E$7:$E$54,$AC11,$G$7:$G$54) + SUMIF($H$7:$H$54,$AC11,$F$7:$F$54) -> 1 | AI11: =(AG11-AH11)+1 -> 0 | AJ11: =AG11-AH11 -> -1 | AK11: =(AJ11-AJ13)/AJ12 -> 0.2 | AL11: =AD11*3+AE11 -> 0 | AM11: =AQ11/AQ12*1000+AR11/AR12*100+AU11/AU12*10+AS11/AS12 -> 0 | AN11: =VLOOKUP(AC11,db_fifarank,2,FALSE)/2000000 -> 0.0002915 | AO11: =1000*AL11/AL12+100*AK11+10*AG11/AG12+1*AM11/AM12+AN11 -> 20.000291 | AQ11: =SUMPRODUCT(($V$7:$V$54=AC11&"_win")*($X$7:$X$54))+SUMPRODUCT(($W$7:$W$54=AC11&"_win")*($X$7:$X$54)) -> 0 | AR11: =SUMPRODUCT(($V$7:$V$54=AC11&"_draw")*($X$7:$X$54))+SUMPRODUCT(($W$7:$W$54=AC11&"_draw")*($X$7:$X$54)) -> 0 | AS11: =SUMPRODUCT(($E$7:$E$54=AC11)*($X$7:$X$54)*($F$7:$F$54))+SUMPRODUCT(($H$7:$H$54=AC11)*($X$7:$X$54)*($G$7:$G$54)) -> 0 | AT11: =SUMPRODUCT(($E$7:$E$54=AC11)*($X$7:$X$54)*($G$7:$G$54))+SUMPRODUCT(($H$7:$H$54=AC11)*($X$7:$X$54)*($F$7:$F$54)) -> 0 | AU11: =AS11-AT11 -> 0
A12: 6 | B12: =INDEX(T,18+INT(MOD(U12-1,7)),lang) -> Dom | C12: =INDEX(T,24+MONTH(U12),lang) & " " & DAY(U12) & ", " & YEAR(U12) -> Giu 15, 2014 | D12: =TIME(HOUR(U12),MINUTE(U12),0) -> 0.083333333 | E12: =AC22 -> Costa d' Avorio | F12: 2 | G12: 1 | H12: =AC23 -> Giappone | I12: =INDEX(T,111,lang) -> Recife | M12: =VLOOKUP(4,AB8:AL11,2,FALSE) -> Croazia | N12: =O12+P12+Q12 -> 1 | O12: =VLOOKUP(4,AB8:AL11,3,FALSE) -> 0 | P12: =VLOOKUP(4,AB8:AL11,4,FALSE) -> 0 | Q12: =VLOOKUP(4,AB8:AL11,5,FALSE) -> 1 | R12: =VLOOKUP(4,AB8:AL11,6,FALSE) & " - " & VLOOKUP(4,AB8:AL11,7,FALSE) -> 1 - 3 | S12: =O12*3+P12 -> 0 | U12: =DATE(2014,6,14)+TIME(14,0,0)+gmt_delta -> 41805.083 | V12: =IF(OR(F12="",G12=""),"",IF(F12>G12,E12&"_win",IF(F12<G12,E12&"_lose",E12&"_draw"))) -> Costa d' Avorio_win | W12: =IF(V12="","",IF(F12<G12,H12&"_win",IF(F12>G12,H12&"_lose",H12&"_draw"))) -> Giappone_lose | X12: =IF(V12="",0,IF(VLOOKUP(E12,$AC$8:$AL$53,7,FALSE)=VLOOKUP(H12,$AC$8:$AL$53,7,FALSE),1,0)) -> 0 | Y12: =X12*F12 -> 0 | Z12: =X12*G12 -> 0 | AD12: =MAX(AD8:AD11)-MIN(AD8:AD11)+1 -> 2 | AE12: =MAX(AE8:AE11)-MIN(AE8:AE11)+1 -> 1 | AF12: =MAX(AF8:AF11)-MIN(AF8:AF11)+1 -> 2 | AG12: =MAX(AG8:AG11)-MIN(AG8:AG11)+1 -> 4 | AH12: =MAX(AH8:AH11)-MIN(AH8:AH11)+1 -> 4 | AI12: =MAX(AI8:AI11)-AI13+1 -> 5 | AJ12: =MAX(AJ8:AJ11)-AJ13+1 -> 5 | AL12: =MAX(AL8:AL11)-MIN(AL8:AL11)+1 -> 4 | AM12: =MAX(AM8:AM11)-MIN(AM8:AM11)+1 -> 1 | AQ12: =MAX(AQ8:AQ11)-MIN(AQ8:AQ11)+1 -> 1 | AR12: =MAX(AR8:AR11)-MIN(AR8:AR11)+1 -> 1 | AS12: =MAX(AS8:AS11)-MIN(AS8:AS11)+1 -> 1 | AT12: =MAX(AT8:AT11)-MIN(AT8:AT11)+1 -> 1 | AU12: =MAX(AU8:AU11)-MIN(AU8:AU11)+1 -> 1
A13: 7 | B13: =INDEX(T,18+INT(MOD(U13-1,7)),lang) -> Sab | C13: =INDEX(T,24+MONTH(U13),lang) & " " & DAY(U13) & ", " & YEAR(U13) -> Giu 14, 2014 | D13: =TIME(HOUR(U13),MINUTE(U13),0) -> 0.83333333 | E13: =AC26 -> Uruguay | F13: 1 | G13: 3 | H13: =AC27 -> Costarica | I13: =INDEX(T,107,lang) -> Fortaleza | U13: =DATE(2014,6,14)+TIME(8,0,0)+gmt_delta -> 41804.833 | V13: =IF(OR(F13="",G13=""),"",IF(F13>G13,E13&"_win",IF(F13<G13,E13&"_lose",E13&"_draw"))) -> Uruguay_lose | W13: =IF(V13="","",IF(F13<G13,H13&"_win",IF(F13>G13,H13&"_lose",H13&"_draw"))) -> Costarica_win | X13: =IF(V13="",0,IF(VLOOKUP(E13,$AC$8:$AL$53,7,FALSE)=VLOOKUP(H13,$AC$8:$AL$53,7,FALSE),1,0)) -> 0 | Y13: =X13*F13 -> 0 | Z13: =X13*G13 -> 0 | AI13: =MIN(AI8:AI11) -> -1 | AJ13: =MIN(AJ8:AJ11) -> -2
A14: 8 | B14: =INDEX(T,18+INT(MOD(U14-1,7)),lang) -> Sab | C14: =INDEX(T,24+MONTH(U14),lang) & " " & DAY(U14) & ", " & YEAR(U14) -> Giu 14, 2014 | D14: =TIME(HOUR(U14),MINUTE(U14),0) -> 0.95833333 | E14: =AC28 -> Inghilterra | F14: 1 | G14: 2 | H14: =AC29 -> Italia | I14: =INDEX(T,108,lang) -> Manaus | M14: =INDEX(T,9,lang) & " " & "B" -> Gruppo B | N14: =INDEX(T,10,lang) -> G | O14: =INDEX(T,11,lang) -> V | P14: =INDEX(T,12,lang) -> P | Q14: =INDEX(T,13,lang) -> S | R14: =INDEX(T,14,lang) -> GF - GS | S14: =INDEX(T,15,lang) -> Punti | U14: =DATE(2014,6,14)+TIME(11,0,0)+gmt_delta -> 41804.958 | V14: =IF(OR(F14="",G14=""),"",IF(F14>G14,E14&"_win",IF(F14<G14,E14&"_lose",E14&"_draw"))) -> Inghilterra_lose | W14: =IF(V14="","",IF(F14<G14,H14&"_win",IF(F14>G14,H14&"_lose",H14&"_draw"))) -> Italia_win | X14: =IF(V14="",0,IF(VLOOKUP(E14,$AC$8:$AL$53,7,FALSE)=VLOOKUP(H14,$AC$8:$AL$53,7,FALSE),1,0)) -> 0 | Y14: =X14*F14 -> 0 | Z14: =X14*G14 -> 0 | AB14: =COUNTIF(AO14:AO17,CONCATENATE(">=",AO14)) -> 4 | AC14: =INDEX(T,66,lang) -> Spagna | AD14: =COUNTIF($V$7:$W$54,"=" & AC14 & "_win") -> 0 | AE14: =COUNTIF($V$7:$W$54,"=" & AC14 & "_draw") -> 0 | AF14: =COUNTIF($V$7:$W$54,"=" & AC14 & "_lose") -> 1 | AG14: =SUMIF($E$7:$E$54,$AC14,$F$7:$F$54) + SUMIF($H$7:$H$54,$AC14,$G$7:$G$54) -> 1 | AH14: =SUMIF($E$7:$E$54,$AC14,$G$7:$G$54) + SUMIF($H$7:$H$54,$AC14,$F$7:$F$54) -> 5 | AI14: =(AG14-AH14)*100+AL14*10000+AG14 -> -399 | AJ14: =AG14-AH14 -> -4 | AK14: =(AJ14-AJ19)/AJ18 -> 0 | AL14: =AD14*3+AE14 -> 0 | AM14: =AQ14/AQ18*1000+AR14/AR18*100+AU14/AU18*10+AS14/AS18 -> 0 | AN14: =VLOOKUP(AC14,db_fifarank,2,FALSE)/2000000 -> 0.00073 | AO14: =1000*AL14/AL18+100*AK14+10*AG14/AG18+1*AM14/AM18+AN14 -> 2.00073 | AP14: =IF(SUM(AD14:AF17)=12,M15,INDEX(T,72,lang)) -> 1B | AQ14: =SUMPRODUCT(($V$7:$V$54=AC14&"_win")*($X$7:$X$54))+SUMPRODUCT(($W$7:$W$54=AC14&"_win")*($X$7:$X$54)) -> 0 | AR14: =SUMPRODUCT(($V$7:$V$54=AC14&"_draw")*($X$7:$X$54))+SUMPRODUCT(($W$7:$W$54=AC14&"_draw")*($X$7:$X$54)) -> 0 | AS14: =SUMPRODUCT(($E$7:$E$54=AC14)*($X$7:$X$54)*($F$7:$F$54))+SUMPRODUCT(($H$7:$H$54=AC14)*($X$7:$X$54)*($G$7:$G$54)) -> 0 | AT14: =SUMPRODUCT(($E$7:$E$54=AC14)*($X$7:$X$54)*($G$7:$G$54))+SUMPRODUCT(($H$7:$H$54=AC14)*($X$7:$X$54)*($F$7:$F$54)) -> 0 | AU14: =AS14-AT14 -> 0
A15: 9 | B15: =INDEX(T,18+INT(MOD(U15-1,7)),lang) -> Dom | C15: =INDEX(T,24+MONTH(U15),lang) & " " & DAY(U15) & ", " & YEAR(U15) -> Giu 15, 2014 | D15: =TIME(HOUR(U15),MINUTE(U15),0) -> 0.70833333 | E15: =AC32 -> Svizzera | F15: 2 | G15: 1 | H15: =AC33 -> Ecuador | I15: =INDEX(T,104,lang) -> Brasilia | M15: =VLOOKUP(1,AB14:AL17,2,FALSE) -> Paesi Bassi | N15: =O15+P15+Q15 -> 1 | O15: =VLOOKUP(1,AB14:AL17,3,FALSE) -> 1 | P15: =VLOOKUP(1,AB14:AL17,4,FALSE) -> 0 | Q15: =VLOOKUP(1,AB14:AL17,5,FALSE) -> 0 | R15: =VLOOKUP(1,AB14:AL17,6,FALSE) & " - " & VLOOKUP(1,AB14:AL17,7,FALSE) -> 5 - 1 | S15: =O15*3+P15 -> 3 | U15: =DATE(2014,6,15)+TIME(5,0,0)+gmt_delta -> 41805.708 | V15: =IF(OR(F15="",G15=""),"",IF(F15>G15,E15&"_win",IF(F15<G15,E15&"_lose",E15&"_draw"))) -> Svizzera_win | W15: =IF(V15="","",IF(F15<G15,H15&"_win",IF(F15>G15,H15&"_lose",H15&"_draw"))) -> Ecuador_lose | X15: =IF(V15="",0,IF(VLOOKUP(E15,$AC$8:$AL$53,7,FALSE)=VLOOKUP(H15,$AC$8:$AL$53,7,FALSE),1,0)) -> 0 | Y15: =X15*F15 -> 0 | Z15: =X15*G15 -> 0 | AB15: =COUNTIF(AO14:AO17,CONCATENATE(">=",AO15)) -> 1 | AC15: =INDEX(T,54,lang) -> Paesi Bassi | AD15: =COUNTIF($V$7:$W$54,"=" & AC15 & "_win") -> 1 | AE15: =COUNTIF($V$7:$W$54,"=" & AC15 & "_draw") -> 0 | AF15: =COUNTIF($V$7:$W$54,"=" & AC15 & "_lose") -> 0 | AG15: =SUMIF($E$7:$E$54,$AC15,$F$7:$F$54) + SUMIF($H$7:$H$54,$AC15,$G$7:$G$54) -> 5 | AH15: =SUMIF($E$7:$E$54,$AC15,$G$7:$G$54) + SUMIF($H$7:$H$54,$AC15,$F$7:$F$54) -> 1 | AI15: =(AG15-AH15)*100+AL15*10000+AG15 -> 30405 | AJ15: =AG15-AH15 -> 4 | AK15: =(AJ15-AJ19)/AJ18 -> 0.88888889 | AL15: =AD15*3+AE15 -> 3 | AM15: =AQ15/AQ18*1000+AR15/AR18*100+AU15/AU18*10+AS15/AS18 -> 0 | AN15: =VLOOKUP(AC15,db_fifarank,2,FALSE)/2000000 -> 0.0004835 | AO15: =1000*AL15/AL18+100*AK15+10*AG15/AG18+1*AM15/AM18+AN15 -> 848.88937 | AP15: =IF(SUM(AD14:AF17)=12,M16,INDEX(T,73,lang)) -> 2B | AQ15: =SUMPRODUCT(($V$7:$V$54=AC15&"_win")*($X$7:$X$54))+SUMPRODUCT(($W$7:$W$54=AC15&"_win")*($X$7:$X$54)) -> 0 | AR15: =SUMPRODUCT(($V$7:$V$54=AC15&"_draw")*($X$7:$X$54))+SUMPRODUCT(($W$7:$W$54=AC15&"_draw")*($X$7:$X$54)) -> 0 | AS15: =SUMPRODUCT(($E$7:$E$54=AC15)*($X$7:$X$54)*($F$7:$F$54))+SUMPRODUCT(($H$7:$H$54=AC15)*($X$7:$X$54)*($G$7:$G$54)) -> 0 | AT15: =SUMPRODUCT(($E$7:$E$54=AC15)*($X$7:$X$54)*($G$7:$G$54))+SUMPRODUCT(($H$7:$H$54=AC15)*($X$7:$X$54)*($F$7:$F$54)) -> 0 | AU15: =AS15-AT15 -> 0
A16: 10 | B16: =INDEX(T,18+INT(MOD(U16-1,7)),lang) -> Dom | C16: =INDEX(T,24+MONTH(U16),lang) & " " & DAY(U16) & ", " & YEAR(U16) -> Giu 15, 2014 | D16: =TIME(HOUR(U16),MINUTE(U16),0) -> 0.83333333 | E16: =AC34 -> Francia | F16: 3 | G16: 0 | H16: =AC35 -> Honduras | I16: =INDEX(T,110,lang) -> Porto Alegre | M16: =VLOOKUP(2,AB14:AL17,2,FALSE) -> Cile | N16: =O16+P16+Q16 -> 1 | O16: =VLOOKUP(2,AB14:AL17,3,FALSE) -> 1 | P16: =VLOOKUP(2,AB14:AL17,4,FALSE) -> 0 | Q16: =VLOOKUP(2,AB14:AL17,5,FALSE) -> 0 | R16: =VLOOKUP(2,AB14:AL17,6,FALSE) & " - " & VLOOKUP(2,AB14:AL17,7,FALSE) -> 3 - 1 | S16: =O16*3+P16 -> 3 | U16: =DATE(2014,6,15)+TIME(8,0,0)+gmt_delta -> 41805.833 | V16: =IF(OR(F16="",G16=""),"",IF(F16>G16,E16&"_win",IF(F16<G16,E16&"_lose",E16&"_draw"))) -> Francia_win | W16: =IF(V16="","",IF(F16<G16,H16&"_win",IF(F16>G16,H16&"_lose",H16&"_draw"))) -> Honduras_lose | X16: =IF(V16="",0,IF(VLOOKUP(E16,$AC$8:$AL$53,7,FALSE)=VLOOKUP(H16,$AC$8:$AL$53,7,FALSE),1,0)) -> 0 | Y16: =X16*F16 -> 0 | Z16: =X16*G16 -> 0 | AB16: =COUNTIF(AO14:AO17,CONCATENATE(">=",AO16)) -> 2 | AC16: =INDEX(T,69,lang) -> Cile | AD16: =COUNTIF($V$7:$W$54,"=" & AC16 & "_win") -> 1 | AE16: =COUNTIF($V$7:$W$54,"=" & AC16 & "_draw") -> 0 | AF16: =COUNTIF($V$7:$W$54,"=" & AC16 & "_lose") -> 0 | AG16: =SUMIF($E$7:$E$54,$AC16,$F$7:$F$54) + SUMIF($H$7:$H$54,$AC16,$G$7:$G$54) -> 3 | AH16: =SUMIF($E$7:$E$54,$AC16,$G$7:$G$54) + SUMIF($H$7:$H$54,$AC16,$F$7:$F$54) -> 1 | AI16: =(AG16-AH16)*100+AL16*10000+AG16 -> 30203 | AJ16: =AG16-AH16 -> 2 | AK16: =(AJ16-AJ19)/AJ18 -> 0.66666667 | AL16: =AD16*3+AE16 -> 3 | AM16: =AQ16/AQ18*1000+AR16/AR18*100+AU16/AU18*10+AS16/AS18 -> 0 | AN16: =VLOOKUP(AC16,db_fifarank,2,FALSE)/2000000 -> 0.0005055 | AO16: =1000*AL16/AL18+100*AK16+10*AG16/AG18+1*AM16/AM18+AN16 -> 822.66717 | AQ16: =SUMPRODUCT(($V$7:$V$54=AC16&"_win")*($X$7:$X$54))+SUMPRODUCT(($W$7:$W$54=AC16&"_win")*($X$7:$X$54)) -> 0 | AR16: =SUMPRODUCT(($V$7:$V$54=AC16&"_draw")*($X$7:$X$54))+SUMPRODUCT(($W$7:$W$54=AC16&"_draw")*($X$7:$X$54)) -> 0 | AS16: =SUMPRODUCT(($E$7:$E$54=AC16)*($X$7:$X$54)*($F$7:$F$54))+SUMPRODUCT(($H$7:$H$54=AC16)*($X$7:$X$54)*($G$7:$G$54)) -> 0 | AT16: =SUMPRODUCT(($E$7:$E$54=AC16)*($X$7:$X$54)*($G$7:$G$54))+SUMPRODUCT(($H$7:$H$54=AC16)*($X$7:$X$54)*($F$7:$F$54)) -> 0 | AU16: =AS16-AT16 -> 0
A17: 11 | B17: =INDEX(T,18+INT(MOD(U17-1,7)),lang) -> Dom | C17: =INDEX(T,24+MONTH(U17),lang) & " " & DAY(U17) & ", " & YEAR(U17) -> Giu 15, 2014 | D17: =TIME(HOUR(U17),MINUTE(U17),0) -> 0.95833333 | E17: =AC38 -> Argentina | F17: 2 | G17: 1 | H17: =AC39 -> Bosnia - Erzegovina | I17: =INDEX(T,112,lang) -> Rio De Janeiro | M17: =VLOOKUP(3,AB14:AL17,2,FALSE) -> Australia | N17: =O17+P17+Q17 -> 1 | O17: =VLOOKUP(3,AB14:AL17,3,FALSE) -> 0 | P17: =VLOOKUP(3,AB14:AL17,4,FALSE) -> 0 | Q17: =VLOOKUP(3,AB14:AL17,5,FALSE) -> 1 | R17: =VLOOKUP(3,AB14:AL17,6,FALSE) & " - " & VLOOKUP(3,AB14:AL17,7,FALSE) -> 1 - 3 | S17: =O17*3+P17 -> 0 | U17: =DATE(2014,6,15)+TIME(11,0,0)+gmt_delta -> 41805.958 | V17: =IF(OR(F17="",G17=""),"",IF(F17>G17,E17&"_win",IF(F17<G17,E17&"_lose",E17&"_draw"))) -> Argentina_win | W17: =IF(V17="","",IF(F17<G17,H17&"_win",IF(F17>G17,H17&"_lose",H17&"_draw"))) -> Bosnia - Erzegovina_lose | X17: =IF(V17="",0,IF(VLOOKUP(E17,$AC$8:$AL$53,7,FALSE)=VLOOKUP(H17,$AC$8:$AL$53,7,FALSE),1,0)) -> 0 | Y17: =X17*F17 -> 0 | Z17: =X17*G17 -> 0 | AB17: =COUNTIF(AO14:AO17,CONCATENATE(">=",AO17)) -> 3 | AC17: =INDEX(T,51,lang) -> Australia | AD17: =COUNTIF($V$7:$W$54,"=" & AC17 & "_win") -> 0 | AE17: =COUNTIF($V$7:$W$54,"=" & AC17 & "_draw") -> 0 | AF17: =COUNTIF($V$7:$W$54,"=" & AC17 & "_lose") -> 1 | AG17: =SUMIF($E$7:$E$54,$AC17,$F$7:$F$54) + SUMIF($H$7:$H$54,$AC17,$G$7:$G$54) -> 1 | AH17: =SUMIF($E$7:$E$54,$AC17,$G$7:$G$54) + SUMIF($H$7:$H$54,$AC17,$F$7:$F$54) -> 3 | AI17: =(AG17-AH17)*100+AL17*10000+AG17 -> -199 | AJ17: =AG17-AH17 -> -2 | AK17: =(AJ17-AJ19)/AJ18 -> 0.22222222 | AL17: =AD17*3+AE17 -> 0 | AM17: =AQ17/AQ18*1000+AR17/AR18*100+AU17/AU18*10+AS17/AS18 -> 0 | AN17: =VLOOKUP(AC17,db_fifarank,2,FALSE)/2000000 -> 0.0002725 | AO17: =1000*AL17/AL18+100*AK17+10*AG17/AG18+1*AM17/AM18+AN17 -> 24.222495 | AQ17: =SUMPRODUCT(($V$7:$V$54=AC17&"_win")*($X$7:$X$54))+SUMPRODUCT(($W$7:$W$54=AC17&"_win")*($X$7:$X$54)) -> 0 | AR17: =SUMPRODUCT(($V$7:$V$54=AC17&"_draw")*($X$7:$X$54))+SUMPRODUCT(($W$7:$W$54=AC17&"_draw")*($X$7:$X$54)) -> 0 | AS17: =SUMPRODUCT(($E$7:$E$54=AC17)*($X$7:$X$54)*($F$7:$F$54))+SUMPRODUCT(($H$7:$H$54=AC17)*($X$7:$X$54)*($G$7:$G$54)) -> 0 | AT17: =SUMPRODUCT(($E$7:$E$54=AC17)*($X$7:$X$54)*($G$7:$G$54))+SUMPRODUCT(($H$7:$H$54=AC17)*($X$7:$X$54)*($F$7:$F$54)) -> 0 | AU17: =AS17-AT17 -> 0
A18: 12 | B18: =INDEX(T,18+INT(MOD(U18-1,7)),lang) -> Lun | C18: =INDEX(T,24+MONTH(U18),lang) & " " & DAY(U18) & ", " & YEAR(U18) -> Giu 16, 2014 | D18: =TIME(HOUR(U18),MINUTE(U18),0) -> 0.70833333 | E18: =AC44 -> Germania | F18: 4 | G18: 0 | H18: =AC45 -> Portogallo | I18: =INDEX(T,113,lang) -> Salvador | M18: =VLOOKUP(4,AB14:AL17,2,FALSE) -> Spagna | N18: =O18+P18+Q18 -> 1 | O18: =VLOOKUP(4,AB14:AL17,3,FALSE) -> 0 | P18: =VLOOKUP(4,AB14:AL17,4,FALSE) -> 0 | Q18: =VLOOKUP(4,AB14:AL17,5,FALSE) -> 1 | R18: =VLOOKUP(4,AB14:AL17,6,FALSE) & " - " & VLOOKUP(4,AB14:AL17,7,FALSE) -> 1 - 5 | S18: =O18*3+P18 -> 0 | U18: =DATE(2014,6,16)+TIME(5,0,0)+gmt_delta -> 41806.708 | V18: =IF(OR(F18="",G18=""),"",IF(F18>G18,E18&"_win",IF(F18<G18,E18&"_lose",E18&"_draw"))) -> Germania_win | W18: =IF(V18="","",IF(F18<G18,H18&"_win",IF(F18>G18,H18&"_lose",H18&"_draw"))) -> Portogallo_lose | X18: =IF(V18="",0,IF(VLOOKUP(E18,$AC$8:$AL$53,7,FALSE)=VLOOKUP(H18,$AC$8:$AL$53,7,FALSE),1,0)) -> 0 | Y18: =X18*F18 -> 0 | Z18: =X18*G18 -> 0 | AD18: =MAX(AD14:AD17)-MIN(AD14:AD17)+1 -> 2 | AE18: =MAX(AE14:AE17)-MIN(AE14:AE17)+1 -> 1 | AF18: =MAX(AF14:AF17)-MIN(AF14:AF17)+1 -> 2 | AG18: =MAX(AG14:AG17)-MIN(AG14:AG17)+1 -> 5 | AH18: =MAX(AH14:AH17)-MIN(AH14:AH17)+1 -> 5 | AI18: =MAX(AI14:AI17)-AI19+1 -> 30805 | AJ18: =MAX(AJ14:AJ17)-AJ19+1 -> 9 | AL18: =MAX(AL14:AL17)-MIN(AL14:AL17)+1 -> 4 | AM18: =MAX(AM14:AM17)-MIN(AM14:AM17)+1 -> 1 | AQ18: =MAX(AQ14:AQ17)-MIN(AQ14:AQ17)+1 -> 1 | AR18: =MAX(AR14:AR17)-MIN(AR14:AR17)+1 -> 1 | AS18: =MAX(AS14:AS17)-MIN(AS14:AS17)+1 -> 1 | AT18: =MAX(AT14:AT17)-MIN(AT14:AT17)+1 -> 1 | AU18: =MAX(AU14:AU17)-MIN(AU14:AU17)+1 -> 1
A19: 13 | B19: =INDEX(T,18+INT(MOD(U19-1,7)),lang) -> Lun | C19: =INDEX(T,24+MONTH(U19),lang) & " " & DAY(U19) & ", " & YEAR(U19) -> Giu 16, 2014 | D19: =TIME(HOUR(U19),MINUTE(U19),0) -> 0.83333333 | E19: =AC40 -> Iran | F19: 0 | G19: 0 | H19: =AC41 -> Nigeria | I19: =INDEX(T,106,lang) -> Curitiba | U19: =DATE(2014,6,16)+TIME(8,0,0)+gmt_delta -> 41806.833 | V19: =IF(OR(F19="",G19=""),"",IF(F19>G19,E19&"_win",IF(F19<G19,E19&"_lose",E19&"_draw"))) -> Iran_draw | W19: =IF(V19="","",IF(F19<G19,H19&"_win",IF(F19>G19,H19&"_lose",H19&"_draw"))) -> Nigeria_draw | X19: =IF(V19="",0,IF(VLOOKUP(E19,$AC$8:$AL$53,7,FALSE)=VLOOKUP(H19,$AC$8:$AL$53,7,FALSE),1,0)) -> 1 | Y19: =X19*F19 -> 0 | Z19: =X19*G19 -> 0 | AI19: =MIN(AI14:AI17) -> -399 | AJ19: =MIN(AJ14:AJ17) -> -4
A20: 14 | B20: =INDEX(T,18+INT(MOD(U20-1,7)),lang) -> Lun | C20: =INDEX(T,24+MONTH(U20),lang) & " " & DAY(U20) & ", " & YEAR(U20) -> Giu 16, 2014 | D20: =TIME(HOUR(U20),MINUTE(U20),0) -> 0.95833333 | E20: =AC46 -> Ghana | F20: 1 | G20: 2 | H20: =AC47 -> Stati Uniti d'America | I20: =INDEX(T,109,lang) -> natale | M20: =INDEX(T,9,lang) & " " & "C" -> Gruppo C | N20: =INDEX(T,10,lang) -> G | O20: =INDEX(T,11,lang) -> V | P20: =INDEX(T,12,lang) -> P | Q20: =INDEX(T,13,lang) -> S | R20: =INDEX(T,14,lang) -> GF - GS | S20: =INDEX(T,15,lang) -> Punti | U20: =DATE(2014,6,16)+TIME(11,0,0)+gmt_delta -> 41806.958 | V20: =IF(OR(F20="",G20=""),"",IF(F20>G20,E20&"_win",IF(F20<G20,E20&"_lose",E20&"_draw"))) -> Ghana_lose | W20: =IF(V20="","",IF(F20<G20,H20&"_win",IF(F20>G20,H20&"_lose",H20&"_draw"))) -> Stati Uniti d'America_win | X20: =IF(V20="",0,IF(VLOOKUP(E20,$AC$8:$AL$53,7,FALSE)=VLOOKUP(H20,$AC$8:$AL$53,7,FALSE),1,0)) -> 0 | Y20: =X20*F20 -> 0 | Z20: =X20*G20 -> 0 | AB20: =COUNTIF(AO20:AO23,CONCATENATE(">=",AO20)) -> 1 | AC20: =INDEX(T,52,lang) -> Colombia | AD20: =COUNTIF($V$7:$W$54,"=" & AC20 & "_win") -> 1 | AE20: =COUNTIF($V$7:$W$54,"=" & AC20 & "_draw") -> 0 | AF20: =COUNTIF($V$7:$W$54,"=" & AC20 & "_lose") -> 0 | AG20: =SUMIF($E$7:$E$54,$AC20,$F$7:$F$54) + SUMIF($H$7:$H$54,$AC20,$G$7:$G$54) -> 3 | AH20: =SUMIF($E$7:$E$54,$AC20,$G$7:$G$54) + SUMIF($H$7:$H$54,$AC20,$F$7:$F$54) -> 0 | AI20: =(AG20-AH20)*100+AL20*10000+AG20 -> 30303 | AJ20: =AG20-AH20 -> 3 | AK20: =(AJ20-AJ25)/AJ24 -> 0.85714286 | AL20: =AD20*3+AE20 -> 3 | AM20: =AQ20/AQ24*1000+AR20/AR24*100+AU20/AU24*10+AS20/AS24 -> 0 | AN20: =VLOOKUP(AC20,db_fifarank,2,FALSE)/2000000 -> 0.000593 | AO20: =1000*AL20/AL24+100*AK20+10*AG20/AG24+1*AM20/AM24+AN20 -> 843.21488 | AP20: =IF(SUM(AD20:AF23)=12,M21,INDEX(T,74,lang)) -> 1C | AQ20: =SUMPRODUCT(($V$7:$V$54=AC20&"_win")*($X$7:$X$54))+SUMPRODUCT(($W$7:$W$54=AC20&"_win")*($X$7:$X$54)) -> 0 | AR20: =SUMPRODUCT(($V$7:$V$54=AC20&"_draw")*($X$7:$X$54))+SUMPRODUCT(($W$7:$W$54=AC20&"_draw")*($X$7:$X$54)) -> 0 | AS20: =SUMPRODUCT(($E$7:$E$54=AC20)*($X$7:$X$54)*($F$7:$F$54))+SUMPRODUCT(($H$7:$H$54=AC20)*($X$7:$X$54)*($G$7:$G$54)) -> 0 | AT20: =SUMPRODUCT(($E$7:$E$54=AC20)*($X$7:$X$54)*($G$7:$G$54))+SUMPRODUCT(($H$7:$H$54=AC20)*($X$7:$X$54)*($F$7:$F$54)) -> 0 | AU20: =AS20-AT20 -> 0
A21: 15 | B21: =INDEX(T,18+INT(MOD(U21-1,7)),lang) -> Mar | C21: =INDEX(T,24+MONTH(U21),lang) & " " & DAY(U21) & ", " & YEAR(U21) -> Giu 17, 2014 | D21: =TIME(HOUR(U21),MINUTE(U21),0) -> 0.70833333 | E21: =AC50 -> Belgio | H21: =AC51 -> Algeria | I21: =INDEX(T,103,lang) -> Belo Horizonte | M21: =VLOOKUP(1,AB20:AL23,2,FALSE) -> Colombia | N21: =O21+P21+Q21 -> 1 | O21: =VLOOKUP(1,AB20:AL23,3,FALSE) -> 1 | P21: =VLOOKUP(1,AB20:AL23,4,FALSE) -> 0 | Q21: =VLOOKUP(1,AB20:AL23,5,FALSE) -> 0 | R21: =VLOOKUP(1,AB20:AL23,6,FALSE) & " - " & VLOOKUP(1,AB20:AL23,7,FALSE) -> 3 - 0 | S21: =O21*3+P21 -> 3 | U21: =DATE(2014,6,17)+TIME(5,0,0)+gmt_delta -> 41807.708 | V21: =IF(OR(F21="",G21=""),"",IF(F21>G21,E21&"_win",IF(F21<G21,E21&"_lose",E21&"_draw"))) | W21: =IF(V21="","",IF(F21<G21,H21&"_win",IF(F21>G21,H21&"_lose",H21&"_draw"))) | X21: =IF(V21="",0,IF(VLOOKUP(E21,$AC$8:$AL$53,7,FALSE)=VLOOKUP(H21,$AC$8:$AL$53,7,FALSE),1,0)) -> 0 | Y21: =X21*F21 -> 0 | Z21: =X21*G21 -> 0 | AB21: =COUNTIF(AO20:AO23,CONCATENATE(">=",AO21)) -> 4 | AC21: =INDEX(T,45,lang) -> Grecia | AD21: =COUNTIF($V$7:$W$54,"=" & AC21 & "_win") -> 0 | AE21: =COUNTIF($V$7:$W$54,"=" & AC21 & "_draw") -> 0 | AF21: =COUNTIF($V$7:$W$54,"=" & AC21 & "_lose") -> 1 | AG21: =SUMIF($E$7:$E$54,$AC21,$F$7:$F$54) + SUMIF($H$7:$H$54,$AC21,$G$7:$G$54) -> 0 | AH21: =SUMIF($E$7:$E$54,$AC21,$G$7:$G$54) + SUMIF($H$7:$H$54,$AC21,$F$7:$F$54) -> 3 | AI21: =(AG21-AH21)*100+AL21*10000+AG21 -> -300 | AJ21: =AG21-AH21 -> -3 | AK21: =(AJ21-AJ25)/AJ24 -> 0 | AL21: =AD21*3+AE21 -> 0 | AM21: =AQ21/AQ24*1000+AR21/AR24*100+AU21/AU24*10+AS21/AS24 -> 0 | AN21: =VLOOKUP(AC21,db_fifarank,2,FALSE)/2000000 -> 0.000541 | AO21: =1000*AL21/AL24+100*AK21+10*AG21/AG24+1*AM21/AM24+AN21 -> 0.000541 | AP21: =IF(SUM(AD20:AF23)=12,M22,INDEX(T,75,lang)) -> 2C | AQ21: =SUMPRODUCT(($V$7:$V$54=AC21&"_win")*($X$7:$X$54))+SUMPRODUCT(($W$7:$W$54=AC21&"_win")*($X$7:$X$54)) -> 0 | AR21: =SUMPRODUCT(($V$7:$V$54=AC21&"_draw")*($X$7:$X$54))+SUMPRODUCT(($W$7:$W$54=AC21&"_draw")*($X$7:$X$54)) -> 0 | AS21: =SUMPRODUCT(($E$7:$E$54=AC21)*($X$7:$X$54)*($F$7:$F$54))+SUMPRODUCT(($H$7:$H$54=AC21)*($X$7:$X$54)*($G$7:$G$54)) -> 0 | AT21: =SUMPRODUCT(($E$7:$E$54=AC21)*($X$7:$X$54)*($G$7:$G$54))+SUMPRODUCT(($H$7:$H$54=AC21)*($X$7:$X$54)*($F$7:$F$54)) -> 0 | AU21: =AS21-AT21 -> 0
A22: 16 | B22: =INDEX(T,18+INT(MOD(U22-1,7)),lang) -> Mar | C22: =INDEX(T,24+MONTH(U22),lang) & " " & DAY(U22) & ", " & YEAR(U22) -> Giu 17, 2014 | D22: =TIME(HOUR(U22),MINUTE(U22),0) -> 0.83333333 | E22: =AC8 -> Brasile | H22: =AC10 -> Messico | I22: =INDEX(T,107,lang) -> Fortaleza | M22: =VLOOKUP(2,AB20:AL23,2,FALSE) -> Costa d' Avorio | N22: =O22+P22+Q22 -> 1 | O22: =VLOOKUP(2,AB20:AL23,3,FALSE) -> 1 | P22: =VLOOKUP(2,AB20:AL23,4,FALSE) -> 0 | Q22: =VLOOKUP(2,AB20:AL23,5,FALSE) -> 0 | R22: =VLOOKUP(2,AB20:AL23,6,FALSE) & " - " & VLOOKUP(2,AB20:AL23,7,FALSE) -> 2 - 1 | S22: =O22*3+P22 -> 3 | U22: =DATE(2014,6,17)+TIME(8,0,0)+gmt_delta -> 41807.833 | V22: =IF(OR(F22="",G22=""),"",IF(F22>G22,E22&"_win",IF(F22<G22,E22&"_lose",E22&"_draw"))) | W22: =IF(V22="","",IF(F22<G22,H22&"_win",IF(F22>G22,H22&"_lose",H22&"_draw"))) | X22: =IF(V22="",0,IF(VLOOKUP(E22,$AC$8:$AL$53,7,FALSE)=VLOOKUP(H22,$AC$8:$AL$53,7,FALSE),1,0)) -> 0 | Y22: =X22*F22 -> 0 | Z22: =X22*G22 -> 0 | AB22: =COUNTIF(AO20:AO23,CONCATENATE(">=",AO22)) -> 2 | AC22: =INDEX(T,64,lang) -> Costa d' Avorio | AD22: =COUNTIF($V$7:$W$54,"=" & AC22 & "_win") -> 1 | AE22: =COUNTIF($V$7:$W$54,"=" & AC22 & "_draw") -> 0 | AF22: =COUNTIF($V$7:$W$54,"=" & AC22 & "_lose") -> 0 | AG22: =SUMIF($E$7:$E$54,$AC22,$F$7:$F$54) + SUMIF($H$7:$H$54,$AC22,$G$7:$G$54) -> 2 | AH22: =SUMIF($E$7:$E$54,$AC22,$G$7:$G$54) + SUMIF($H$7:$H$54,$AC22,$F$7:$F$54) -> 1 | AI22: =(AG22-AH22)*100+AL22*10000+AG22 -> 30102 | AJ22: =AG22-AH22 -> 1 | AK22: =(AJ22-AJ25)/AJ24 -> 0.57142857 | AL22: =AD22*3+AE22 -> 3 | AM22: =AQ22/AQ24*1000+AR22/AR24*100+AU22/AU24*10+AS22/AS24 -> 0 | AN22: =VLOOKUP(AC22,db_fifarank,2,FALSE)/2000000 -> 0.000415 | AO22: =1000*AL22/AL24+100*AK22+10*AG22/AG24+1*AM22/AM24+AN22 -> 812.14327 | AQ22: =SUMPRODUCT(($V$7:$V$54=AC22&"_win")*($X$7:$X$54))+SUMPRODUCT(($W$7:$W$54=AC22&"_win")*($X$7:$X$54)) -> 0 | AR22: =SUMPRODUCT(($V$7:$V$54=AC22&"_draw")*($X$7:$X$54))+SUMPRODUCT(($W$7:$W$54=AC22&"_draw")*($X$7:$X$54)) -> 0 | AS22: =SUMPRODUCT(($E$7:$E$54=AC22)*($X$7:$X$54)*($F$7:$F$54))+SUMPRODUCT(($H$7:$H$54=AC22)*($X$7:$X$54)*($G$7:$G$54)) -> 0 | AT22: =SUMPRODUCT(($E$7:$E$54=AC22)*($X$7:$X$54)*($G$7:$G$54))+SUMPRODUCT(($H$7:$H$54=AC22)*($X$7:$X$54)*($F$7:$F$54)) -> 0 | AU22: =AS22-AT22 -> 0
A23: 17 | B23: =INDEX(T,18+INT(MOD(U23-1,7)),lang) -> Mar | C23: =INDEX(T,24+MONTH(U23),lang) & " " & DAY(U23) & ", " & YEAR(U23) -> Giu 17, 2014 | D23: =TIME(HOUR(U23),MINUTE(U23),0) -> 0.95833333 | E23: =AC52 -> Russia | H23: =AC53 -> Corea del Sud | I23: =INDEX(T,105,lang) -> Cuiaba | M23: =VLOOKUP(3,AB20:AL23,2,FALSE) -> Giappone | N23: =O23+P23+Q23 -> 1 | O23: =VLOOKUP(3,AB20:AL23,3,FALSE) -> 0 | P23: =VLOOKUP(3,AB20:AL23,4,FALSE) -> 0 | Q23: =VLOOKUP(3,AB20:AL23,5,FALSE) -> 1 | R23: =VLOOKUP(3,AB20:AL23,6,FALSE) & " - " & VLOOKUP(3,AB20:AL23,7,FALSE) -> 1 - 2 | S23: =O23*3+P23 -> 0 | U23: =DATE(2014,6,17)+TIME(11,0,0)+gmt_delta -> 41807.958 | V23: =IF(OR(F23="",G23=""),"",IF(F23>G23,E23&"_win",IF(F23<G23,E23&"_lose",E23&"_draw"))) | W23: =IF(V23="","",IF(F23<G23,H23&"_win",IF(F23>G23,H23&"_lose",H23&"_draw"))) | X23: =IF(V23="",0,IF(VLOOKUP(E23,$AC$8:$AL$53,7,FALSE)=VLOOKUP(H23,$AC$8:$AL$53,7,FALSE),1,0)) -> 0 | Y23: =X23*F23 -> 0 | Z23: =X23*G23 -> 0 | AB23: =COUNTIF(AO20:AO23,CONCATENATE(">=",AO23)) -> 3 | AC23: =INDEX(T,56,lang) -> Giappone | AD23: =COUNTIF($V$7:$W$54,"=" & AC23 & "_win") -> 0 | AE23: =COUNTIF($V$7:$W$54,"=" & AC23 & "_draw") -> 0 | AF23: =COUNTIF($V$7:$W$54,"=" & AC23 & "_lose") -> 1 | AG23: =SUMIF($E$7:$E$54,$AC23,$F$7:$F$54) + SUMIF($H$7:$H$54,$AC23,$G$7:$G$54) -> 1 | AH23: =SUMIF($E$7:$E$54,$AC23,$G$7:$G$54) + SUMIF($H$7:$H$54,$AC23,$F$7:$F$54) -> 2 | AI23: =(AG23-AH23)*100+AL23*10000+AG23 -> -99 | AJ23: =AG23-AH23 -> -1 | AK23: =(AJ23-AJ25)/AJ24 -> 0.28571429 | AL23: =AD23*3+AE23 -> 0 | AM23: =AQ23/AQ24*1000+AR23/AR24*100+AU23/AU24*10+AS23/AS24 -> 0 | AN23: =VLOOKUP(AC23,db_fifarank,2,FALSE)/2000000 -> 0.0003065 | AO23: =1000*AL23/AL24+100*AK23+10*AG23/AG24+1*AM23/AM24+AN23 -> 31.071735 | AQ23: =SUMPRODUCT(($V$7:$V$54=AC23&"_win")*($X$7:$X$54))+SUMPRODUCT(($W$7:$W$54=AC23&"_win")*($X$7:$X$54)) -> 0 | AR23: =SUMPRODUCT(($V$7:$V$54=AC23&"_draw")*($X$7:$X$54))+SUMPRODUCT(($W$7:$W$54=AC23&"_draw")*($X$7:$X$54)) -> 0 | AS23: =SUMPRODUCT(($E$7:$E$54=AC23)*($X$7:$X$54)*($F$7:$F$54))+SUMPRODUCT(($H$7:$H$54=AC23)*($X$7:$X$54)*($G$7:$G$54)) -> 0 | AT23: =SUMPRODUCT(($E$7:$E$54=AC23)*($X$7:$X$54)*($G$7:$G$54))+SUMPRODUCT(($H$7:$H$54=AC23)*($X$7:$X$54)*($F$7:$F$54)) -> 0 | AU23: =AS23-AT23 -> 0
A24: 18 | B24: =INDEX(T,18+INT(MOD(U24-1,7)),lang) -> Mer | C24: =INDEX(T,24+MONTH(U24),lang) & " " & DAY(U24) & ", " & YEAR(U24) -> Giu 18, 2014 | D24: =TIME(HOUR(U24),MINUTE(U24),0) -> 0.70833333 | E24: =AC17 -> Australia | H24: =AC15 -> Paesi Bassi | I24: =INDEX(T,110,lang) -> Porto Alegre | M24: =VLOOKUP(4,AB20:AL23,2,FALSE) -> Grecia | N24: =O24+P24+Q24 -> 1 | O24: =VLOOKUP(4,AB20:AL23,3,FALSE) -> 0 | P24: =VLOOKUP(4,AB20:AL23,4,FALSE) -> 0 | Q24: =VLOOKUP(4,AB20:AL23,5,FALSE) -> 1 | R24: =VLOOKUP(4,AB20:AL23,6,FALSE) & " - " & VLOOKUP(4,AB20:AL23,7,FALSE) -> 0 - 3 | S24: =O24*3+P24 -> 0 | U24: =DATE(2014,6,18)+TIME(5,0,0)+gmt_delta -> 41808.708 | V24: =IF(OR(F24="",G24=""),"",IF(F24>G24,E24&"_win",IF(F24<G24,E24&"_lose",E24&"_draw"))) | W24: =IF(V24="","",IF(F24<G24,H24&"_win",IF(F24>G24,H24&"_lose",H24&"_draw"))) | X24: =IF(V24="",0,IF(VLOOKUP(E24,$AC$8:$AL$53,7,FALSE)=VLOOKUP(H24,$AC$8:$AL$53,7,FALSE),1,0)) -> 0 | Y24: =X24*F24 -> 0 | Z24: =X24*G24 -> 0 | AD24: =MAX(AD20:AD23)-MIN(AD20:AD23)+1 -> 2 | AE24: =MAX(AE20:AE23)-MIN(AE20:AE23)+1 -> 1 | AF24: =MAX(AF20:AF23)-MIN(AF20:AF23)+1 -> 2 | AG24: =MAX(AG20:AG23)-MIN(AG20:AG23)+1 -> 4 | AH24: =MAX(AH20:AH23)-MIN(AH20:AH23)+1 -> 4 | AI24: =MAX(AI20:AI23)-AI25+1 -> 30604 | AJ24: =MAX(AJ20:AJ23)-AJ25+1 -> 7 | AL24: =MAX(AL20:AL23)-MIN(AL20:AL23)+1 -> 4 | AM24: =MAX(AM20:AM23)-MIN(AM20:AM23)+1 -> 1 | AQ24: =MAX(AQ20:AQ23)-MIN(AQ20:AQ23)+1 -> 1 | AR24: =MAX(AR20:AR23)-MIN(AR20:AR23)+1 -> 1 | AS24: =MAX(AS20:AS23)-MIN(AS20:AS23)+1 -> 1 | AT24: =MAX(AT20:AT23)-MIN(AT20:AT23)+1 -> 1 | AU24: =MAX(AU20:AU23)-MIN(AU20:AU23)+1 -> 1
A25: 19 | B25: =INDEX(T,18+INT(MOD(U25-1,7)),lang) -> Mer | C25: =INDEX(T,24+MONTH(U25),lang) & " " & DAY(U25) & ", " & YEAR(U25) -> Giu 18, 2014 | D25: =TIME(HOUR(U25),MINUTE(U25),0) -> 0.95833333 | E25: =AC11 -> Camerun | H25: =AC9 -> Croazia | I25: =INDEX(T,108,lang) -> Manaus | U25: =DATE(2014,6,18)+TIME(11,0,0)+gmt_delta -> 41808.958 | V25: =IF(OR(F25="",G25=""),"",IF(F25>G25,E25&"_win",IF(F25<G25,E25&"_lose",E25&"_draw"))) | W25: =IF(V25="","",IF(F25<G25,H25&"_win",IF(F25>G25,H25&"_lose",H25&"_draw"))) | X25: =IF(V25="",0,IF(VLOOKUP(E25,$AC$8:$AL$53,7,FALSE)=VLOOKUP(H25,$AC$8:$AL$53,7,FALSE),1,0)) -> 0 | Y25: =X25*F25 -> 0 | Z25: =X25*G25 -> 0 | AI25: =MIN(AI20:AI23) -> -300 | AJ25: =MIN(AJ20:AJ23) -> -3
A26: 20 | B26: =INDEX(T,18+INT(MOD(U26-1,7)),lang) -> Mer | C26: =INDEX(T,24+MONTH(U26),lang) & " " & DAY(U26) & ", " & YEAR(U26) -> Giu 18, 2014 | D26: =TIME(HOUR(U26),MINUTE(U26),0) -> 0.83333333 | E26: =AC14 -> Spagna | H26: =AC16 -> Cile | I26: =INDEX(T,112,lang) -> Rio De Janeiro | M26: =INDEX(T,9,lang) & " " & "D" -> Gruppo D | N26: =INDEX(T,10,lang) -> G | O26: =INDEX(T,11,lang) -> V | P26: =INDEX(T,12,lang) -> P | Q26: =INDEX(T,13,lang) -> S | R26: =INDEX(T,14,lang) -> GF - GS | S26: =INDEX(T,15,lang) -> Punti | U26: =DATE(2014,6,18)+TIME(8,0,0)+gmt_delta -> 41808.833 | V26: =IF(OR(F26="",G26=""),"",IF(F26>G26,E26&"_win",IF(F26<G26,E26&"_lose",E26&"_draw"))) | W26: =IF(V26="","",IF(F26<G26,H26&"_win",IF(F26>G26,H26&"_lose",H26&"_draw"))) | X26: =IF(V26="",0,IF(VLOOKUP(E26,$AC$8:$AL$53,7,FALSE)=VLOOKUP(H26,$AC$8:$AL$53,7,FALSE),1,0)) -> 0 | Y26: =X26*F26 -> 0 | Z26: =X26*G26 -> 0 | AB26: =COUNTIF(AO26:AO29,CONCATENATE(">=",AO26)) -> 4 | AC26: =INDEX(T,40,lang) -> Uruguay | AD26: =COUNTIF($V$7:$W$54,"=" & AC26 & "_win") -> 0 | AE26: =COUNTIF($V$7:$W$54,"=" & AC26 & "_draw") -> 0 | AF26: =COUNTIF($V$7:$W$54,"=" & AC26 & "_lose") -> 1 | AG26: =SUMIF($E$7:$E$54,$AC26,$F$7:$F$54) + SUMIF($H$7:$H$54,$AC26,$G$7:$G$54) -> 1 | AH26: =SUMIF($E$7:$E$54,$AC26,$G$7:$G$54) + SUMIF($H$7:$H$54,$AC26,$F$7:$F$54) -> 3 | AI26: =(AG26-AH26)*100+AL26*10000+AG26 -> -199 | AJ26: =AG26-AH26 -> -2 | AK26: =(AJ26-AJ31)/AJ30 -> 0 | AL26: =AD26*3+AE26 -> 0 | AM26: =AQ26/AQ30*1000+AR26/AR30*100+AU26/AU30*10+AS26/AS30 -> 0 | AN26: =VLOOKUP(AC26,db_fifarank,2,FALSE)/2000000 -> 0.0005905 | AO26: =1000*AL26/AL30+100*AK26+10*AG26/AG30+1*AM26/AM30+AN26 -> 3.3339238 | AP26: =IF(SUM(AD26:AF29)=12,M27,INDEX(T,76,lang)) -> 1D | AQ26: =SUMPRODUCT(($V$7:$V$54=AC26&"_win")*($X$7:$X$54))+SUMPRODUCT(($W$7:$W$54=AC26&"_win")*($X$7:$X$54)) -> 0 | AR26: =SUMPRODUCT(($V$7:$V$54=AC26&"_draw")*($X$7:$X$54))+SUMPRODUCT(($W$7:$W$54=AC26&"_draw")*($X$7:$X$54)) -> 0 | AS26: =SUMPRODUCT(($E$7:$E$54=AC26)*($X$7:$X$54)*($F$7:$F$54))+SUMPRODUCT(($H$7:$H$54=AC26)*($X$7:$X$54)*($G$7:$G$54)) -> 0 | AT26: =SUMPRODUCT(($E$7:$E$54=AC26)*($X$7:$X$54)*($G$7:$G$54))+SUMPRODUCT(($H$7:$H$54=AC26)*($X$7:$X$54)*($F$7:$F$54)) -> 0 | AU26: =AS26-AT26 -> 0
A27: 21 | B27: =INDEX(T,18+INT(MOD(U27-1,7)),lang) -> Gio | C27: =INDEX(T,24+MONTH(U27),lang) & " " & DAY(U27) & ", " & YEAR(U27) -> Giu 19, 2014 | D27: =TIME(HOUR(U27),MINUTE(U27),0) -> 0.70833333 | E27: =AC20 -> Colombia | H27: =AC22 -> Costa d' Avorio | I27: =INDEX(T,104,lang) -> Brasilia | M27: =VLOOKUP(1,AB26:AL29,2,FALSE) -> Costarica | N27: =O27+P27+Q27 -> 1 | O27: =VLOOKUP(1,AB26:AL29,3,FALSE) -> 1 | P27: =VLOOKUP(1,AB26:AL29,4,FALSE) -> 0 | Q27: =VLOOKUP(1,AB26:AL29,5,FALSE) -> 0 | R27: =VLOOKUP(1,AB26:AL29,6,FALSE) & " - " & VLOOKUP(1,AB26:AL29,7,FALSE) -> 3 - 1 | S27: =O27*3+P27 -> 3 | U27: =DATE(2014,6,19)+TIME(5,0,0)+gmt_delta -> 41809.708 | V27: =IF(OR(F27="",G27=""),"",IF(F27>G27,E27&"_win",IF(F27<G27,E27&"_lose",E27&"_draw"))) | W27: =IF(V27="","",IF(F27<G27,H27&"_win",IF(F27>G27,H27&"_lose",H27&"_draw"))) | X27: =IF(V27="",0,IF(VLOOKUP(E27,$AC$8:$AL$53,7,FALSE)=VLOOKUP(H27,$AC$8:$AL$53,7,FALSE),1,0)) -> 0 | Y27: =X27*F27 -> 0 | Z27: =X27*G27 -> 0 | AB27: =COUNTIF(AO26:AO29,CONCATENATE(">=",AO27)) -> 1 | AC27: =INDEX(T,55,lang) -> Costarica | AD27: =COUNTIF($V$7:$W$54,"=" & AC27 & "_win") -> 1 | AE27: =COUNTIF($V$7:$W$54,"=" & AC27 & "_draw") -> 0 | AF27: =COUNTIF($V$7:$W$54,"=" & AC27 & "_lose") -> 0 | AG27: =SUMIF($E$7:$E$54,$AC27,$F$7:$F$54) + SUMIF($H$7:$H$54,$AC27,$G$7:$G$54) -> 3 | AH27: =SUMIF($E$7:$E$54,$AC27,$G$7:$G$54) + SUMIF($H$7:$H$54,$AC27,$F$7:$F$54) -> 1 | AI27: =(AG27-AH27)*100+AL27*10000+AG27 -> 30203 | AJ27: =AG27-AH27 -> 2 | AK27: =(AJ27-AJ31)/AJ30 -> 0.8 | AL27: =AD27*3+AE27 -> 3 | AM27: =AQ27/AQ30*1000+AR27/AR30*100+AU27/AU30*10+AS27/AS30 -> 0 | AN27: =VLOOKUP(AC27,db_fifarank,2,FALSE)/2000000 -> 0.000372 | AO27: =1000*AL27/AL30+100*AK27+10*AG27/AG30+1*AM27/AM30+AN27 -> 840.00037 | AP27: =IF(SUM(AD26:AF29)=12,M28,INDEX(T,77,lang)) -> 2D | AQ27: =SUMPRODUCT(($V$7:$V$54=AC27&"_win")*($X$7:$X$54))+SUMPRODUCT(($W$7:$W$54=AC27&"_win")*($X$7:$X$54)) -> 0 | AR27: =SUMPRODUCT(($V$7:$V$54=AC27&"_draw")*($X$7:$X$54))+SUMPRODUCT(($W$7:$W$54=AC27&"_draw")*($X$7:$X$54)) -> 0 | AS27: =SUMPRODUCT(($E$7:$E$54=AC27)*($X$7:$X$54)*($F$7:$F$54))+SUMPRODUCT(($H$7:$H$54=AC27)*($X$7:$X$54)*($G$7:$G$54)) -> 0 | AT27: =SUMPRODUCT(($E$7:$E$54=AC27)*($X$7:$X$54)*($G$7:$G$54))+SUMPRODUCT(($H$7:$H$54=AC27)*($X$7:$X$54)*($F$7:$F$54)) -> 0 | AU27: =AS27-AT27 -> 0
A28: 22 | B28: =INDEX(T,18+INT(MOD(U28-1,7)),lang) -> Gio | C28: =INDEX(T,24+MONTH(U28),lang) & " " & DAY(U28) & ", " & YEAR(U28) -> Giu 19, 2014 | D28: =TIME(HOUR(U28),MINUTE(U28),0) -> 0.83333333 | E28: =AC26 -> Uruguay | H28: =AC28 -> Inghilterra | I28: =INDEX(T,114,lang) -> Sao Paulo | M28: =VLOOKUP(2,AB26:AL29,2,FALSE) -> Italia | N28: =O28+P28+Q28 -> 1 | O28: =VLOOKUP(2,AB26:AL29,3,FALSE) -> 1 | P28: =VLOOKUP(2,AB26:AL29,4,FALSE) -> 0 | Q28: =VLOOKUP(2,AB26:AL29,5,FALSE) -> 0 | R28: =VLOOKUP(2,AB26:AL29,6,FALSE) & " - " & VLOOKUP(2,AB26:AL29,7,FALSE) -> 2 - 1 | S28: =O28*3+P28 -> 3 | U28: =DATE(2014,6,19)+TIME(8,0,0)+gmt_delta -> 41809.833 | V28: =IF(OR(F28="",G28=""),"",IF(F28>G28,E28&"_win",IF(F28<G28,E28&"_lose",E28&"_draw"))) | W28: =IF(V28="","",IF(F28<G28,H28&"_win",IF(F28>G28,H28&"_lose",H28&"_draw"))) | X28: =IF(V28="",0,IF(VLOOKUP(E28,$AC$8:$AL$53,7,FALSE)=VLOOKUP(H28,$AC$8:$AL$53,7,FALSE),1,0)) -> 0 | Y28: =X28*F28 -> 0 | Z28: =X28*G28 -> 0 | AB28: =COUNTIF(AO26:AO29,CONCATENATE(">=",AO28)) -> 3 | AC28: =INDEX(T,46,lang) -> Inghilterra | AD28: =COUNTIF($V$7:$W$54,"=" & AC28 & "_win") -> 0 | AE28: =COUNTIF($V$7:$W$54,"=" & AC28 & "_draw") -> 0 | AF28: =COUNTIF($V$7:$W$54,"=" & AC28 & "_lose") -> 1 | AG28: =SUMIF($E$7:$E$54,$AC28,$F$7:$F$54) + SUMIF($H$7:$H$54,$AC28,$G$7:$G$54) -> 1 | AH28: =SUMIF($E$7:$E$54,$AC28,$G$7:$G$54) + SUMIF($H$7:$H$54,$AC28,$F$7:$F$54) -> 2 | AI28: =(AG28-AH28)*100+AL28*10000+AG28 -> -99 | AJ28: =AG28-AH28 -> -1 | AK28: =(AJ28-AJ31)/AJ30 -> 0.2 | AL28: =AD28*3+AE28 -> 0 | AM28: =AQ28/AQ30*1000+AR28/AR30*100+AU28/AU30*10+AS28/AS30 -> 0 | AN28: =VLOOKUP(AC28,db_fifarank,2,FALSE)/2000000 -> 0.0005215 | AO28: =1000*AL28/AL30+100*AK28+10*AG28/AG30+1*AM28/AM30+AN28 -> 23.333855 | AQ28: =SUMPRODUCT(($V$7:$V$54=AC28&"_win")*($X$7:$X$54))+SUMPRODUCT(($W$7:$W$54=AC28&"_win")*($X$7:$X$54)) -> 0 | AR28: =SUMPRODUCT(($V$7:$V$54=AC28&"_draw")*($X$7:$X$54))+SUMPRODUCT(($W$7:$W$54=AC28&"_draw")*($X$7:$X$54)) -> 0 | AS28: =SUMPRODUCT(($E$7:$E$54=AC28)*($X$7:$X$54)*($F$7:$F$54))+SUMPRODUCT(($H$7:$H$54=AC28)*($X$7:$X$54)*($G$7:$G$54)) -> 0 | AT28: =SUMPRODUCT(($E$7:$E$54=AC28)*($X$7:$X$54)*($G$7:$G$54))+SUMPRODUCT(($H$7:$H$54=AC28)*($X$7:$X$54)*($F$7:$F$54)) -> 0 | AU28: =AS28-AT28 -> 0
A29: 23 | B29: =INDEX(T,18+INT(MOD(U29-1,7)),lang) -> Gio | C29: =INDEX(T,24+MONTH(U29),lang) & " " & DAY(U29) & ", " & YEAR(U29) -> Giu 19, 2014 | D29: =TIME(HOUR(U29),MINUTE(U29),0) -> 0.95833333 | E29: =AC23 -> Giappone | H29: =AC21 -> Grecia | I29: =INDEX(T,109,lang) -> natale | M29: =VLOOKUP(3,AB26:AL29,2,FALSE) -> Inghilterra | N29: =O29+P29+Q29 -> 1 | O29: =VLOOKUP(3,AB26:AL29,3,FALSE) -> 0 | P29: =VLOOKUP(3,AB26:AL29,4,FALSE) -> 0 | Q29: =VLOOKUP(3,AB26:AL29,5,FALSE) -> 1 | R29: =VLOOKUP(3,AB26:AL29,6,FALSE) & " - " & VLOOKUP(3,AB26:AL29,7,FALSE) -> 1 - 2 | S29: =O29*3+P29 -> 0 | U29: =DATE(2014,6,19)+TIME(11,0,0)+gmt_delta -> 41809.958 | V29: =IF(OR(F29="",G29=""),"",IF(F29>G29,E29&"_win",IF(F29<G29,E29&"_lose",E29&"_draw"))) | W29: =IF(V29="","",IF(F29<G29,H29&"_win",IF(F29>G29,H29&"_lose",H29&"_draw"))) | X29: =IF(V29="",0,IF(VLOOKUP(E29,$AC$8:$AL$53,7,FALSE)=VLOOKUP(H29,$AC$8:$AL$53,7,FALSE),1,0)) -> 0 | Y29: =X29*F29 -> 0 | Z29: =X29*G29 -> 0 | AB29: =COUNTIF(AO26:AO29,CONCATENATE(">=",AO29)) -> 2 | AC29: =INDEX(T,58,lang) -> Italia | AD29: =COUNTIF($V$7:$W$54,"=" & AC29 & "_win") -> 1 | AE29: =COUNTIF($V$7:$W$54,"=" & AC29 & "_draw") -> 0 | AF29: =COUNTIF($V$7:$W$54,"=" & AC29 & "_lose") -> 0 | AG29: =SUMIF($E$7:$E$54,$AC29,$F$7:$F$54) + SUMIF($H$7:$H$54,$AC29,$G$7:$G$54) -> 2 | AH29: =SUMIF($E$7:$E$54,$AC29,$G$7:$G$54) + SUMIF($H$7:$H$54,$AC29,$F$7:$F$54) -> 1 | AI29: =(AG29-AH29)*100+AL29*10000+AG29 -> 30102 | AJ29: =AG29-AH29 -> 1 | AK29: =(AJ29-AJ31)/AJ30 -> 0.6 | AL29: =AD29*3+AE29 -> 3 | AM29: =AQ29/AQ30*1000+AR29/AR30*100+AU29/AU30*10+AS29/AS30 -> 0 | AN29: =VLOOKUP(AC29,db_fifarank,2,FALSE)/2000000 -> 0.0005575 | AO29: =1000*AL29/AL30+100*AK29+10*AG29/AG30+1*AM29/AM30+AN29 -> 816.66722 | AQ29: =SUMPRODUCT(($V$7:$V$54=AC29&"_win")*($X$7:$X$54))+SUMPRODUCT(($W$7:$W$54=AC29&"_win")*($X$7:$X$54)) -> 0 | AR29: =SUMPRODUCT(($V$7:$V$54=AC29&"_draw")*($X$7:$X$54))+SUMPRODUCT(($W$7:$W$54=AC29&"_draw")*($X$7:$X$54)) -> 0 | AS29: =SUMPRODUCT(($E$7:$E$54=AC29)*($X$7:$X$54)*($F$7:$F$54))+SUMPRODUCT(($H$7:$H$54=AC29)*($X$7:$X$54)*($G$7:$G$54)) -> 0 | AT29: =SUMPRODUCT(($E$7:$E$54=AC29)*($X$7:$X$54)*($G$7:$G$54))+SUMPRODUCT(($H$7:$H$54=AC29)*($X$7:$X$54)*($F$7:$F$54)) -> 0 | AU29: =AS29-AT29 -> 0
A30: 24 | B30: =INDEX(T,18+INT(MOD(U30-1,7)),lang) -> Ven | C30: =INDEX(T,24+MONTH(U30),lang) & " " & DAY(U30) & ", " & YEAR(U30) -> Giu 20, 2014 | D30: =TIME(HOUR(U30),MINUTE(U30),0) -> 0.70833333 | E30: =AC29 -> Italia | H30: =AC27 -> Costarica | I30: =INDEX(T,111,lang) -> Recife | M30: =VLOOKUP(4,AB26:AL29,2,FALSE) -> Uruguay | N30: =O30+P30+Q30 -> 1 | O30: =VLOOKUP(4,AB26:AL29,3,FALSE) -> 0 | P30: =VLOOKUP(4,AB26:AL29,4,FALSE) -> 0 | Q30: =VLOOKUP(4,AB26:AL29,5,FALSE) -> 1 | R30: =VLOOKUP(4,AB26:AL29,6,FALSE) & " - " & VLOOKUP(4,AB26:AL29,7,FALSE) -> 1 - 3 | S30: =O30*3+P30 -> 0 | U30: =DATE(2014,6,20)+TIME(5,0,0)+gmt_delta -> 41810.708 | V30: =IF(OR(F30="",G30=""),"",IF(F30>G30,E30&"_win",IF(F30<G30,E30&"_lose",E30&"_draw"))) | W30: =IF(V30="","",IF(F30<G30,H30&"_win",IF(F30>G30,H30&"_lose",H30&"_draw"))) | X30: =IF(V30="",0,IF(VLOOKUP(E30,$AC$8:$AL$53,7,FALSE)=VLOOKUP(H30,$AC$8:$AL$53,7,FALSE),1,0)) -> 0 | Y30: =X30*F30 -> 0 | Z30: =X30*G30 -> 0 | AD30: =MAX(AD26:AD29)-MIN(AD26:AD29)+1 -> 2 | AE30: =MAX(AE26:AE29)-MIN(AE26:AE29)+1 -> 1 | AF30: =MAX(AF26:AF29)-MIN(AF26:AF29)+1 -> 2 | AG30: =MAX(AG26:AG29)-MIN(AG26:AG29)+1 -> 3 | AH30: =MAX(AH26:AH29)-MIN(AH26:AH29)+1 -> 3 | AI30: =MAX(AI26:AI29)-AI31+1 -> 30403 | AJ30: =MAX(AJ26:AJ29)-AJ31+1 -> 5 | AL30: =MAX(AL26:AL29)-MIN(AL26:AL29)+1 -> 4 | AM30: =MAX(AM26:AM29)-MIN(AM26:AM29)+1 -> 1 | AQ30: =MAX(AQ26:AQ29)-MIN(AQ26:AQ29)+1 -> 1 | AR30: =MAX(AR26:AR29)-MIN(AR26:AR29)+1 -> 1 | AS30: =MAX(AS26:AS29)-MIN(AS26:AS29)+1 -> 1 | AT30: =MAX(AT26:AT29)-MIN(AT26:AT29)+1 -> 1 | AU30: =MAX(AU26:AU29)-MIN(AU26:AU29)+1 -> 1
A31: 25 | B31: =INDEX(T,18+INT(MOD(U31-1,7)),lang) -> Ven | C31: =INDEX(T,24+MONTH(U31),lang) & " " & DAY(U31) & ", " & YEAR(U31) -> Giu 20, 2014 | D31: =TIME(HOUR(U31),MINUTE(U31),0) -> 0.83333333 | E31: =AC32 -> Svizzera | H31: =AC34 -> Francia | I31: =INDEX(T,113,lang) -> Salvador | U31: =DATE(2014,6,20)+TIME(8,0,0)+gmt_delta -> 41810.833 | V31: =IF(OR(F31="",G31=""),"",IF(F31>G31,E31&"_win",IF(F31<G31,E31&"_lose",E31&"_draw"))) | W31: =IF(V31="","",IF(F31<G31,H31&"_win",IF(F31>G31,H31&"_lose",H31&"_draw"))) | X31: =IF(V31="",0,IF(VLOOKUP(E31,$AC$8:$AL$53,7,FALSE)=VLOOKUP(H31,$AC$8:$AL$53,7,FALSE),1,0)) -> 0 | Y31: =X31*F31 -> 0 | Z31: =X31*G31 -> 0 | AI31: =MIN(AI26:AI29) -> -199 | AJ31: =MIN(AJ26:AJ29) -> -2
A32: 26 | B32: =INDEX(T,18+INT(MOD(U32-1,7)),lang) -> Ven | C32: =INDEX(T,24+MONTH(U32),lang) & " " & DAY(U32) & ", " & YEAR(U32) -> Giu 20, 2014 | D32: =TIME(HOUR(U32),MINUTE(U32),0) -> 0.95833333 | E32: =AC35 -> Honduras | H32: =AC33 -> Ecuador | I32: =INDEX(T,106,lang) -> Curitiba | M32: =INDEX(T,9,lang) & " " & "E" -> Gruppo E | N32: =INDEX(T,10,lang) -> G | O32: =INDEX(T,11,lang) -> V | P32: =INDEX(T,12,lang) -> P | Q32: =INDEX(T,13,lang) -> S | R32: =INDEX(T,14,lang) -> GF - GS | S32: =INDEX(T,15,lang) -> Punti | U32: =DATE(2014,6,20)+TIME(11,0,0)+gmt_delta -> 41810.958 | V32: =IF(OR(F32="",G32=""),"",IF(F32>G32,E32&"_win",IF(F32<G32,E32&"_lose",E32&"_draw"))) | W32: =IF(V32="","",IF(F32<G32,H32&"_win",IF(F32>G32,H32&"_lose",H32&"_draw"))) | X32: =IF(V32="",0,IF(VLOOKUP(E32,$AC$8:$AL$53,7,FALSE)=VLOOKUP(H32,$AC$8:$AL$53,7,FALSE),1,0)) -> 0 | Y32: =X32*F32 -> 0 | Z32: =X32*G32 -> 0 | AB32: =COUNTIF(AO32:AO35,CONCATENATE(">=",AO32)) -> 2 | AC32: =INDEX(T,67,lang) -> Svizzera | AD32: =COUNTIF($V$7:$W$54,"=" & AC32 & "_win") -> 1 | AE32: =COUNTIF($V$7:$W$54,"=" & AC32 & "_draw") -> 0 | AF32: =COUNTIF($V$7:$W$54,"=" & AC32 & "_lose") -> 0 | AG32: =SUMIF($E$7:$E$54,$AC32,$F$7:$F$54) + SUMIF($H$7:$H$54,$AC32,$G$7:$G$54) -> 2 | AH32: =SUMIF($E$7:$E$54,$AC32,$G$7:$G$54) + SUMIF($H$7:$H$54,$AC32,$F$7:$F$54) -> 1 | AI32: =(AG32-AH32)*100+AL32*10000+AG32 -> 30102 | AJ32: =AG32-AH32 -> 1 | AK32: =(AJ32-AJ37)/AJ36 -> 0.57142857 | AL32: =AD32*3+AE32 -> 3 | AM32: =AQ32/AQ36*1000+AR32/AR36*100+AU32/AU36*10+AS32/AS36 -> 0 | AN32: =VLOOKUP(AC32,db_fifarank,2,FALSE)/2000000 -> 0.0005805 | AO32: =1000*AL32/AL36+100*AK32+10*AG32/AG36+1*AM32/AM36+AN32 -> 812.14344 | AP32: =IF(SUM(AD32:AF35)=12,M33,INDEX(T,78,lang)) -> 1E | AQ32: =SUMPRODUCT(($V$7:$V$54=AC32&"_win")*($X$7:$X$54))+SUMPRODUCT(($W$7:$W$54=AC32&"_win")*($X$7:$X$54)) -> 0 | AR32: =SUMPRODUCT(($V$7:$V$54=AC32&"_draw")*($X$7:$X$54))+SUMPRODUCT(($W$7:$W$54=AC32&"_draw")*($X$7:$X$54)) -> 0 | AS32: =SUMPRODUCT(($E$7:$E$54=AC32)*($X$7:$X$54)*($F$7:$F$54))+SUMPRODUCT(($H$7:$H$54=AC32)*($X$7:$X$54)*($G$7:$G$54)) -> 0 | AT32: =SUMPRODUCT(($E$7:$E$54=AC32)*($X$7:$X$54)*($G$7:$G$54))+SUMPRODUCT(($H$7:$H$54=AC32)*($X$7:$X$54)*($F$7:$F$54)) -> 0 | AU32: =AS32-AT32 -> 0
A33: 27 | B33: =INDEX(T,18+INT(MOD(U33-1,7)),lang) -> Sab | C33: =INDEX(T,24+MONTH(U33),lang) & " " & DAY(U33) & ", " & YEAR(U33) -> Giu 21, 2014 | D33: =TIME(HOUR(U33),MINUTE(U33),0) -> 0.70833333 | E33: =AC38 -> Argentina | H33: =AC40 -> Iran | I33: =INDEX(T,103,lang) -> Belo Horizonte | M33: =VLOOKUP(1,AB32:AL35,2,FALSE) -> Francia | N33: =O33+P33+Q33 -> 1 | O33: =VLOOKUP(1,AB32:AL35,3,FALSE) -> 1 | P33: =VLOOKUP(1,AB32:AL35,4,FALSE) -> 0 | Q33: =VLOOKUP(1,AB32:AL35,5,FALSE) -> 0 | R33: =VLOOKUP(1,AB32:AL35,6,FALSE) & " - " & VLOOKUP(1,AB32:AL35,7,FALSE) -> 3 - 0 | S33: =O33*3+P33 -> 3 | U33: =DATE(2014,6,21)+TIME(5,0,0)+gmt_delta -> 41811.708 | V33: =IF(OR(F33="",G33=""),"",IF(F33>G33,E33&"_win",IF(F33<G33,E33&"_lose",E33&"_draw"))) | W33: =IF(V33="","",IF(F33<G33,H33&"_win",IF(F33>G33,H33&"_lose",H33&"_draw"))) | X33: =IF(V33="",0,IF(VLOOKUP(E33,$AC$8:$AL$53,7,FALSE)=VLOOKUP(H33,$AC$8:$AL$53,7,FALSE),1,0)) -> 0 | Y33: =X33*F33 -> 0 | Z33: =X33*G33 -> 0 | AB33: =COUNTIF(AO32:AO35,CONCATENATE(">=",AO33)) -> 3 | AC33: =INDEX(T,59,lang) -> Ecuador | AD33: =COUNTIF($V$7:$W$54,"=" & AC33 & "_win") -> 0 | AE33: =COUNTIF($V$7:$W$54,"=" & AC33 & "_draw") -> 0 | AF33: =COUNTIF($V$7:$W$54,"=" & AC33 & "_lose") -> 1 | AG33: =SUMIF($E$7:$E$54,$AC33,$F$7:$F$54) + SUMIF($H$7:$H$54,$AC33,$G$7:$G$54) -> 1 | AH33: =SUMIF($E$7:$E$54,$AC33,$G$7:$G$54) + SUMIF($H$7:$H$54,$AC33,$F$7:$F$54) -> 2 | AI33: =(AG33-AH33)*100+AL33*10000+AG33 -> -99 | AJ33: =AG33-AH33 -> -1 | AK33: =(AJ33-AJ37)/AJ36 -> 0.28571429 | AL33: =AD33*3+AE33 -> 0 | AM33: =AQ33/AQ36*1000+AR33/AR36*100+AU33/AU36*10+AS33/AS36 -> 0 | AN33: =VLOOKUP(AC33,db_fifarank,2,FALSE)/2000000 -> 0.000395 | AO33: =1000*AL33/AL36+100*AK33+10*AG33/AG36+1*AM33/AM36+AN33 -> 31.071824 | AP33: =IF(SUM(AD32:AF35)=12,M34,INDEX(T,79,lang)) -> 2E | AQ33: =SUMPRODUCT(($V$7:$V$54=AC33&"_win")*($X$7:$X$54))+SUMPRODUCT(($W$7:$W$54=AC33&"_win")*($X$7:$X$54)) -> 0 | AR33: =SUMPRODUCT(($V$7:$V$54=AC33&"_draw")*($X$7:$X$54))+SUMPRODUCT(($W$7:$W$54=AC33&"_draw")*($X$7:$X$54)) -> 0 | AS33: =SUMPRODUCT(($E$7:$E$54=AC33)*($X$7:$X$54)*($F$7:$F$54))+SUMPRODUCT(($H$7:$H$54=AC33)*($X$7:$X$54)*($G$7:$G$54)) -> 0 | AT33: =SUMPRODUCT(($E$7:$E$54=AC33)*($X$7:$X$54)*($G$7:$G$54))+SUMPRODUCT(($H$7:$H$54=AC33)*($X$7:$X$54)*($F$7:$F$54)) -> 0 | AU33: =AS33-AT33 -> 0
A34: 28 | B34: =INDEX(T,18+INT(MOD(U34-1,7)),lang) -> Sab | C34: =INDEX(T,24+MONTH(U34),lang) & " " & DAY(U34) & ", " & YEAR(U34) -> Giu 21, 2014 | D34: =TIME(HOUR(U34),MINUTE(U34),0) -> 0.83333333 | E34: =AC44 -> Germania | H34: =AC46 -> Ghana | I34: =INDEX(T,107,lang) -> Fortaleza | M34: =VLOOKUP(2,AB32:AL35,2,FALSE) -> Svizzera | N34: =O34+P34+Q34 -> 1 | O34: =VLOOKUP(2,AB32:AL35,3,FALSE) -> 1 | P34: =VLOOKUP(2,AB32:AL35,4,FALSE) -> 0 | Q34: =VLOOKUP(2,AB32:AL35,5,FALSE) -> 0 | R34: =VLOOKUP(2,AB32:AL35,6,FALSE) & " - " & VLOOKUP(2,AB32:AL35,7,FALSE) -> 2 - 1 | S34: =O34*3+P34 -> 3 | U34: =DATE(2014,6,21)+TIME(8,0,0)+gmt_delta -> 41811.833 | V34: =IF(OR(F34="",G34=""),"",IF(F34>G34,E34&"_win",IF(F34<G34,E34&"_lose",E34&"_draw"))) | W34: =IF(V34="","",IF(F34<G34,H34&"_win",IF(F34>G34,H34&"_lose",H34&"_draw"))) | X34: =IF(V34="",0,IF(VLOOKUP(E34,$AC$8:$AL$53,7,FALSE)=VLOOKUP(H34,$AC$8:$AL$53,7,FALSE),1,0)) -> 0 | Y34: =X34*F34 -> 0 | Z34: =X34*G34 -> 0 | AB34: =COUNTIF(AO32:AO35,CONCATENATE(">=",AO34)) -> 1 | AC34: =INDEX(T,41,lang) -> Francia | AD34: =COUNTIF($V$7:$W$54,"=" & AC34 & "_win") -> 1 | AE34: =COUNTIF($V$7:$W$54,"=" & AC34 & "_draw") -> 0 | AF34: =COUNTIF($V$7:$W$54,"=" & AC34 & "_lose") -> 0 | AG34: =SUMIF($E$7:$E$54,$AC34,$F$7:$F$54) + SUMIF($H$7:$H$54,$AC34,$G$7:$G$54) -> 3 | AH34: =SUMIF($E$7:$E$54,$AC34,$G$7:$G$54) + SUMIF($H$7:$H$54,$AC34,$F$7:$F$54) -> 0 | AI34: =(AG34-AH34)*100+AL34*10000+AG34 -> 30303 | AJ34: =AG34-AH34 -> 3 | AK34: =(AJ34-AJ37)/AJ36 -> 0.85714286 | AL34: =AD34*3+AE34 -> 3 | AM34: =AQ34/AQ36*1000+AR34/AR36*100+AU34/AU36*10+AS34/AS36 -> 0 | AN34: =VLOOKUP(AC34,db_fifarank,2,FALSE)/2000000 -> 0.0004675 | AO34: =1000*AL34/AL36+100*AK34+10*AG34/AG36+1*AM34/AM36+AN34 -> 843.21475 | AQ34: =SUMPRODUCT(($V$7:$V$54=AC34&"_win")*($X$7:$X$54))+SUMPRODUCT(($W$7:$W$54=AC34&"_win")*($X$7:$X$54)) -> 0 | AR34: =SUMPRODUCT(($V$7:$V$54=AC34&"_draw")*($X$7:$X$54))+SUMPRODUCT(($W$7:$W$54=AC34&"_draw")*($X$7:$X$54)) -> 0 | AS34: =SUMPRODUCT(($E$7:$E$54=AC34)*($X$7:$X$54)*($F$7:$F$54))+SUMPRODUCT(($H$7:$H$54=AC34)*($X$7:$X$54)*($G$7:$G$54)) -> 0 | AT34: =SUMPRODUCT(($E$7:$E$54=AC34)*($X$7:$X$54)*($G$7:$G$54))+SUMPRODUCT(($H$7:$H$54=AC34)*($X$7:$X$54)*($F$7:$F$54)) -> 0 | AU34: =AS34-AT34 -> 0
A35: 29 | B35: =INDEX(T,18+INT(MOD(U35-1,7)),lang) -> Sab | C35: =INDEX(T,24+MONTH(U35),lang) & " " & DAY(U35) & ", " & YEAR(U35) -> Giu 21, 2014 | D35: =TIME(HOUR(U35),MINUTE(U35),0) -> 0.95833333 | E35: =AC41 -> Nigeria | H35: =AC39 -> Bosnia - Erzegovina | I35: =INDEX(T,105,lang) -> Cuiaba | M35: =VLOOKUP(3,AB32:AL35,2,FALSE) -> Ecuador | N35: =O35+P35+Q35 -> 1 | O35: =VLOOKUP(3,AB32:AL35,3,FALSE) -> 0 | P35: =VLOOKUP(3,AB32:AL35,4,FALSE) -> 0 | Q35: =VLOOKUP(3,AB32:AL35,5,FALSE) -> 1 | R35: =VLOOKUP(3,AB32:AL35,6,FALSE) & " - " & VLOOKUP(3,AB32:AL35,7,FALSE) -> 1 - 2 | S35: =O35*3+P35 -> 0 | U35: =DATE(2014,6,21)+TIME(11,0,0)+gmt_delta -> 41811.958 | V35: =IF(OR(F35="",G35=""),"",IF(F35>G35,E35&"_win",IF(F35<G35,E35&"_lose",E35&"_draw"))) | W35: =IF(V35="","",IF(F35<G35,H35&"_win",IF(F35>G35,H35&"_lose",H35&"_draw"))) | X35: =IF(V35="",0,IF(VLOOKUP(E35,$AC$8:$AL$53,7,FALSE)=VLOOKUP(H35,$AC$8:$AL$53,7,FALSE),1,0)) -> 0 | Y35: =X35*F35 -> 0 | Z35: =X35*G35 -> 0 | AB35: =COUNTIF(AO32:AO35,CONCATENATE(">=",AO35)) -> 4 | AC35: =INDEX(T,68,lang) -> Honduras | AD35: =COUNTIF($V$7:$W$54,"=" & AC35 & "_win") -> 0 | AE35: =COUNTIF($V$7:$W$54,"=" & AC35 & "_draw") -> 0 | AF35: =COUNTIF($V$7:$W$54,"=" & AC35 & "_lose") -> 1 | AG35: =SUMIF($E$7:$E$54,$AC35,$F$7:$F$54) + SUMIF($H$7:$H$54,$AC35,$G$7:$G$54) -> 0 | AH35: =SUMIF($E$7:$E$54,$AC35,$G$7:$G$54) + SUMIF($H$7:$H$54,$AC35,$F$7:$F$54) -> 3 | AI35: =(AG35-AH35)*100+AL35*10000+AG35 -> -300 | AJ35: =AG35-AH35 -> -3 | AK35: =(AJ35-AJ37)/AJ36 -> 0 | AL35: =AD35*3+AE35 -> 0 | AM35: =AQ35/AQ36*1000+AR35/AR36*100+AU35/AU36*10+AS35/AS36 -> 0 | AN35: =VLOOKUP(AC35,db_fifarank,2,FALSE)/2000000 -> 0.000377 | AO35: =1000*AL35/AL36+100*AK35+10*AG35/AG36+1*AM35/AM36+AN35 -> 0.000377 | AQ35: =SUMPRODUCT(($V$7:$V$54=AC35&"_win")*($X$7:$X$54))+SUMPRODUCT(($W$7:$W$54=AC35&"_win")*($X$7:$X$54)) -> 0 | AR35: =SUMPRODUCT(($V$7:$V$54=AC35&"_draw")*($X$7:$X$54))+SUMPRODUCT(($W$7:$W$54=AC35&"_draw")*($X$7:$X$54)) -> 0 | AS35: =SUMPRODUCT(($E$7:$E$54=AC35)*($X$7:$X$54)*($F$7:$F$54))+SUMPRODUCT(($H$7:$H$54=AC35)*($X$7:$X$54)*($G$7:$G$54)) -> 0 | AT35: =SUMPRODUCT(($E$7:$E$54=AC35)*($X$7:$X$54)*($G$7:$G$54))+SUMPRODUCT(($H$7:$H$54=AC35)*($X$7:$X$54)*($F$7:$F$54)) -> 0 | AU35: =AS35-AT35 -> 0
A36: 30 | B36: =INDEX(T,18+INT(MOD(U36-1,7)),lang) -> Dom | C36: =INDEX(T,24+MONTH(U36),lang) & " " & DAY(U36) & ", " & YEAR(U36) -> Giu 22, 2014 | D36: =TIME(HOUR(U36),MINUTE(U36),0) -> 0.83333333 | E36: =AC53 -> Corea del Sud | H36: =AC51 -> Algeria | I36: =INDEX(T,110,lang) -> Porto Alegre | M36: =VLOOKUP(4,AB32:AL35,2,FALSE) -> Honduras | N36: =O36+P36+Q36 -> 1 | O36: =VLOOKUP(4,AB32:AL35,3,FALSE) -> 0 | P36: =VLOOKUP(4,AB32:AL35,4,FALSE) -> 0 | Q36: =VLOOKUP(4,AB32:AL35,5,FALSE) -> 1 | R36: =VLOOKUP(4,AB32:AL35,6,FALSE) & " - " & VLOOKUP(4,AB32:AL35,7,FALSE) -> 0 - 3 | S36: =O36*3+P36 -> 0 | U36: =DATE(2014,6,22)+TIME(8,0,0)+gmt_delta -> 41812.833 | V36: =IF(OR(F36="",G36=""),"",IF(F36>G36,E36&"_win",IF(F36<G36,E36&"_lose",E36&"_draw"))) | W36: =IF(V36="","",IF(F36<G36,H36&"_win",IF(F36>G36,H36&"_lose",H36&"_draw"))) | X36: =IF(V36="",0,IF(VLOOKUP(E36,$AC$8:$AL$53,7,FALSE)=VLOOKUP(H36,$AC$8:$AL$53,7,FALSE),1,0)) -> 0 | Y36: =X36*F36 -> 0 | Z36: =X36*G36 -> 0 | AD36: =MAX(AD32:AD35)-MIN(AD32:AD35)+1 -> 2 | AE36: =MAX(AE32:AE35)-MIN(AE32:AE35)+1 -> 1 | AF36: =MAX(AF32:AF35)-MIN(AF32:AF35)+1 -> 2 | AG36: =MAX(AG32:AG35)-MIN(AG32:AG35)+1 -> 4 | AH36: =MAX(AH32:AH35)-MIN(AH32:AH35)+1 -> 4 | AI36: =MAX(AI32:AI35)-AI37+1 -> 30604 | AJ36: =MAX(AJ32:AJ35)-AJ37+1 -> 7 | AL36: =MAX(AL32:AL35)-MIN(AL32:AL35)+1 -> 4 | AM36: =MAX(AM32:AM35)-MIN(AM32:AM35)+1 -> 1 | AQ36: =MAX(AQ32:AQ35)-MIN(AQ32:AQ35)+1 -> 1 | AR36: =MAX(AR32:AR35)-MIN(AR32:AR35)+1 -> 1 | AS36: =MAX(AS32:AS35)-MIN(AS32:AS35)+1 -> 1 | AT36: =MAX(AT32:AT35)-MIN(AT32:AT35)+1 -> 1 | AU36: =MAX(AU32:AU35)-MIN(AU32:AU35)+1 -> 1
A37: 31 | B37: =INDEX(T,18+INT(MOD(U37-1,7)),lang) -> Dom | C37: =INDEX(T,24+MONTH(U37),lang) & " " & DAY(U37) & ", " & YEAR(U37) -> Giu 22, 2014 | D37: =TIME(HOUR(U37),MINUTE(U37),0) -> 0.95833333 | E37: =AC47 -> Stati Uniti d'America | H37: =AC45 -> Portogallo | I37: =INDEX(T,108,lang) -> Manaus | U37: =DATE(2014,6,22)+TIME(11,0,0)+gmt_delta -> 41812.958 | V37: =IF(OR(F37="",G37=""),"",IF(F37>G37,E37&"_win",IF(F37<G37,E37&"_lose",E37&"_draw"))) | W37: =IF(V37="","",IF(F37<G37,H37&"_win",IF(F37>G37,H37&"_lose",H37&"_draw"))) | X37: =IF(V37="",0,IF(VLOOKUP(E37,$AC$8:$AL$53,7,FALSE)=VLOOKUP(H37,$AC$8:$AL$53,7,FALSE),1,0)) -> 0 | Y37: =X37*F37 -> 0 | Z37: =X37*G37 -> 0 | AI37: =MIN(AI32:AI35) -> -300 | AJ37: =MIN(AJ32:AJ35) -> -3
A38: 32 | B38: =INDEX(T,18+INT(MOD(U38-1,7)),lang) -> Dom | C38: =INDEX(T,24+MONTH(U38),lang) & " " & DAY(U38) & ", " & YEAR(U38) -> Giu 22, 2014 | D38: =TIME(HOUR(U38),MINUTE(U38),0) -> 0.70833333 | E38: =AC50 -> Belgio | H38: =AC52 -> Russia | I38: =INDEX(T,112,lang) -> Rio De Janeiro | M38: =INDEX(T,9,lang) & " " & "F" -> Gruppo F | N38: =INDEX(T,10,lang) -> G | O38: =INDEX(T,11,lang) -> V | P38: =INDEX(T,12,lang) -> P | Q38: =INDEX(T,13,lang) -> S | R38: =INDEX(T,14,lang) -> GF - GS | S38: =INDEX(T,15,lang) -> Punti | U38: =DATE(2014,6,22)+TIME(5,0,0)+gmt_delta -> 41812.708 | V38: =IF(OR(F38="",G38=""),"",IF(F38>G38,E38&"_win",IF(F38<G38,E38&"_lose",E38&"_draw"))) | W38: =IF(V38="","",IF(F38<G38,H38&"_win",IF(F38>G38,H38&"_lose",H38&"_draw"))) | X38: =IF(V38="",0,IF(VLOOKUP(E38,$AC$8:$AL$53,7,FALSE)=VLOOKUP(H38,$AC$8:$AL$53,7,FALSE),1,0)) -> 0 | Y38: =X38*F38 -> 0 | Z38: =X38*G38 -> 0 | AB38: =COUNTIF(AO38:AO41,CONCATENATE(">=",AO38)) -> 1 | AC38: =INDEX(T,42,lang) -> Argentina | AD38: =COUNTIF($V$7:$W$54,"=" & AC38 & "_win") -> 1 | AE38: =COUNTIF($V$7:$W$54,"=" & AC38 & "_draw") -> 0 | AF38: =COUNTIF($V$7:$W$54,"=" & AC38 & "_lose") -> 0 | AG38: =SUMIF($E$7:$E$54,$AC38,$F$7:$F$54) + SUMIF($H$7:$H$54,$AC38,$G$7:$G$54) -> 2 | AH38: =SUMIF($E$7:$E$54,$AC38,$G$7:$G$54) + SUMIF($H$7:$H$54,$AC38,$F$7:$F$54) -> 1 | AI38: =(AG38-AH38)*100+AL38*10000+AG38 -> 30102 | AJ38: =AG38-AH38 -> 1 | AK38: =(AJ38-AJ43)/AJ42 -> 0.66666667 | AL38: =AD38*3+AE38 -> 3 | AM38: =AQ38/AQ42*1000+AR38/AR42*100+AU38/AU42*10+AS38/AS42 -> 0 | AN38: =VLOOKUP(AC38,db_fifarank,2,FALSE)/2000000 -> 0.000587 | AO38: =1000*AL38/AL42+100*AK38+10*AG38/AG42+1*AM38/AM42+AN38 -> 823.33392 | AP38: =IF(SUM(AD38:AF41)=12,M39,INDEX(T,80,lang)) -> 1F | AQ38: =SUMPRODUCT(($V$7:$V$54=AC38&"_win")*($X$7:$X$54))+SUMPRODUCT(($W$7:$W$54=AC38&"_win")*($X$7:$X$54)) -> 0 | AR38: =SUMPRODUCT(($V$7:$V$54=AC38&"_draw")*($X$7:$X$54))+SUMPRODUCT(($W$7:$W$54=AC38&"_draw")*($X$7:$X$54)) -> 0 | AS38: =SUMPRODUCT(($E$7:$E$54=AC38)*($X$7:$X$54)*($F$7:$F$54))+SUMPRODUCT(($H$7:$H$54=AC38)*($X$7:$X$54)*($G$7:$G$54)) -> 0 | AT38: =SUMPRODUCT(($E$7:$E$54=AC38)*($X$7:$X$54)*($G$7:$G$54))+SUMPRODUCT(($H$7:$H$54=AC38)*($X$7:$X$54)*($F$7:$F$54)) -> 0 | AU38: =AS38-AT38 -> 0
A39: 33 | B39: =INDEX(T,18+INT(MOD(U39-1,7)),lang) -> Lun | C39: =INDEX(T,24+MONTH(U39),lang) & " " & DAY(U39) & ", " & YEAR(U39) -> Giu 23, 2014 | D39: =TIME(HOUR(U39),MINUTE(U39),0) -> 0.70833333 | E39: =AC17 -> Australia | H39: =AC14 -> Spagna | I39: =INDEX(T,106,lang) -> Curitiba | M39: =VLOOKUP(1,AB38:AL41,2,FALSE) -> Argentina | N39: =O39+P39+Q39 -> 1 | O39: =VLOOKUP(1,AB38:AL41,3,FALSE) -> 1 | P39: =VLOOKUP(1,AB38:AL41,4,FALSE) -> 0 | Q39: =VLOOKUP(1,AB38:AL41,5,FALSE) -> 0 | R39: =VLOOKUP(1,AB38:AL41,6,FALSE) & " - " & VLOOKUP(1,AB38:AL41,7,FALSE) -> 2 - 1 | S39: =O39*3+P39 -> 3 | U39: =DATE(2014,6,23)+TIME(5,0,0)+gmt_delta -> 41813.708 | V39: =IF(OR(F39="",G39=""),"",IF(F39>G39,E39&"_win",IF(F39<G39,E39&"_lose",E39&"_draw"))) | W39: =IF(V39="","",IF(F39<G39,H39&"_win",IF(F39>G39,H39&"_lose",H39&"_draw"))) | X39: =IF(V39="",0,IF(VLOOKUP(E39,$AC$8:$AL$53,7,FALSE)=VLOOKUP(H39,$AC$8:$AL$53,7,FALSE),1,0)) -> 0 | Y39: =X39*F39 -> 0 | Z39: =X39*G39 -> 0 | AB39: =COUNTIF(AO38:AO41,CONCATENATE(">=",AO39)) -> 4 | AC39: =INDEX(T,60,lang) -> Bosnia - Erzegovina | AD39: =COUNTIF($V$7:$W$54,"=" & AC39 & "_win") -> 0 | AE39: =COUNTIF($V$7:$W$54,"=" & AC39 & "_draw") -> 0 | AF39: =COUNTIF($V$7:$W$54,"=" & AC39 & "_lose") -> 1 | AG39: =SUMIF($E$7:$E$54,$AC39,$F$7:$F$54) + SUMIF($H$7:$H$54,$AC39,$G$7:$G$54) -> 1 | AH39: =SUMIF($E$7:$E$54,$AC39,$G$7:$G$54) + SUMIF($H$7:$H$54,$AC39,$F$7:$F$54) -> 2 | AI39: =(AG39-AH39)*100+AL39*10000+AG39 -> -99 | AJ39: =AG39-AH39 -> -1 | AK39: =(AJ39-AJ43)/AJ42 -> 0 | AL39: =AD39*3+AE39 -> 0 | AM39: =AQ39/AQ42*1000+AR39/AR42*100+AU39/AU42*10+AS39/AS42 -> 0 | AN39: =VLOOKUP(AC39,db_fifarank,2,FALSE)/2000000 -> 0.0003975 | AO39: =1000*AL39/AL42+100*AK39+10*AG39/AG42+1*AM39/AM42+AN39 -> 3.3337308 | AP39: =IF(SUM(AD38:AF41)=12,M40,INDEX(T,81,lang)) -> 2F | AQ39: =SUMPRODUCT(($V$7:$V$54=AC39&"_win")*($X$7:$X$54))+SUMPRODUCT(($W$7:$W$54=AC39&"_win")*($X$7:$X$54)) -> 0 | AR39: =SUMPRODUCT(($V$7:$V$54=AC39&"_draw")*($X$7:$X$54))+SUMPRODUCT(($W$7:$W$54=AC39&"_draw")*($X$7:$X$54)) -> 0 | AS39: =SUMPRODUCT(($E$7:$E$54=AC39)*($X$7:$X$54)*($F$7:$F$54))+SUMPRODUCT(($H$7:$H$54=AC39)*($X$7:$X$54)*($G$7:$G$54)) -> 0 | AT39: =SUMPRODUCT(($E$7:$E$54=AC39)*($X$7:$X$54)*($G$7:$G$54))+SUMPRODUCT(($H$7:$H$54=AC39)*($X$7:$X$54)*($F$7:$F$54)) -> 0 | AU39: =AS39-AT39 -> 0
A40: 34 | B40: =INDEX(T,18+INT(MOD(U40-1,7)),lang) -> Lun | C40: =INDEX(T,24+MONTH(U40),lang) & " " & DAY(U40) & ", " & YEAR(U40) -> Giu 23, 2014 | D40: =TIME(HOUR(U40),MINUTE(U40),0) -> 0.70833333 | E40: =AC15 -> Paesi Bassi | H40: =AC16 -> Cile | I40: =INDEX(T,114,lang) -> Sao Paulo | M40: =VLOOKUP(2,AB38:AL41,2,FALSE) -> Iran | N40: =O40+P40+Q40 -> 1 | O40: =VLOOKUP(2,AB38:AL41,3,FALSE) -> 0 | P40: =VLOOKUP(2,AB38:AL41,4,FALSE) -> 1 | Q40: =VLOOKUP(2,AB38:AL41,5,FALSE) -> 0 | R40: =VLOOKUP(2,AB38:AL41,6,FALSE) & " - " & VLOOKUP(2,AB38:AL41,7,FALSE) -> 0 - 0 | S40: =O40*3+P40 -> 1 | U40: =DATE(2014,6,23)+TIME(5,0,0)+gmt_delta -> 41813.708 | V40: =IF(OR(F40="",G40=""),"",IF(F40>G40,E40&"_win",IF(F40<G40,E40&"_lose",E40&"_draw"))) | W40: =IF(V40="","",IF(F40<G40,H40&"_win",IF(F40>G40,H40&"_lose",H40&"_draw"))) | X40: =IF(V40="",0,IF(VLOOKUP(E40,$AC$8:$AL$53,7,FALSE)=VLOOKUP(H40,$AC$8:$AL$53,7,FALSE),1,0)) -> 0 | Y40: =X40*F40 -> 0 | Z40: =X40*G40 -> 0 | AB40: =COUNTIF(AO38:AO41,CONCATENATE(">=",AO40)) -> 2 | AC40: =INDEX(T,61,lang) -> Iran | AD40: =COUNTIF($V$7:$W$54,"=" & AC40 & "_win") -> 0 | AE40: =COUNTIF($V$7:$W$54,"=" & AC40 & "_draw") -> 1 | AF40: =COUNTIF($V$7:$W$54,"=" & AC40 & "_lose") -> 0 | AG40: =SUMIF($E$7:$E$54,$AC40,$F$7:$F$54) + SUMIF($H$7:$H$54,$AC40,$G$7:$G$54) -> 0 | AH40: =SUMIF($E$7:$E$54,$AC40,$G$7:$G$54) + SUMIF($H$7:$H$54,$AC40,$F$7:$F$54) -> 0 | AI40: =(AG40-AH40)*100+AL40*10000+AG40 -> 10000 | AJ40: =AG40-AH40 -> 0 | AK40: =(AJ40-AJ43)/AJ42 -> 0.33333333 | AL40: =AD40*3+AE40 -> 1 | AM40: =AQ40/AQ42*1000+AR40/AR42*100+AU40/AU42*10+AS40/AS42 -> 50 | AN40: =VLOOKUP(AC40,db_fifarank,2,FALSE)/2000000 -> 0.0003575 | AO40: =1000*AL40/AL42+100*AK40+10*AG40/AG42+1*AM40/AM42+AN40 -> 284.31408 | AQ40: =SUMPRODUCT(($V$7:$V$54=AC40&"_win")*($X$7:$X$54))+SUMPRODUCT(($W$7:$W$54=AC40&"_win")*($X$7:$X$54)) -> 0 | AR40: =SUMPRODUCT(($V$7:$V$54=AC40&"_draw")*($X$7:$X$54))+SUMPRODUCT(($W$7:$W$54=AC40&"_draw")*($X$7:$X$54)) -> 1 | AS40: =SUMPRODUCT(($E$7:$E$54=AC40)*($X$7:$X$54)*($F$7:$F$54))+SUMPRODUCT(($H$7:$H$54=AC40)*($X$7:$X$54)*($G$7:$G$54)) -> 0 | AT40: =SUMPRODUCT(($E$7:$E$54=AC40)*($X$7:$X$54)*($G$7:$G$54))+SUMPRODUCT(($H$7:$H$54=AC40)*($X$7:$X$54)*($F$7:$F$54)) -> 0 | AU40: =AS40-AT40 -> 0
A41: 35 | B41: =INDEX(T,18+INT(MOD(U41-1,7)),lang) -> Lun | C41: =INDEX(T,24+MONTH(U41),lang) & " " & DAY(U41) & ", " & YEAR(U41) -> Giu 23, 2014 | D41: =TIME(HOUR(U41),MINUTE(U41),0) -> 0.875 | E41: =AC11 -> Camerun | H41: =AC8 -> Brasile | I41: =INDEX(T,104,lang) -> Brasilia | M41: =VLOOKUP(3,AB38:AL41,2,FALSE) -> Nigeria | N41: =O41+P41+Q41 -> 1 | O41: =VLOOKUP(3,AB38:AL41,3,FALSE) -> 0 | P41: =VLOOKUP(3,AB38:AL41,4,FALSE) -> 1 | Q41: =VLOOKUP(3,AB38:AL41,5,FALSE) -> 0 | R41: =VLOOKUP(3,AB38:AL41,6,FALSE) & " - " & VLOOKUP(3,AB38:AL41,7,FALSE) -> 0 - 0 | S41: =O41*3+P41 -> 1 | U41: =DATE(2014,6,23)+TIME(9,0,0)+gmt_delta -> 41813.875 | V41: =IF(OR(F41="",G41=""),"",IF(F41>G41,E41&"_win",IF(F41<G41,E41&"_lose",E41&"_draw"))) | W41: =IF(V41="","",IF(F41<G41,H41&"_win",IF(F41>G41,H41&"_lose",H41&"_draw"))) | X41: =IF(V41="",0,IF(VLOOKUP(E41,$AC$8:$AL$53,7,FALSE)=VLOOKUP(H41,$AC$8:$AL$53,7,FALSE),1,0)) -> 0 | Y41: =X41*F41 -> 0 | Z41: =X41*G41 -> 0 | AB41: =COUNTIF(AO38:AO41,CONCATENATE(">=",AO41)) -> 3 | AC41: =INDEX(T,43,lang) -> Nigeria | AD41: =COUNTIF($V$7:$W$54,"=" & AC41 & "_win") -> 0 | AE41: =COUNTIF($V$7:$W$54,"=" & AC41 & "_draw") -> 1 | AF41: =COUNTIF($V$7:$W$54,"=" & AC41 & "_lose") -> 0 | AG41: =SUMIF($E$7:$E$54,$AC41,$F$7:$F$54) + SUMIF($H$7:$H$54,$AC41,$G$7:$G$54) -> 0 | AH41: =SUMIF($E$7:$E$54,$AC41,$G$7:$G$54) + SUMIF($H$7:$H$54,$AC41,$F$7:$F$54) -> 0 | AI41: =(AG41-AH41)*100+AL41*10000+AG41 -> 10000 | AJ41: =AG41-AH41 -> 0 | AK41: =(AJ41-AJ43)/AJ42 -> 0.33333333 | AL41: =AD41*3+AE41 -> 1 | AM41: =AQ41/AQ42*1000+AR41/AR42*100+AU41/AU42*10+AS41/AS42 -> 50 | AN41: =VLOOKUP(AC41,db_fifarank,2,FALSE)/2000000 -> 0.00031 | AO41: =1000*AL41/AL42+100*AK41+10*AG41/AG42+1*AM41/AM42+AN41 -> 284.31404 | AQ41: =SUMPRODUCT(($V$7:$V$54=AC41&"_win")*($X$7:$X$54))+SUMPRODUCT(($W$7:$W$54=AC41&"_win")*($X$7:$X$54)) -> 0 | AR41: =SUMPRODUCT(($V$7:$V$54=AC41&"_draw")*($X$7:$X$54))+SUMPRODUCT(($W$7:$W$54=AC41&"_draw")*($X$7:$X$54)) -> 1 | AS41: =SUMPRODUCT(($E$7:$E$54=AC41)*($X$7:$X$54)*($F$7:$F$54))+SUMPRODUCT(($H$7:$H$54=AC41)*($X$7:$X$54)*($G$7:$G$54)) -> 0 | AT41: =SUMPRODUCT(($E$7:$E$54=AC41)*($X$7:$X$54)*($G$7:$G$54))+SUMPRODUCT(($H$7:$H$54=AC41)*($X$7:$X$54)*($F$7:$F$54)) -> 0 | AU41: =AS41-AT41 -> 0
A42: 36 | B42: =INDEX(T,18+INT(MOD(U42-1,7)),lang) -> Lun | C42: =INDEX(T,24+MONTH(U42),lang) & " " & DAY(U42) & ", " & YEAR(U42) -> Giu 23, 2014 | D42: =TIME(HOUR(U42),MINUTE(U42),0) -> 0.875 | E42: =AC9 -> Croazia | H42: =AC10 -> Messico | I42: =INDEX(T,111,lang) -> Recife | M42: =VLOOKUP(4,AB38:AL41,2,FALSE) -> Bosnia - Erzegovina | N42: =O42+P42+Q42 -> 1 | O42: =VLOOKUP(4,AB38:AL41,3,FALSE) -> 0 | P42: =VLOOKUP(4,AB38:AL41,4,FALSE) -> 0 | Q42: =VLOOKUP(4,AB38:AL41,5,FALSE) -> 1 | R42: =VLOOKUP(4,AB38:AL41,6,FALSE) & " - " & VLOOKUP(4,AB38:AL41,7,FALSE) -> 1 - 2 | S42: =O42*3+P42 -> 0 | U42: =DATE(2014,6,23)+TIME(9,0,0)+gmt_delta -> 41813.875 | V42: =IF(OR(F42="",G42=""),"",IF(F42>G42,E42&"_win",IF(F42<G42,E42&"_lose",E42&"_draw"))) | W42: =IF(V42="","",IF(F42<G42,H42&"_win",IF(F42>G42,H42&"_lose",H42&"_draw"))) | X42: =IF(V42="",0,IF(VLOOKUP(E42,$AC$8:$AL$53,7,FALSE)=VLOOKUP(H42,$AC$8:$AL$53,7,FALSE),1,0)) -> 0 | Y42: =X42*F42 -> 0 | Z42: =X42*G42 -> 0 | AD42: =MAX(AD38:AD41)-MIN(AD38:AD41)+1 -> 2 | AE42: =MAX(AE38:AE41)-MIN(AE38:AE41)+1 -> 2 | AF42: =MAX(AF38:AF41)-MIN(AF38:AF41)+1 -> 2 | AG42: =MAX(AG38:AG41)-MIN(AG38:AG41)+1 -> 3 | AH42: =MAX(AH38:AH41)-MIN(AH38:AH41)+1 -> 3 | AI42: =MAX(AI38:AI41)-AI43+1 -> 30202 | AJ42: =MAX(AJ38:AJ41)-AJ43+1 -> 3 | AL42: =MAX(AL38:AL41)-MIN(AL38:AL41)+1 -> 4 | AM42: =MAX(AM38:AM41)-MIN(AM38:AM41)+1 -> 51 | AQ42: =MAX(AQ38:AQ41)-MIN(AQ38:AQ41)+1 -> 1 | AR42: =MAX(AR38:AR41)-MIN(AR38:AR41)+1 -> 2 | AS42: =MAX(AS38:AS41)-MIN(AS38:AS41)+1 -> 1 | AT42: =MAX(AT38:AT41)-MIN(AT38:AT41)+1 -> 1 | AU42: =MAX(AU38:AU41)-MIN(AU38:AU41)+1 -> 1
A43: 37 | B43: =INDEX(T,18+INT(MOD(U43-1,7)),lang) -> Mar | C43: =INDEX(T,24+MONTH(U43),lang) & " " & DAY(U43) & ", " & YEAR(U43) -> Giu 24, 2014 | D43: =TIME(HOUR(U43),MINUTE(U43),0) -> 0.70833333 | E43: =AC29 -> Italia | H43: =AC26 -> Uruguay | I43: =INDEX(T,109,lang) -> natale | U43: =DATE(2014,6,24)+TIME(5,0,0)+gmt_delta -> 41814.708 | V43: =IF(OR(F43="",G43=""),"",IF(F43>G43,E43&"_win",IF(F43<G43,E43&"_lose",E43&"_draw"))) | W43: =IF(V43="","",IF(F43<G43,H43&"_win",IF(F43>G43,H43&"_lose",H43&"_draw"))) | X43: =IF(V43="",0,IF(VLOOKUP(E43,$AC$8:$AL$53,7,FALSE)=VLOOKUP(H43,$AC$8:$AL$53,7,FALSE),1,0)) -> 0 | Y43: =X43*F43 -> 0 | Z43: =X43*G43 -> 0 | AI43: =MIN(AI38:AI41) -> -99 | AJ43: =MIN(AJ38:AJ41) -> -1
A44: 38 | B44: =INDEX(T,18+INT(MOD(U44-1,7)),lang) -> Mar | C44: =INDEX(T,24+MONTH(U44),lang) & " " & DAY(U44) & ", " & YEAR(U44) -> Giu 24, 2014 | D44: =TIME(HOUR(U44),MINUTE(U44),0) -> 0.70833333 | E44: =AC27 -> Costarica | H44: =AC28 -> Inghilterra | I44: =INDEX(T,103,lang) -> Belo Horizonte | M44: =INDEX(T,9,lang) & " " & "G" -> Gruppo G | N44: =INDEX(T,10,lang) -> G | O44: =INDEX(T,11,lang) -> V | P44: =INDEX(T,12,lang) -> P | Q44: =INDEX(T,13,lang) -> S | R44: =INDEX(T,14,lang) -> GF - GS | S44: =INDEX(T,15,lang) -> Punti | U44: =DATE(2014,6,24)+TIME(5,0,0)+gmt_delta -> 41814.708 | V44: =IF(OR(F44="",G44=""),"",IF(F44>G44,E44&"_win",IF(F44<G44,E44&"_lose",E44&"_draw"))) | W44: =IF(V44="","",IF(F44<G44,H44&"_win",IF(F44>G44,H44&"_lose",H44&"_draw"))) | X44: =IF(V44="",0,IF(VLOOKUP(E44,$AC$8:$AL$53,7,FALSE)=VLOOKUP(H44,$AC$8:$AL$53,7,FALSE),1,0)) -> 0 | Y44: =X44*F44 -> 0 | Z44: =X44*G44 -> 0 | AB44: =COUNTIF(AO44:AO47,CONCATENATE(">=",AO44)) -> 1 | AC44: =INDEX(T,50,lang) -> Germania | AD44: =COUNTIF($V$7:$W$54,"=" & AC44 & "_win") -> 1 | AE44: =COUNTIF($V$7:$W$54,"=" & AC44 & "_draw") -> 0 | AF44: =COUNTIF($V$7:$W$54,"=" & AC44 & "_lose") -> 0 | AG44: =SUMIF($E$7:$E$54,$AC44,$F$7:$F$54) + SUMIF($H$7:$H$54,$AC44,$G$7:$G$54) -> 4 | AH44: =SUMIF($E$7:$E$54,$AC44,$G$7:$G$54) + SUMIF($H$7:$H$54,$AC44,$F$7:$F$54) -> 0 | AI44: =(AG44-AH44)*100+AL44*10000+AG44 -> 30404 | AJ44: =AG44-AH44 -> 4 | AK44: =(AJ44-AJ49)/AJ48 -> 0.88888889 | AL44: =AD44*3+AE44 -> 3 | AM44: =AQ44/AQ48*1000+AR44/AR48*100+AU44/AU48*10+AS44/AS48 -> 0 | AN44: =VLOOKUP(AC44,db_fifarank,2,FALSE)/2000000 -> 0.00067 | AO44: =1000*AL44/AL48+100*AK44+10*AG44/AG48+1*AM44/AM48+AN44 -> 846.88956 | AP44: =IF(SUM(AD44:AF47)=12,M45,INDEX(T,82,lang)) -> 1G | AQ44: =SUMPRODUCT(($V$7:$V$54=AC44&"_win")*($X$7:$X$54))+SUMPRODUCT(($W$7:$W$54=AC44&"_win")*($X$7:$X$54)) -> 0 | AR44: =SUMPRODUCT(($V$7:$V$54=AC44&"_draw")*($X$7:$X$54))+SUMPRODUCT(($W$7:$W$54=AC44&"_draw")*($X$7:$X$54)) -> 0 | AS44: =SUMPRODUCT(($E$7:$E$54=AC44)*($X$7:$X$54)*($F$7:$F$54))+SUMPRODUCT(($H$7:$H$54=AC44)*($X$7:$X$54)*($G$7:$G$54)) -> 0 | AT44: =SUMPRODUCT(($E$7:$E$54=AC44)*($X$7:$X$54)*($G$7:$G$54))+SUMPRODUCT(($H$7:$H$54=AC44)*($X$7:$X$54)*($F$7:$F$54)) -> 0 | AU44: =AS44-AT44 -> 0
A45: 39 | B45: =INDEX(T,18+INT(MOD(U45-1,7)),lang) -> Mar | C45: =INDEX(T,24+MONTH(U45),lang) & " " & DAY(U45) & ", " & YEAR(U45) -> Giu 24, 2014 | D45: =TIME(HOUR(U45),MINUTE(U45),0) -> 0.875 | E45: =AC23 -> Giappone | H45: =AC20 -> Colombia | I45: =INDEX(T,105,lang) -> Cuiaba | M45: =VLOOKUP(1,AB44:AL47,2,FALSE) -> Germania | N45: =O45+P45+Q45 -> 1 | O45: =VLOOKUP(1,AB44:AL47,3,FALSE) -> 1 | P45: =VLOOKUP(1,AB44:AL47,4,FALSE) -> 0 | Q45: =VLOOKUP(1,AB44:AL47,5,FALSE) -> 0 | R45: =VLOOKUP(1,AB44:AL47,6,FALSE) & " - " & VLOOKUP(1,AB44:AL47,7,FALSE) -> 4 - 0 | S45: =O45*3+P45 -> 3 | U45: =DATE(2014,6,24)+TIME(9,0,0)+gmt_delta -> 41814.875 | V45: =IF(OR(F45="",G45=""),"",IF(F45>G45,E45&"_win",IF(F45<G45,E45&"_lose",E45&"_draw"))) | W45: =IF(V45="","",IF(F45<G45,H45&"_win",IF(F45>G45,H45&"_lose",H45&"_draw"))) | X45: =IF(V45="",0,IF(VLOOKUP(E45,$AC$8:$AL$53,7,FALSE)=VLOOKUP(H45,$AC$8:$AL$53,7,FALSE),1,0)) -> 0 | Y45: =X45*F45 -> 0 | Z45: =X45*G45 -> 0 | AB45: =COUNTIF(AO44:AO47,CONCATENATE(">=",AO45)) -> 4 | AC45: =INDEX(T,65,lang) -> Portogallo | AD45: =COUNTIF($V$7:$W$54,"=" & AC45 & "_win") -> 0 | AE45: =COUNTIF($V$7:$W$54,"=" & AC45 & "_draw") -> 0 | AF45: =COUNTIF($V$7:$W$54,"=" & AC45 & "_lose") -> 1 | AG45: =SUMIF($E$7:$E$54,$AC45,$F$7:$F$54) + SUMIF($H$7:$H$54,$AC45,$G$7:$G$54) -> 0 | AH45: =SUMIF($E$7:$E$54,$AC45,$G$7:$G$54) + SUMIF($H$7:$H$54,$AC45,$F$7:$F$54) -> 4 | AI45: =(AG45-AH45)*100+AL45*10000+AG45 -> -400 | AJ45: =AG45-AH45 -> -4 | AK45: =(AJ45-AJ49)/AJ48 -> 0 | AL45: =AD45*3+AE45 -> 0 | AM45: =AQ45/AQ48*1000+AR45/AR48*100+AU45/AU48*10+AS45/AS48 -> 0 | AN45: =VLOOKUP(AC45,db_fifarank,2,FALSE)/2000000 -> 0.0006225 | AO45: =1000*AL45/AL48+100*AK45+10*AG45/AG48+1*AM45/AM48+AN45 -> 0.0006225 | AP45: =IF(SUM(AD44:AF47)=12,M46,INDEX(T,83,lang)) -> 2G | AQ45: =SUMPRODUCT(($V$7:$V$54=AC45&"_win")*($X$7:$X$54))+SUMPRODUCT(($W$7:$W$54=AC45&"_win")*($X$7:$X$54)) -> 0 | AR45: =SUMPRODUCT(($V$7:$V$54=AC45&"_draw")*($X$7:$X$54))+SUMPRODUCT(($W$7:$W$54=AC45&"_draw")*($X$7:$X$54)) -> 0 | AS45: =SUMPRODUCT(($E$7:$E$54=AC45)*($X$7:$X$54)*($F$7:$F$54))+SUMPRODUCT(($H$7:$H$54=AC45)*($X$7:$X$54)*($G$7:$G$54)) -> 0 | AT45: =SUMPRODUCT(($E$7:$E$54=AC45)*($X$7:$X$54)*($G$7:$G$54))+SUMPRODUCT(($H$7:$H$54=AC45)*($X$7:$X$54)*($F$7:$F$54)) -> 0 | AU45: =AS45-AT45 -> 0
A46: 40 | B46: =INDEX(T,18+INT(MOD(U46-1,7)),lang) -> Mar | C46: =INDEX(T,24+MONTH(U46),lang) & " " & DAY(U46) & ", " & YEAR(U46) -> Giu 24, 2014 | D46: =TIME(HOUR(U46),MINUTE(U46),0) -> 0.875 | E46: =AC21 -> Grecia | H46: =AC22 -> Costa d' Avorio | I46: =INDEX(T,107,lang) -> Fortaleza | M46: =VLOOKUP(2,AB44:AL47,2,FALSE) -> Stati Uniti d'America | N46: =O46+P46+Q46 -> 1 | O46: =VLOOKUP(2,AB44:AL47,3,FALSE) -> 1 | P46: =VLOOKUP(2,AB44:AL47,4,FALSE) -> 0 | Q46: =VLOOKUP(2,AB44:AL47,5,FALSE) -> 0 | R46: =VLOOKUP(2,AB44:AL47,6,FALSE) & " - " & VLOOKUP(2,AB44:AL47,7,FALSE) -> 2 - 1 | S46: =O46*3+P46 -> 3 | U46: =DATE(2014,6,24)+TIME(9,0,0)+gmt_delta -> 41814.875 | V46: =IF(OR(F46="",G46=""),"",IF(F46>G46,E46&"_win",IF(F46<G46,E46&"_lose",E46&"_draw"))) | W46: =IF(V46="","",IF(F46<G46,H46&"_win",IF(F46>G46,H46&"_lose",H46&"_draw"))) | X46: =IF(V46="",0,IF(VLOOKUP(E46,$AC$8:$AL$53,7,FALSE)=VLOOKUP(H46,$AC$8:$AL$53,7,FALSE),1,0)) -> 0 | Y46: =X46*F46 -> 0 | Z46: =X46*G46 -> 0 | AB46: =COUNTIF(AO44:AO47,CONCATENATE(">=",AO46)) -> 3 | AC46: =INDEX(T,53,lang) -> Ghana | AD46: =COUNTIF($V$7:$W$54,"=" & AC46 & "_win") -> 0 | AE46: =COUNTIF($V$7:$W$54,"=" & AC46 & "_draw") -> 0 | AF46: =COUNTIF($V$7:$W$54,"=" & AC46 & "_lose") -> 1 | AG46: =SUMIF($E$7:$E$54,$AC46,$F$7:$F$54) + SUMIF($H$7:$H$54,$AC46,$G$7:$G$54) -> 1 | AH46: =SUMIF($E$7:$E$54,$AC46,$G$7:$G$54) + SUMIF($H$7:$H$54,$AC46,$F$7:$F$54) -> 2 | AI46: =(AG46-AH46)*100+AL46*10000+AG46 -> -99 | AJ46: =AG46-AH46 -> -1 | AK46: =(AJ46-AJ49)/AJ48 -> 0.33333333 | AL46: =AD46*3+AE46 -> 0 | AM46: =AQ46/AQ48*1000+AR46/AR48*100+AU46/AU48*10+AS46/AS48 -> 0 | AN46: =VLOOKUP(AC46,db_fifarank,2,FALSE)/2000000 -> 0.0003565 | AO46: =1000*AL46/AL48+100*AK46+10*AG46/AG48+1*AM46/AM48+AN46 -> 35.33369 | AQ46: =SUMPRODUCT(($V$7:$V$54=AC46&"_win")*($X$7:$X$54))+SUMPRODUCT(($W$7:$W$54=AC46&"_win")*($X$7:$X$54)) -> 0 | AR46: =SUMPRODUCT(($V$7:$V$54=AC46&"_draw")*($X$7:$X$54))+SUMPRODUCT(($W$7:$W$54=AC46&"_draw")*($X$7:$X$54)) -> 0 | AS46: =SUMPRODUCT(($E$7:$E$54=AC46)*($X$7:$X$54)*($F$7:$F$54))+SUMPRODUCT(($H$7:$H$54=AC46)*($X$7:$X$54)*($G$7:$G$54)) -> 0 | AT46: =SUMPRODUCT(($E$7:$E$54=AC46)*($X$7:$X$54)*($G$7:$G$54))+SUMPRODUCT(($H$7:$H$54=AC46)*($X$7:$X$54)*($F$7:$F$54)) -> 0 | AU46: =AS46-AT46 -> 0
A47: 41 | B47: =INDEX(T,18+INT(MOD(U47-1,7)),lang) -> Mer | C47: =INDEX(T,24+MONTH(U47),lang) & " " & DAY(U47) & ", " & YEAR(U47) -> Giu 25, 2014 | D47: =TIME(HOUR(U47),MINUTE(U47),0) -> 0.70833333 | E47: =AC41 -> Nigeria | H47: =AC38 -> Argentina | I47: =INDEX(T,110,lang) -> Porto Alegre | M47: =VLOOKUP(3,AB44:AL47,2,FALSE) -> Ghana | N47: =O47+P47+Q47 -> 1 | O47: =VLOOKUP(3,AB44:AL47,3,FALSE) -> 0 | P47: =VLOOKUP(3,AB44:AL47,4,FALSE) -> 0 | Q47: =VLOOKUP(3,AB44:AL47,5,FALSE) -> 1 | R47: =VLOOKUP(3,AB44:AL47,6,FALSE) & " - " & VLOOKUP(3,AB44:AL47,7,FALSE) -> 1 - 2 | S47: =O47*3+P47 -> 0 | U47: =DATE(2014,6,25)+TIME(5,0,0)+gmt_delta -> 41815.708 | V47: =IF(OR(F47="",G47=""),"",IF(F47>G47,E47&"_win",IF(F47<G47,E47&"_lose",E47&"_draw"))) | W47: =IF(V47="","",IF(F47<G47,H47&"_win",IF(F47>G47,H47&"_lose",H47&"_draw"))) | X47: =IF(V47="",0,IF(VLOOKUP(E47,$AC$8:$AL$53,7,FALSE)=VLOOKUP(H47,$AC$8:$AL$53,7,FALSE),1,0)) -> 0 | Y47: =X47*F47 -> 0 | Z47: =X47*G47 -> 0 | AB47: =COUNTIF(AO44:AO47,CONCATENATE(">=",AO47)) -> 2 | AC47: =INDEX(T,47,lang) -> Stati Uniti d'America | AD47: =COUNTIF($V$7:$W$54,"=" & AC47 & "_win") -> 1 | AE47: =COUNTIF($V$7:$W$54,"=" & AC47 & "_draw") -> 0 | AF47: =COUNTIF($V$7:$W$54,"=" & AC47 & "_lose") -> 0 | AG47: =SUMIF($E$7:$E$54,$AC47,$F$7:$F$54) + SUMIF($H$7:$H$54,$AC47,$G$7:$G$54) -> 2 | AH47: =SUMIF($E$7:$E$54,$AC47,$G$7:$G$54) + SUMIF($H$7:$H$54,$AC47,$F$7:$F$54) -> 1 | AI47: =(AG47-AH47)*100+AL47*10000+AG47 -> 30102 | AJ47: =AG47-AH47 -> 1 | AK47: =(AJ47-AJ49)/AJ48 -> 0.55555556 | AL47: =AD47*3+AE47 -> 3 | AM47: =AQ47/AQ48*1000+AR47/AR48*100+AU47/AU48*10+AS47/AS48 -> 0 | AN47: =VLOOKUP(AC47,db_fifarank,2,FALSE)/2000000 -> 0.0005075 | AO47: =1000*AL47/AL48+100*AK47+10*AG47/AG48+1*AM47/AM48+AN47 -> 809.55606 | AQ47: =SUMPRODUCT(($V$7:$V$54=AC47&"_win")*($X$7:$X$54))+SUMPRODUCT(($W$7:$W$54=AC47&"_win")*($X$7:$X$54)) -> 0 | AR47: =SUMPRODUCT(($V$7:$V$54=AC47&"_draw")*($X$7:$X$54))+SUMPRODUCT(($W$7:$W$54=AC47&"_draw")*($X$7:$X$54)) -> 0 | AS47: =SUMPRODUCT(($E$7:$E$54=AC47)*($X$7:$X$54)*($F$7:$F$54))+SUMPRODUCT(($H$7:$H$54=AC47)*($X$7:$X$54)*($G$7:$G$54)) -> 0 | AT47: =SUMPRODUCT(($E$7:$E$54=AC47)*($X$7:$X$54)*($G$7:$G$54))+SUMPRODUCT(($H$7:$H$54=AC47)*($X$7:$X$54)*($F$7:$F$54)) -> 0 | AU47: =AS47-AT47 -> 0
A48: 42 | B48: =INDEX(T,18+INT(MOD(U48-1,7)),lang) -> Mer | C48: =INDEX(T,24+MONTH(U48),lang) & " " & DAY(U48) & ", " & YEAR(U48) -> Giu 25, 2014 | D48: =TIME(HOUR(U48),MINUTE(U48),0) -> 0.70833333 | E48: =AC39 -> Bosnia - Erzegovina | H48: =AC40 -> Iran | I48: =INDEX(T,113,lang) -> Salvador | M48: =VLOOKUP(4,AB44:AL47,2,FALSE) -> Portogallo | N48: =O48+P48+Q48 -> 1 | O48: =VLOOKUP(4,AB44:AL47,3,FALSE) -> 0 | P48: =VLOOKUP(4,AB44:AL47,4,FALSE) -> 0 | Q48: =VLOOKUP(4,AB44:AL47,5,FALSE) -> 1 | R48: =VLOOKUP(4,AB44:AL47,6,FALSE) & " - " & VLOOKUP(4,AB44:AL47,7,FALSE) -> 0 - 4 | S48: =O48*3+P48 -> 0 | U48: =DATE(2014,6,25)+TIME(5,0,0)+gmt_delta -> 41815.708 | V48: =IF(OR(F48="",G48=""),"",IF(F48>G48,E48&"_win",IF(F48<G48,E48&"_lose",E48&"_draw"))) | W48: =IF(V48="","",IF(F48<G48,H48&"_win",IF(F48>G48,H48&"_lose",H48&"_draw"))) | X48: =IF(V48="",0,IF(VLOOKUP(E48,$AC$8:$AL$53,7,FALSE)=VLOOKUP(H48,$AC$8:$AL$53,7,FALSE),1,0)) -> 0 | Y48: =X48*F48 -> 0 | Z48: =X48*G48 -> 0 | AD48: =MAX(AD44:AD47)-MIN(AD44:AD47)+1 -> 2 | AE48: =MAX(AE44:AE47)-MIN(AE44:AE47)+1 -> 1 | AF48: =MAX(AF44:AF47)-MIN(AF44:AF47)+1 -> 2 | AG48: =MAX(AG44:AG47)-MIN(AG44:AG47)+1 -> 5 | AH48: =MAX(AH44:AH47)-MIN(AH44:AH47)+1 -> 5 | AI48: =MAX(AI44:AI47)-AI49+1 -> 30805 | AJ48: =MAX(AJ44:AJ47)-AJ49+1 -> 9 | AL48: =MAX(AL44:AL47)-MIN(AL44:AL47)+1 -> 4 | AM48: =MAX(AM44:AM47)-MIN(AM44:AM47)+1 -> 1 | AQ48: =MAX(AQ44:AQ47)-MIN(AQ44:AQ47)+1 -> 1 | AR48: =MAX(AR44:AR47)-MIN(AR44:AR47)+1 -> 1 | AS48: =MAX(AS44:AS47)-MIN(AS44:AS47)+1 -> 1 | AT48: =MAX(AT44:AT47)-MIN(AT44:AT47)+1 -> 1 | AU48: =MAX(AU44:AU47)-MIN(AU44:AU47)+1 -> 1
A49: 43 | B49: =INDEX(T,18+INT(MOD(U49-1,7)),lang) -> Mer | C49: =INDEX(T,24+MONTH(U49),lang) & " " & DAY(U49) & ", " & YEAR(U49) -> Giu 25, 2014 | D49: =TIME(HOUR(U49),MINUTE(U49),0) -> 0.875 | E49: =AC35 -> Honduras | H49: =AC32 -> Svizzera | I49: =INDEX(T,108,lang) -> Manaus | U49: =DATE(2014,6,25)+TIME(9,0,0)+gmt_delta -> 41815.875 | V49: =IF(OR(F49="",G49=""),"",IF(F49>G49,E49&"_win",IF(F49<G49,E49&"_lose",E49&"_draw"))) | W49: =IF(V49="","",IF(F49<G49,H49&"_win",IF(F49>G49,H49&"_lose",H49&"_draw"))) | X49: =IF(V49="",0,IF(VLOOKUP(E49,$AC$8:$AL$53,7,FALSE)=VLOOKUP(H49,$AC$8:$AL$53,7,FALSE),1,0)) -> 0 | Y49: =X49*F49 -> 0 | Z49: =X49*G49 -> 0 | AI49: =MIN(AI44:AI47) -> -400 | AJ49: =MIN(AJ44:AJ47) -> -4
A50: 44 | B50: =INDEX(T,18+INT(MOD(U50-1,7)),lang) -> Mer | C50: =INDEX(T,24+MONTH(U50),lang) & " " & DAY(U50) & ", " & YEAR(U50) -> Giu 25, 2014 | D50: =TIME(HOUR(U50),MINUTE(U50),0) -> 0.875 | E50: =AC33 -> Ecuador | H50: =AC34 -> Francia | I50: =INDEX(T,112,lang) -> Rio De Janeiro | M50: =INDEX(T,9,lang) & " " & "H" -> Gruppo H | N50: =INDEX(T,10,lang) -> G | O50: =INDEX(T,11,lang) -> V | P50: =INDEX(T,12,lang) -> P | Q50: =INDEX(T,13,lang) -> S | R50: =INDEX(T,14,lang) -> GF - GS | S50: =INDEX(T,15,lang) -> Punti | U50: =DATE(2014,6,25)+TIME(9,0,0)+gmt_delta -> 41815.875 | V50: =IF(OR(F50="",G50=""),"",IF(F50>G50,E50&"_win",IF(F50<G50,E50&"_lose",E50&"_draw"))) | W50: =IF(V50="","",IF(F50<G50,H50&"_win",IF(F50>G50,H50&"_lose",H50&"_draw"))) | X50: =IF(V50="",0,IF(VLOOKUP(E50,$AC$8:$AL$53,7,FALSE)=VLOOKUP(H50,$AC$8:$AL$53,7,FALSE),1,0)) -> 0 | Y50: =X50*F50 -> 0 | Z50: =X50*G50 -> 0 | AB50: =COUNTIF(AO50:AO53,CONCATENATE(">=",AO50)) -> 1 | AC50: =INDEX(T,63,lang) -> Belgio | AD50: =COUNTIF($V$7:$W$54,"=" & AC50 & "_win") -> 0 | AE50: =COUNTIF($V$7:$W$54,"=" & AC50 & "_draw") -> 0 | AF50: =COUNTIF($V$7:$W$54,"=" & AC50 & "_lose") -> 0 | AG50: =SUMIF($E$7:$E$54,$AC50,$F$7:$F$54) + SUMIF($H$7:$H$54,$AC50,$G$7:$G$54) -> 0 | AH50: =SUMIF($E$7:$E$54,$AC50,$G$7:$G$54) + SUMIF($H$7:$H$54,$AC50,$F$7:$F$54) -> 0 | AI50: =(AG50-AH50)*100+AL50*10000+AG50 -> 0 | AJ50: =AG50-AH50 -> 0 | AK50: =(AJ50-AJ55)/AJ54 -> 0 | AL50: =AD50*3+AE50 -> 0 | AM50: =AQ50/AQ54*1000+AR50/AR54*100+AU50/AU54*10+AS50/AS54 -> 0 | AN50: =VLOOKUP(AC50,db_fifarank,2,FALSE)/2000000 -> 0.0005195 | AO50: =1000*AL50/AL54+100*AK50+10*AG50/AG54+1*AM50/AM54+AN50 -> 0.0005195 | AP50: =IF(SUM(AD50:AF53)=12,M51,INDEX(T,84,lang)) -> 1H | AQ50: =SUMPRODUCT(($V$7:$V$54=AC50&"_win")*($X$7:$X$54))+SUMPRODUCT(($W$7:$W$54=AC50&"_win")*($X$7:$X$54)) -> 0 | AR50: =SUMPRODUCT(($V$7:$V$54=AC50&"_draw")*($X$7:$X$54))+SUMPRODUCT(($W$7:$W$54=AC50&"_draw")*($X$7:$X$54)) -> 0 | AS50: =SUMPRODUCT(($E$7:$E$54=AC50)*($X$7:$X$54)*($F$7:$F$54))+SUMPRODUCT(($H$7:$H$54=AC50)*($X$7:$X$54)*($G$7:$G$54)) -> 0 | AT50: =SUMPRODUCT(($E$7:$E$54=AC50)*($X$7:$X$54)*($G$7:$G$54))+SUMPRODUCT(($H$7:$H$54=AC50)*($X$7:$X$54)*($F$7:$F$54)) -> 0 | AU50: =AS50-AT50 -> 0
A51: 45 | B51: =INDEX(T,18+INT(MOD(U51-1,7)),lang) -> Gio | C51: =INDEX(T,24+MONTH(U51),lang) & " " & DAY(U51) & ", " & YEAR(U51) -> Giu 26, 2014 | D51: =TIME(HOUR(U51),MINUTE(U51),0) -> 0.70833333 | E51: =AC47 -> Stati Uniti d'America | H51: =AC44 -> Germania | I51: =INDEX(T,111,lang) -> Recife | M51: =VLOOKUP(1,AB50:AL53,2,FALSE) -> Belgio | N51: =O51+P51+Q51 -> 0 | O51: =VLOOKUP(1,AB50:AL53,3,FALSE) -> 0 | P51: =VLOOKUP(1,AB50:AL53,4,FALSE) -> 0 | Q51: =VLOOKUP(1,AB50:AL53,5,FALSE) -> 0 | R51: =VLOOKUP(1,AB50:AL53,6,FALSE) & " - " & VLOOKUP(1,AB50:AL53,7,FALSE) -> 0 - 0 | S51: =O51*3+P51 -> 0 | U51: =DATE(2014,6,26)+TIME(5,0,0)+gmt_delta -> 41816.708 | V51: =IF(OR(F51="",G51=""),"",IF(F51>G51,E51&"_win",IF(F51<G51,E51&"_lose",E51&"_draw"))) | W51: =IF(V51="","",IF(F51<G51,H51&"_win",IF(F51>G51,H51&"_lose",H51&"_draw"))) | X51: =IF(V51="",0,IF(VLOOKUP(E51,$AC$8:$AL$53,7,FALSE)=VLOOKUP(H51,$AC$8:$AL$53,7,FALSE),1,0)) -> 0 | Y51: =X51*F51 -> 0 | Z51: =X51*G51 -> 0 | AB51: =COUNTIF(AO50:AO53,CONCATENATE(">=",AO51)) -> 3 | AC51: =INDEX(T,48,lang) -> Algeria | AD51: =COUNTIF($V$7:$W$54,"=" & AC51 & "_win") -> 0 | AE51: =COUNTIF($V$7:$W$54,"=" & AC51 & "_draw") -> 0 | AF51: =COUNTIF($V$7:$W$54,"=" & AC51 & "_lose") -> 0 | AG51: =SUMIF($E$7:$E$54,$AC51,$F$7:$F$54) + SUMIF($H$7:$H$54,$AC51,$G$7:$G$54) -> 0 | AH51: =SUMIF($E$7:$E$54,$AC51,$G$7:$G$54) + SUMIF($H$7:$H$54,$AC51,$F$7:$F$54) -> 0 | AI51: =(AG51-AH51)*100+AL51*10000+AG51 -> 0 | AJ51: =AG51-AH51 -> 0 | AK51: =(AJ51-AJ55)/AJ54 -> 0 | AL51: =AD51*3+AE51 -> 0 | AM51: =AQ51/AQ54*1000+AR51/AR54*100+AU51/AU54*10+AS51/AS54 -> 0 | AN51: =VLOOKUP(AC51,db_fifarank,2,FALSE)/2000000 -> 0.0003975 | AO51: =1000*AL51/AL54+100*AK51+10*AG51/AG54+1*AM51/AM54+AN51 -> 0.0003975 | AP51: =IF(SUM(AD50:AF53)=12,M52,INDEX(T,85,lang)) -> 2H | AQ51: =SUMPRODUCT(($V$7:$V$54=AC51&"_win")*($X$7:$X$54))+SUMPRODUCT(($W$7:$W$54=AC51&"_win")*($X$7:$X$54)) -> 0 | AR51: =SUMPRODUCT(($V$7:$V$54=AC51&"_draw")*($X$7:$X$54))+SUMPRODUCT(($W$7:$W$54=AC51&"_draw")*($X$7:$X$54)) -> 0 | AS51: =SUMPRODUCT(($E$7:$E$54=AC51)*($X$7:$X$54)*($F$7:$F$54))+SUMPRODUCT(($H$7:$H$54=AC51)*($X$7:$X$54)*($G$7:$G$54)) -> 0 | AT51: =SUMPRODUCT(($E$7:$E$54=AC51)*($X$7:$X$54)*($G$7:$G$54))+SUMPRODUCT(($H$7:$H$54=AC51)*($X$7:$X$54)*($F$7:$F$54)) -> 0 | AU51: =AS51-AT51 -> 0
A52: 46 | B52: =INDEX(T,18+INT(MOD(U52-1,7)),lang) -> Gio | C52: =INDEX(T,24+MONTH(U52),lang) & " " & DAY(U52) & ", " & YEAR(U52) -> Giu 26, 2014 | D52: =TIME(HOUR(U52),MINUTE(U52),0) -> 0.70833333 | E52: =AC45 -> Portogallo | H52: =AC46 -> Ghana | I52: =INDEX(T,104,lang) -> Brasilia | M52: =VLOOKUP(2,AB50:AL53,2,FALSE) -> Russia | N52: =O52+P52+Q52 -> 0 | O52: =VLOOKUP(2,AB50:AL53,3,FALSE) -> 0 | P52: =VLOOKUP(2,AB50:AL53,4,FALSE) -> 0 | Q52: =VLOOKUP(2,AB50:AL53,5,FALSE) -> 0 | R52: =VLOOKUP(2,AB50:AL53,6,FALSE) & " - " & VLOOKUP(2,AB50:AL53,7,FALSE) -> 0 - 0 | S52: =O52*3+P52 -> 0 | U52: =DATE(2014,6,26)+TIME(5,0,0)+gmt_delta -> 41816.708 | V52: =IF(OR(F52="",G52=""),"",IF(F52>G52,E52&"_win",IF(F52<G52,E52&"_lose",E52&"_draw"))) | W52: =IF(V52="","",IF(F52<G52,H52&"_win",IF(F52>G52,H52&"_lose",H52&"_draw"))) | X52: =IF(V52="",0,IF(VLOOKUP(E52,$AC$8:$AL$53,7,FALSE)=VLOOKUP(H52,$AC$8:$AL$53,7,FALSE),1,0)) -> 0 | Y52: =X52*F52 -> 0 | Z52: =X52*G52 -> 0 | AB52: =COUNTIF(AO50:AO53,CONCATENATE(">=",AO52)) -> 2 | AC52: =INDEX(T,49,lang) -> Russia | AD52: =COUNTIF($V$7:$W$54,"=" & AC52 & "_win") -> 0 | AE52: =COUNTIF($V$7:$W$54,"=" & AC52 & "_draw") -> 0 | AF52: =COUNTIF($V$7:$W$54,"=" & AC52 & "_lose") -> 0 | AG52: =SUMIF($E$7:$E$54,$AC52,$F$7:$F$54) + SUMIF($H$7:$H$54,$AC52,$G$7:$G$54) -> 0 | AH52: =SUMIF($E$7:$E$54,$AC52,$G$7:$G$54) + SUMIF($H$7:$H$54,$AC52,$F$7:$F$54) -> 0 | AI52: =(AG52-AH52)*100+AL52*10000+AG52 -> 0 | AJ52: =AG52-AH52 -> 0 | AK52: =(AJ52-AJ55)/AJ54 -> 0 | AL52: =AD52*3+AE52 -> 0 | AM52: =AQ52/AQ54*1000+AR52/AR54*100+AU52/AU54*10+AS52/AS54 -> 0 | AN52: =VLOOKUP(AC52,db_fifarank,2,FALSE)/2000000 -> 0.0004515 | AO52: =1000*AL52/AL54+100*AK52+10*AG52/AG54+1*AM52/AM54+AN52 -> 0.0004515 | AQ52: =SUMPRODUCT(($V$7:$V$54=AC52&"_win")*($X$7:$X$54))+SUMPRODUCT(($W$7:$W$54=AC52&"_win")*($X$7:$X$54)) -> 0 | AR52: =SUMPRODUCT(($V$7:$V$54=AC52&"_draw")*($X$7:$X$54))+SUMPRODUCT(($W$7:$W$54=AC52&"_draw")*($X$7:$X$54)) -> 0 | AS52: =SUMPRODUCT(($E$7:$E$54=AC52)*($X$7:$X$54)*($F$7:$F$54))+SUMPRODUCT(($H$7:$H$54=AC52)*($X$7:$X$54)*($G$7:$G$54)) -> 0 | AT52: =SUMPRODUCT(($E$7:$E$54=AC52)*($X$7:$X$54)*($G$7:$G$54))+SUMPRODUCT(($H$7:$H$54=AC52)*($X$7:$X$54)*($F$7:$F$54)) -> 0 | AU52: =AS52-AT52 -> 0
A53: 47 | B53: =INDEX(T,18+INT(MOD(U53-1,7)),lang) -> Gio | C53: =INDEX(T,24+MONTH(U53),lang) & " " & DAY(U53) & ", " & YEAR(U53) -> Giu 26, 2014 | D53: =TIME(HOUR(U53),MINUTE(U53),0) -> 0.875 | E53: =AC53 -> Corea del Sud | H53: =AC50 -> Belgio | I53: =INDEX(T,114,lang) -> Sao Paulo | M53: =VLOOKUP(3,AB50:AL53,2,FALSE) -> Algeria | N53: =O53+P53+Q53 -> 0 | O53: =VLOOKUP(3,AB50:AL53,3,FALSE) -> 0 | P53: =VLOOKUP(3,AB50:AL53,4,FALSE) -> 0 | Q53: =VLOOKUP(3,AB50:AL53,5,FALSE) -> 0 | R53: =VLOOKUP(3,AB50:AL53,6,FALSE) & " - " & VLOOKUP(3,AB50:AL53,7,FALSE) -> 0 - 0 | S53: =O53*3+P53 -> 0 | U53: =DATE(2014,6,26)+TIME(9,0,0)+gmt_delta -> 41816.875 | V53: =IF(OR(F53="",G53=""),"",IF(F53>G53,E53&"_win",IF(F53<G53,E53&"_lose",E53&"_draw"))) | W53: =IF(V53="","",IF(F53<G53,H53&"_win",IF(F53>G53,H53&"_lose",H53&"_draw"))) | X53: =IF(V53="",0,IF(VLOOKUP(E53,$AC$8:$AL$53,7,FALSE)=VLOOKUP(H53,$AC$8:$AL$53,7,FALSE),1,0)) -> 0 | Y53: =X53*F53 -> 0 | Z53: =X53*G53 -> 0 | AB53: =COUNTIF(AO50:AO53,CONCATENATE(">=",AO53)) -> 4 | AC53: =INDEX(T,44,lang) -> Corea del Sud | AD53: =COUNTIF($V$7:$W$54,"=" & AC53 & "_win") -> 0 | AE53: =COUNTIF($V$7:$W$54,"=" & AC53 & "_draw") -> 0 | AF53: =COUNTIF($V$7:$W$54,"=" & AC53 & "_lose") -> 0 | AG53: =SUMIF($E$7:$E$54,$AC53,$F$7:$F$54) + SUMIF($H$7:$H$54,$AC53,$G$7:$G$54) -> 0 | AH53: =SUMIF($E$7:$E$54,$AC53,$G$7:$G$54) + SUMIF($H$7:$H$54,$AC53,$F$7:$F$54) -> 0 | AI53: =(AG53-AH53)*100+AL53*10000+AG53 -> 0 | AJ53: =AG53-AH53 -> 0 | AK53: =(AJ53-AJ55)/AJ54 -> 0 | AL53: =AD53*3+AE53 -> 0 | AM53: =AQ53/AQ54*1000+AR53/AR54*100+AU53/AU54*10+AS53/AS54 -> 0 | AN53: =VLOOKUP(AC53,db_fifarank,2,FALSE)/2000000 -> 0.0002755 | AO53: =1000*AL53/AL54+100*AK53+10*AG53/AG54+1*AM53/AM54+AN53 -> 0.0002755 | AQ53: =SUMPRODUCT(($V$7:$V$54=AC53&"_win")*($X$7:$X$54))+SUMPRODUCT(($W$7:$W$54=AC53&"_win")*($X$7:$X$54)) -> 0 | AR53: =SUMPRODUCT(($V$7:$V$54=AC53&"_draw")*($X$7:$X$54))+SUMPRODUCT(($W$7:$W$54=AC53&"_draw")*($X$7:$X$54)) -> 0 | AS53: =SUMPRODUCT(($E$7:$E$54=AC53)*($X$7:$X$54)*($F$7:$F$54))+SUMPRODUCT(($H$7:$H$54=AC53)*($X$7:$X$54)*($G$7:$G$54)) -> 0 | AT53: =SUMPRODUCT(($E$7:$E$54=AC53)*($X$7:$X$54)*($G$7:$G$54))+SUMPRODUCT(($H$7:$H$54=AC53)*($X$7:$X$54)*($F$7:$F$54)) -> 0 | AU53: =AS53-AT53 -> 0
A54: 48 | B54: =INDEX(T,18+INT(MOD(U54-1,7)),lang) -> Gio | C54: =INDEX(T,24+MONTH(U54),lang) & " " & DAY(U54) & ", " & YEAR(U54) -> Giu 26, 2014 | D54: =TIME(HOUR(U54),MINUTE(U54),0) -> 0.875 | E54: =AC51 -> Algeria | H54: =AC52 -> Russia | I54: =INDEX(T,106,lang) -> Curitiba | M54: =VLOOKUP(4,AB50:AL53,2,FALSE) -> Corea del Sud | N54: =O54+P54+Q54 -> 0 | O54: =VLOOKUP(4,AB50:AL53,3,FALSE) -> 0 | P54: =VLOOKUP(4,AB50:AL53,4,FALSE) -> 0 | Q54: =VLOOKUP(4,AB50:AL53,5,FALSE) -> 0 | R54: =VLOOKUP(4,AB50:AL53,6,FALSE) & " - " & VLOOKUP(4,AB50:AL53,7,FALSE) -> 0 - 0 | S54: =O54*3+P54 -> 0 | U54: =DATE(2014,6,26)+TIME(9,0,0)+gmt_delta -> 41816.875 | V54: =IF(OR(F54="",G54=""),"",IF(F54>G54,E54&"_win",IF(F54<G54,E54&"_lose",E54&"_draw"))) | W54: =IF(V54="","",IF(F54<G54,H54&"_win",IF(F54>G54,H54&"_lose",H54&"_draw"))) | X54: =IF(V54="",0,IF(VLOOKUP(E54,$AC$8:$AL$53,7,FALSE)=VLOOKUP(H54,$AC$8:$AL$53,7,FALSE),1,0)) -> 0 | Y54: =X54*F54 -> 0 | Z54: =X54*G54 -> 0 | AD54: =MAX(AD50:AD53)-MIN(AD50:AD53)+1 -> 1 | AE54: =MAX(AE50:AE53)-MIN(AE50:AE53)+1 -> 1 | AF54: =MAX(AF50:AF53)-MIN(AF50:AF53)+1 -> 1 | AG54: =MAX(AG50:AG53)-MIN(AG50:AG53)+1 -> 1 | AH54: =MAX(AH50:AH53)-MIN(AH50:AH53)+1 -> 1 | AI54: =MAX(AI50:AI53)-AI55+1 -> 1 | AJ54: =MAX(AJ50:AJ53)-AJ55+1 -> 1 | AL54: =MAX(AL50:AL53)-MIN(AL50:AL53)+1 -> 1 | AM54: =MAX(AM50:AM53)-MIN(AM50:AM53)+1 -> 1 | AQ54: =MAX(AQ50:AQ53)-MIN(AQ50:AQ53)+1 -> 1 | AR54: =MAX(AR50:AR53)-MIN(AR50:AR53)+1 -> 1 | AS54: =MAX(AS50:AS53)-MIN(AS50:AS53)+1 -> 1 | AT54: =MAX(AT50:AT53)-MIN(AT50:AT53)+1 -> 1 | AU54: =MAX(AU50:AU53)-MIN(AU50:AU53)+1 -> 1
AI55: =MIN(AI50:AI53) -> 0 | AJ55: =MIN(AJ50:AJ53) -> 0
U58: =DATE(2014,6,28)+TIME(5,0,0)+gmt_delta -> 41818.708 | V58: =IF(OR(F61="",G61=""),"",IF(F61>G61,E61,IF(F61<G61,H61,IF(OR(J61="",K61=""),"draw",IF(J61>K61,E61,IF(J61<K61,H61,"draw")))))) | W58: =IF(OR(V58="",V58="draw"),INDEX(T,86,lang),V58) -> W49
A59: =INDEX(T,4,lang) -> Ottavi di finale | U59: =DATE(2014,6,28)+TIME(9,0,0)+gmt_delta -> 41818.875 | V59: =IF(OR(F62="",G62=""),"",IF(F62>G62,E62,IF(F62<G62,H62,IF(OR(J62="",K62=""),"draw",IF(J62>K62,E62,IF(J62<K62,H62,"draw")))))) | W59: =IF(OR(V59="",V59="draw"),INDEX(T,87,lang),V59) -> W50
U60: =DATE(2014,6,29)+TIME(5,0,0)+gmt_delta -> 41819.708 | V60: =IF(OR(F63="",G63=""),"",IF(F63>G63,E63,IF(F63<G63,H63,IF(OR(J63="",K63=""),"draw",IF(J63>K63,E63,IF(J63<K63,H63,"draw")))))) | W60: =IF(OR(V60="",V60="draw"),INDEX(T,88,lang),V60) -> W51
A61: 49 | B61: =INDEX(T,18+INT(MOD(U58-1,7)),lang) -> Sab | C61: =INDEX(T,24+MONTH(U58),lang) & " " & DAY(U58) & ", " & YEAR(U58) -> Giu 28, 2014 | D61: =TIME(HOUR(U58),MINUTE(U58),0) -> 0.70833333 | E61: =AP8 -> 1A | H61: =AP15 -> 2B | I61: =INDEX(T,103,lang) -> Belo Horizonte | U61: =DATE(2014,6,29)+TIME(9,0,0)+gmt_delta -> 41819.875 | V61: =IF(OR(F64="",G64=""),"",IF(F64>G64,E64,IF(F64<G64,H64,IF(OR(J64="",K64=""),"draw",IF(J64>K64,E64,IF(J64<K64,H64,"draw")))))) | W61: =IF(OR(V61="",V61="draw"),INDEX(T,89,lang),V61) -> W52
A62: 50 | B62: =INDEX(T,18+INT(MOD(U59-1,7)),lang) -> Sab | C62: =INDEX(T,24+MONTH(U59),lang) & " " & DAY(U59) & ", " & YEAR(U59) -> Giu 28, 2014 | D62: =TIME(HOUR(U59),MINUTE(U59),0) -> 0.875 | E62: =AP20 -> 1C | H62: =AP27 -> 2D | I62: =INDEX(T,112,lang) -> Rio De Janeiro | U62: =DATE(2014,6,30)+TIME(5,0,0)+gmt_delta -> 41820.708 | V62: =IF(OR(F65="",G65=""),"",IF(F65>G65,E65,IF(F65<G65,H65,IF(OR(J65="",K65=""),"draw",IF(J65>K65,E65,IF(J65<K65,H65,"draw")))))) | W62: =IF(OR(V62="",V62="draw"),INDEX(T,90,lang),V62) -> W53
A63: 51 | B63: =INDEX(T,18+INT(MOD(U60-1,7)),lang) -> Dom | C63: =INDEX(T,24+MONTH(U60),lang) & " " & DAY(U60) & ", " & YEAR(U60) -> Giu 29, 2014 | D63: =TIME(HOUR(U60),MINUTE(U60),0) -> 0.70833333 | E63: =AP14 -> 1B | H63: =AP9 -> 2A | I63: =INDEX(T,107,lang) -> Fortaleza | U63: =DATE(2014,6,30)+TIME(9,0,0)+gmt_delta -> 41820.875 | V63: =IF(OR(F66="",G66=""),"",IF(F66>G66,E66,IF(F66<G66,H66,IF(OR(J66="",K66=""),"draw",IF(J66>K66,E66,IF(J66<K66,H66,"draw")))))) | W63: =IF(OR(V63="",V63="draw"),INDEX(T,91,lang),V63) -> W54
A64: 52 | B64: =INDEX(T,18+INT(MOD(U61-1,7)),lang) -> Dom | C64: =INDEX(T,24+MONTH(U61),lang) & " " & DAY(U61) & ", " & YEAR(U61) -> Giu 29, 2014 | D64: =TIME(HOUR(U61),MINUTE(U61),0) -> 0.875 | E64: =AP26 -> 1D | H64: =AP21 -> 2C | I64: =INDEX(T,111,lang) -> Recife | U64: =DATE(2014,7,1)+TIME(5,0,0)+gmt_delta -> 41821.708 | V64: =IF(OR(F67="",G67=""),"",IF(F67>G67,E67,IF(F67<G67,H67,IF(OR(J67="",K67=""),"draw",IF(J67>K67,E67,IF(J67<K67,H67,"draw")))))) | W64: =IF(OR(V64="",V64="draw"),INDEX(T,92,lang),V64) -> W55
A65: 53 | B65: =INDEX(T,18+INT(MOD(U62-1,7)),lang) -> Lun | C65: =INDEX(T,24+MONTH(U62),lang) & " " & DAY(U62) & ", " & YEAR(U62) -> Giu 30, 2014 | D65: =TIME(HOUR(U62),MINUTE(U62),0) -> 0.70833333 | E65: =AP32 -> 1E | H65: =AP39 -> 2F | I65: =INDEX(T,104,lang) -> Brasilia | U65: =DATE(2014,7,1)+TIME(9,0,0)+gmt_delta -> 41821.875 | V65: =IF(OR(F68="",G68=""),"",IF(F68>G68,E68,IF(F68<G68,H68,IF(OR(J68="",K68=""),"draw",IF(J68>K68,E68,IF(J68<K68,H68,"draw")))))) | W65: =IF(OR(V65="",V65="draw"),INDEX(T,93,lang),V65) -> W56
A66: 54 | B66: =INDEX(T,18+INT(MOD(U63-1,7)),lang) -> Lun | C66: =INDEX(T,24+MONTH(U63),lang) & " " & DAY(U63) & ", " & YEAR(U63) -> Giu 30, 2014 | D66: =TIME(HOUR(U63),MINUTE(U63),0) -> 0.875 | E66: =AP44 -> 1G | H66: =AP51 -> 2H | I66: =INDEX(T,110,lang) -> Porto Alegre
A67: 55 | B67: =INDEX(T,18+INT(MOD(U64-1,7)),lang) -> Mar | C67: =INDEX(T,24+MONTH(U64),lang) & " " & DAY(U64) & ", " & YEAR(U64) -> Lug 1, 2014 | D67: =TIME(HOUR(U64),MINUTE(U64),0) -> 0.70833333 | E67: =AP38 -> 1F | H67: =AP33 -> 2E | I67: =INDEX(T,114,lang) -> Sao Paulo
A68: 56 | B68: =INDEX(T,18+INT(MOD(U65-1,7)),lang) -> Mar | C68: =INDEX(T,24+MONTH(U65),lang) & " " & DAY(U65) & ", " & YEAR(U65) -> Lug 1, 2014 | D68: =TIME(HOUR(U65),MINUTE(U65),0) -> 0.875 | E68: =AP50 -> 1H | H68: =AP45 -> 2G | I68: =INDEX(T,113,lang) -> Salvador
U69: =DATE(2014,7,4)+TIME(9,0,0)+gmt_delta -> 41824.875 | V69: =IF(OR(F72="",G72=""),"",IF(F72>G72,E72,IF(F72<G72,H72,IF(OR(J72="",K72=""),"draw",IF(J72>K72,E72,IF(J72<K72,H72,"draw")))))) | W69: =IF(OR(V69="",V69="draw"),INDEX(T,94,lang),V69) -> W57
A70: =INDEX(T,5,lang) -> Quarti di finale | U70: =DATE(2014,7,4)+TIME(5,0,0)+gmt_delta -> 41824.708 | V70: =IF(OR(F73="",G73=""),"",IF(F73>G73,E73,IF(F73<G73,H73,IF(OR(J73="",K73=""),"draw",IF(J73>K73,E73,IF(J73<K73,H73,"draw")))))) | W70: =IF(OR(V70="",V70="draw"),INDEX(T,95,lang),V70) -> W58
U71: =DATE(2014,7,5)+TIME(9,0,0)+gmt_delta -> 41825.875 | V71: =IF(OR(F74="",G74=""),"",IF(F74>G74,E74,IF(F74<G74,H74,IF(OR(J74="",K74=""),"draw",IF(J74>K74,E74,IF(J74<K74,H74,"draw")))))) | W71: =IF(OR(V71="",V71="draw"),INDEX(T,96,lang),V71) -> W59
A72: 57 | B72: =INDEX(T,18+INT(MOD(U69-1,7)),lang) -> Ven | C72: =INDEX(T,24+MONTH(U69),lang) & " " & DAY(U69) & ", " & YEAR(U69) -> Lug 4, 2014 | D72: =TIME(HOUR(U69),MINUTE(U69),0) -> 0.875 | E72: =W58 -> W49 | H72: =W59 -> W50 | I72: =INDEX(T,107,lang) -> Fortaleza | U72: =DATE(2014,7,5)+TIME(5,0,0)+gmt_delta -> 41825.708 | V72: =IF(OR(F75="",G75=""),"",IF(F75>G75,E75,IF(F75<G75,H75,IF(OR(J75="",K75=""),"draw",IF(J75>K75,E75,IF(J75<K75,H75,"draw")))))) | W72: =IF(OR(V72="",V72="draw"),INDEX(T,97,lang),V72) -> W60
A73: 58 | B73: =INDEX(T,18+INT(MOD(U70-1,7)),lang) -> Ven | C73: =INDEX(T,24+MONTH(U70),lang) & " " & DAY(U70) & ", " & YEAR(U70) -> Lug 4, 2014 | D73: =TIME(HOUR(U70),MINUTE(U70),0) -> 0.70833333 | E73: =W62 -> W53 | H73: =W63 -> W54 | I73: =INDEX(T,112,lang) -> Rio De Janeiro
A74: 59 | B74: =INDEX(T,18+INT(MOD(U71-1,7)),lang) -> Sab | C74: =INDEX(T,24+MONTH(U71),lang) & " " & DAY(U71) & ", " & YEAR(U71) -> Lug 5, 2014 | D74: =TIME(HOUR(U71),MINUTE(U71),0) -> 0.875 | E74: =W60 -> W51 | H74: =W61 -> W52 | I74: =INDEX(T,113,lang) -> Salvador
A75: 60 | B75: =INDEX(T,18+INT(MOD(U72-1,7)),lang) -> Sab | C75: =INDEX(T,24+MONTH(U72),lang) & " " & DAY(U72) & ", " & YEAR(U72) -> Lug 5, 2014 | D75: =TIME(HOUR(U72),MINUTE(U72),0) -> 0.70833333 | E75: =W64 -> W55 | H75: =W65 -> W56 | I75: =INDEX(T,104,lang) -> Brasilia
U76: =DATE(2014,7,8)+TIME(9,0,0)+gmt_delta -> 41828.875 | V76: =IF(OR(F79="",G79=""),"",IF(F79>G79,E79,IF(F79<G79,H79,IF(OR(J79="",K79=""),"draw",IF(J79>K79,E79,IF(J79<K79,H79,"draw")))))) | W76: =IF(OR(V76="",V76="draw"),INDEX(T,98,lang),V76) -> W61 | X76: =IF(OR(F79="",G79=""),"",IF(F79<G79,E79,IF(F79>G79,H79,IF(OR(J79="",K79=""),"draw",IF(J79<K79,E79,IF(J79>K79,H79,"draw")))))) | AA76: =IF(OR(X76="",X76="draw"),INDEX(T,100,lang),X76) -> L61
A77: =INDEX(T,6,lang) -> Semifinali | U77: =DATE(2014,7,9)+TIME(9,0,0)+gmt_delta -> 41829.875 | V77: =IF(OR(F80="",G80=""),"",IF(F80>G80,E80,IF(F80<G80,H80,IF(OR(J80="",K80=""),"draw",IF(J80>K80,E80,IF(J80<K80,H80,"draw")))))) | W77: =IF(OR(V77="",V77="draw"),INDEX(T,99,lang),V77) -> W62 | X77: =IF(OR(F80="",G80=""),"",IF(F80<G80,E80,IF(F80>G80,H80,IF(OR(J80="",K80=""),"draw",IF(J80<K80,E80,IF(J80>K80,H80,"draw")))))) | AA77: =IF(OR(X77="",X77="draw"),INDEX(T,101,lang),X77) -> L62
A79: 61 | B79: =INDEX(T,18+INT(MOD(U76-1,7)),lang) -> Mar | C79: =INDEX(T,24+MONTH(U76),lang) & " " & DAY(U76) & ", " & YEAR(U76) -> Lug 8, 2014 | D79: =TIME(HOUR(U76),MINUTE(U76),0) -> 0.875 | E79: =W69 -> W57 | H79: =W70 -> W58 | I79: =INDEX(T,103,lang) -> Belo Horizonte
A80: 62 | B80: =INDEX(T,18+INT(MOD(U77-1,7)),lang) -> Mer | C80: =INDEX(T,24+MONTH(U77),lang) & " " & DAY(U77) & ", " & YEAR(U77) -> Lug 9, 2014 | D80: =TIME(HOUR(U77),MINUTE(U77),0) -> 0.875 | E80: =W71 -> W59 | H80: =W72 -> W60 | I80: =INDEX(T,114,lang) -> Sao Paulo
U81: =DATE(2014,7,12)+TIME(9,0,0)+gmt_delta -> 41832.875 | W81: =IF(OR(F84="",G84=""),"",IF(F84>G84,E84,IF(F84<G84,H84,IF(OR(J84="",K84=""),"",IF(J84>K84,E84,IF(J84<K84,H84,""))))))
A82: =INDEX(T,7,lang) -> Finale 3°- 4° posto
A84: 63 | B84: =INDEX(T,18+INT(MOD(U81-1,7)),lang) -> Sab | C84: =INDEX(T,24+MONTH(U81),lang) & " " & DAY(U81) & ", " & YEAR(U81) -> Lug 12, 2014 | D84: =TIME(HOUR(U81),MINUTE(U81),0) -> 0.875 | E84: =AA76 -> L61 | H84: =AA77 -> L62 | I84: =INDEX(T,104,lang) -> Brasilia
U85: =DATE(2014,7,13)+TIME(8,0,0)+gmt_delta -> 41833.833 | V85: =IF(OR(F88="",G88=""),"",IF(F88>G88,E88,IF(F88<G88,H88,IF(OR(J88="",K88=""),"",IF(J88>K88,E88,IF(J88<K88,H88,"")))))) | W85: =V85
A86: =INDEX(T,8,lang) -> Finale
A88: 64 | B88: =INDEX(T,18+INT(MOD(U85-1,7)),lang) -> Dom | C88: =INDEX(T,24+MONTH(U85),lang) & " " & DAY(U85) & ", " & YEAR(U85) -> Lug 13, 2014 | D88: =TIME(HOUR(U85),MINUTE(U85),0) -> 0.83333333 | E88: =W76 -> W61 | H88: =W77 -> W62 | I88: =INDEX(T,112,lang) -> Rio De Janeiro
A90: =INDEX(T,102,lang) -> Coppa del Mondo 2014 | F90: =V85

Sheet Pronostici
H1: AirDemis | J1: PTS | K1: Tritaz | M1: PTS | N1: Basile | P1: PTS | Q1: Toroseduto | S1: PTS | T1: n-dru | V1: PTS
B2: Brasile | C2: =IF(('Coopa del Mondo 2014'!F7=""), "",'Coopa del Mondo 2014'!F7) -> 3 | D2: =IF(('Coopa del Mondo 2014'!G7=""), "",'Coopa del Mondo 2014'!G7) -> 1 | E2: Croazia | G2: =IF(ISBLANK('Coopa del Mondo 2014'!F7),0,1) -> 1 | H2: 4 | I2: 2 | J2: =IF($G2=1,(IF(AND($C2=$H2,$D2=$I2),3,(IF(AND($C2>$D2,$H2>$I2),1,(IF(AND($D2>$C2,$I2>$H2),1,(IF(AND($C2=$D2,$H2=$I2),1,0)))))))),"") -> 1 | K2: 2 | L2: 1 | M2: =IF($G2=1,(IF(AND($C2=$K2,$D2=$L2),3,(IF(AND($C2>$D2,$K2>$L2),1,(IF(AND($D2>$C2,$L2>$K2),1,(IF(AND($C2=$D2,$K2=$L2),1,0)))))))),"") -> 1 | N2: 2 | O2: 1 | P2: =IF($G2=1,(IF(AND($C2=$N2,$D2=$O2),3,(IF(AND($C2>$D2,$N2>$O2),1,(IF(AND($D2>$C2,$O2>$N2),1,(IF(AND($C2=$D2,$N2=$O2),1,0)))))))),"") -> 1 | Q2: 3 | R2: 1 | S2: =IF($G2=1,(IF(AND($C2=$Q2,$D2=$R2),3,(IF(AND($C2>$D2,$Q2>$R2),1,(IF(AND($D2>$C2,$R2>$Q2),1,(IF(AND($C2=$D2,$Q2=$R2),1,0)))))))),"") -> 3 | T2: 3 | U2: 1 | V2: =IF($G2=1,(IF(AND($C2=$T2,$D2=$U2),3,(IF(AND($C2>$D2,$T2>$U2),1,(IF(AND($D2>$C2,$U2>$T2),1,(IF(AND($C2=$D2,$T2=$U2),1,0)))))))),"") -> 3
B3: Messico | C3: =IF(('Coopa del Mondo 2014'!F8=""), "",'Coopa del Mondo 2014'!F8) -> 1 | D3: =IF(('Coopa del Mondo 2014'!G8=""), "",'Coopa del Mondo 2014'!G8) -> 0 | E3: Camerun | G3: =IF(ISBLANK('Coopa del Mondo 2014'!F8),0,1) -> 1 | H3: 2 | I3: 2 | J3: =IF($G3=1,(IF(AND($C3=$H3,$D3=$I3),3,(IF(AND($C3>$D3,$H3>$I3),1,(IF(AND($D3>$C3,$I3>$H3),1,(IF(AND($C3=$D3,$H3=$I3),1,0)))))))),"") -> 0 | K3: 3 | L3: 3 | M3: =IF($G3=1,(IF(AND($C3=$K3,$D3=$L3),3,(IF(AND($C3>$D3,$K3>$L3),1,(IF(AND($D3>$C3,$L3>$K3),1,(IF(AND($C3=$D3,$K3=$L3),1,0)))))))),"") -> 0 | N3: 0 | O3: 1 | P3: =IF($G3=1,(IF(AND($C3=$N3,$D3=$O3),3,(IF(AND($C3>$D3,$N3>$O3),1,(IF(AND($D3>$C3,$O3>$N3),1,(IF(AND($C3=$D3,$N3=$O3),1,0)))))))),"") -> 0 | Q3: 1 | R3: 2 | S3: =IF($G3=1,(IF(AND($C3=$Q3,$D3=$R3),3,(IF(AND($C3>$D3,$Q3>$R3),1,(IF(AND($D3>$C3,$R3>$Q3),1,(IF(AND($C3=$D3,$Q3=$R3),1,0)))))))),"") -> 0 | T3: 1 | U3: 0 | V3: =IF($G3=1,(IF(AND($C3=$T3,$D3=$U3),3,(IF(AND($C3>$D3,$T3>$U3),1,(IF(AND($D3>$C3,$U3>$T3),1,(IF(AND($C3=$D3,$T3=$U3),1,0)))))))),"") -> 3
B4: Spagna | C4: =IF(('Coopa del Mondo 2014'!F9=""), "",'Coopa del Mondo 2014'!F9) -> 1 | D4: =IF(('Coopa del Mondo 2014'!G9=""), "",'Coopa del Mondo 2014'!G9) -> 5 | E4: Paesi Bassi | G4: =IF(ISBLANK('Coopa del Mondo 2014'!F9),0,1) -> 1 | H4: 1 | I4: 0 | J4: =IF($G4=1,(IF(AND($C4=$H4,$D4=$I4),3,(IF(AND($C4>$D4,$H4>$I4),1,(IF(AND($D4>$C4,$I4>$H4),1,(IF(AND($C4=$D4,$H4=$I4),1,0)))))))),"") -> 0 | K4: 2 | L4: 0 | M4: =IF($G4=1,(IF(AND($C4=$K4,$D4=$L4),3,(IF(AND($C4>$D4,$K4>$L4),1,(IF(AND($D4>$C4,$L4>$K4),1,(IF(AND($C4=$D4,$K4=$L4),1,0)))))))),"") -> 0 | N4: 2 | O4: 0 | P4: =IF($G4=1,(IF(AND($C4=$N4,$D4=$O4),3,(IF(AND($C4>$D4,$N4>$O4),1,(IF(AND($D4>$C4,$O4>$N4),1,(IF(AND($C4=$D4,$N4=$O4),1,0)))))))),"") -> 0 | Q4: 1 | R4: 1 | S4: =IF($G4=1,(IF(AND($C4=$Q4,$D4=$R4),3,(IF(AND($C4>$D4,$Q4>$R4),1,(IF(AND($D4>$C4,$R4>$Q4),1,(IF(AND($C4=$D4,$Q4=$R4),1,0)))))))),"") -> 0 | T4: 1 | U4: 1 | V4: =IF($G4=1,(IF(AND($C4=$T4,$D4=$U4),3,(IF(AND($C4>$D4,$T4>$U4),1,(IF(AND($D4>$C4,$U4>$T4),1,(IF(AND($C4=$D4,$T4=$U4),1,0)))))))),"") -> 0
B5: Cile | C5: =IF(('Coopa del Mondo 2014'!F10=""), "",'Coopa del Mondo 2014'!F10) -> 3 | D5: =IF(('Coopa del Mondo 2014'!G10=""), "",'Coopa del Mondo 2014'!G10) -> 1 | E5: Australia | G5: =IF(ISBLANK('Coopa del Mondo 2014'!F10),0,1) -> 1 | H5: 3 | I5: 3 | J5: =IF($G5=1,(IF(AND($C5=$H5,$D5=$I5),3,(IF(AND($C5>$D5,$H5>$I5),1,(IF(AND($D5>$C5,$I5>$H5),1,(IF(AND($C5=$D5,$H5=$I5),1,0)))))))),"") -> 0 | K5: 0 | L5: 0 | M5: =IF($G5=1,(IF(AND($C5=$K5,$D5=$L5),3,(IF(AND($C5>$D5,$K5>$L5),1,(IF(AND($D5>$C5,$L5>$K5),1,(IF(AND($C5=$D5,$K5=$L5),1,0)))))))),"") -> 0 | N5: 1 | O5: 1 | P5: =IF($G5=1,(IF(AND($C5=$N5,$D5=$O5),3,(IF(AND($C5>$D5,$N5>$O5),1,(IF(AND($D5>$C5,$O5>$N5),1,(IF(AND($C5=$D5,$N5=$O5),1,0)))))))),"") -> 0 | Q5: 3 | R5: 0 | S5: =IF($G5=1,(IF(AND($C5=$Q5,$D5=$R5),3,(IF(AND($C5>$D5,$Q5>$R5),1,(IF(AND($D5>$C5,$R5>$Q5),1,(IF(AND($C5=$D5,$Q5=$R5),1,0)))))))),"") -> 1 | T5: 1 | U5: 0 | V5: =IF($G5=1,(IF(AND($C5=$T5,$D5=$U5),3,(IF(AND($C5>$D5,$T5>$U5),1,(IF(AND($D5>$C5,$U5>$T5),1,(IF(AND($C5=$D5,$T5=$U5),1,0)))))))),"") -> 1
B6: Colombia | C6: =IF(('Coopa del Mondo 2014'!F11=""), "",'Coopa del Mondo 2014'!F11) -> 3 | D6: =IF(('Coopa del Mondo 2014'!G11=""), "",'Coopa del Mondo 2014'!G11) -> 0 | E6: Grecia | G6: =IF(ISBLANK('Coopa del Mondo 2014'!F11),0,1) -> 1 | H6: 1 | I6: 2 | J6: =IF($G6=1,(IF(AND($C6=$H6,$D6=$I6),3,(IF(AND($C6>$D6,$H6>$I6),1,(IF(AND($D6>$C6,$I6>$H6),1,(IF(AND($C6=$D6,$H6=$I6),1,0)))))))),"") -> 0 | K6: 0 | L6: 0 | M6: =IF($G6=1,(IF(AND($C6=$K6,$D6=$L6),3,(IF(AND($C6>$D6,$K6>$L6),1,(IF(AND($D6>$C6,$L6>$K6),1,(IF(AND($C6=$D6,$K6=$L6),1,0)))))))),"") -> 0 | N6: 0 | O6: 1 | P6: =IF($G6=1,(IF(AND($C6=$N6,$D6=$O6),3,(IF(AND($C6>$D6,$N6>$O6),1,(IF(AND($D6>$C6,$O6>$N6),1,(IF(AND($C6=$D6,$N6=$O6),1,0)))))))),"") -> 0 | Q6: 0 | R6: 0 | S6: =IF($G6=1,(IF(AND($C6=$Q6,$D6=$R6),3,(IF(AND($C6>$D6,$Q6>$R6),1,(IF(AND($D6>$C6,$R6>$Q6),1,(IF(AND($C6=$D6,$Q6=$R6),1,0)))))))),"") -> 0 | T6: 2 | U6: 0 | V6: =IF($G6=1,(IF(AND($C6=$T6,$D6=$U6),3,(IF(AND($C6>$D6,$T6>$U6),1,(IF(AND($D6>$C6,$U6>$T6),1,(IF(AND($C6=$D6,$T6=$U6),1,0)))))))),"") -> 1
B7: Costa d' Avorio | C7: =IF(('Coopa del Mondo 2014'!F12=""), "",'Coopa del Mondo 2014'!F12) -> 2 | D7: =IF(('Coopa del Mondo 2014'!G12=""), "",'Coopa del Mondo 2014'!G12) -> 1 | E7: Giappone | G7: =IF(ISBLANK('Coopa del Mondo 2014'!F12),0,1) -> 1 | H7: 1 | I7: 1 | J7: =IF($G7=1,(IF(AND($C7=$H7,$D7=$I7),3,(IF(AND($C7>$D7,$H7>$I7),1,(IF(AND($D7>$C7,$I7>$H7),1,(IF(AND($C7=$D7,$H7=$I7),1,0)))))))),"") -> 0 | K7: 0 | L7: 2 | M7: =IF($G7=1,(IF(AND($C7=$K7,$D7=$L7),3,(IF(AND($C7>$D7,$K7>$L7),1,(IF(AND($D7>$C7,$L7>$K7),1,(IF(AND($C7=$D7,$K7=$L7),1,0)))))))),"") -> 0 | N7: 0 | O7: 1 | P7: =IF($G7=1,(IF(AND($C7=$N7,$D7=$O7),3,(IF(AND($C7>$D7,$N7>$O7),1,(IF(AND($D7>$C7,$O7>$N7),1,(IF(AND($C7=$D7,$N7=$O7),1,0)))))))),"") -> 0 | Q7: 3 | R7: 1 | S7: =IF($G7=1,(IF(AND($C7=$Q7,$D7=$R7),3,(IF(AND($C7>$D7,$Q7>$R7),1,(IF(AND($D7>$C7,$R7>$Q7),1,(IF(AND($C7=$D7,$Q7=$R7),1,0)))))))),"") -> 1 | T7: 0 | U7: 2 | V7: =IF($G7=1,(IF(AND($C7=$T7,$D7=$U7),3,(IF(AND($C7>$D7,$T7>$U7),1,(IF(AND($D7>$C7,$U7>$T7),1,(IF(AND($C7=$D7,$T7=$U7),1,0)))))))),"") -> 0
B8: Uruguay | C8: =IF(('Coopa del Mondo 2014'!F13=""), "",'Coopa del Mondo 2014'!F13) -> 1 | D8: =IF(('Coopa del Mondo 2014'!G13=""), "",'Coopa del Mondo 2014'!G13) -> 3 | E8: Costarica | G8: =IF(ISBLANK('Coopa del Mondo 2014'!F13),0,1) -> 1 | H8: 0 | I8: 0 | J8: =IF($G8=1,(IF(AND($C8=$H8,$D8=$I8),3,(IF(AND($C8>$D8,$H8>$I8),1,(IF(AND($D8>$C8,$I8>$H8),1,(IF(AND($C8=$D8,$H8=$I8),1,0)))))))),"") -> 0 | K8: 4 | L8: 0 | M8: =IF($G8=1,(IF(AND($C8=$K8,$D8=$L8),3,(IF(AND($C8>$D8,$K8>$L8),1,(IF(AND($D8>$C8,$L8>$K8),1,(IF(AND($C8=$D8,$K8=$L8),1,0)))))))),"") -> 0 | N8: 2 | O8: 1 | P8: =IF($G8=1,(IF(AND($C8=$N8,$D8=$O8),3,(IF(AND($C8>$D8,$N8>$O8),1,(IF(AND($D8>$C8,$O8>$N8),1,(IF(AND($C8=$D8,$N8=$O8),1,0)))))))),"") -> 0 | Q8: 2 | R8: 1 | S8: =IF($G8=1,(IF(AND($C8=$Q8,$D8=$R8),3,(IF(AND($C8>$D8,$Q8>$R8),1,(IF(AND($D8>$C8,$R8>$Q8),1,(IF(AND($C8=$D8,$Q8=$R8),1,0)))))))),"") -> 0 | T8: 1 | U8: 0 | V8: =IF($G8=1,(IF(AND($C8=$T8,$D8=$U8),3,(IF(AND($C8>$D8,$T8>$U8),1,(IF(AND($D8>$C8,$U8>$T8),1,(IF(AND($C8=$D8,$T8=$U8),1,0)))))))),"") -> 0
B9: Inghilterra | C9: =IF(('Coopa del Mondo 2014'!F14=""), "",'Coopa del Mondo 2014'!F14) -> 1 | D9: =IF(('Coopa del Mondo 2014'!G14=""), "",'Coopa del Mondo 2014'!G14) -> 2 | E9: Italia | G9: =IF(ISBLANK('Coopa del Mondo 2014'!F14),0,1) -> 1 | H9: 2 | I9: 1 | J9: =IF($G9=1,(IF(AND($C9=$H9,$D9=$I9),3,(IF(AND($C9>$D9,$H9>$I9),1,(IF(AND($D9>$C9,$I9>$H9),1,(IF(AND($C9=$D9,$H9=$I9),1,0)))))))),"") -> 0 | K9: 0 | L9: 0 | M9: =IF($G9=1,(IF(AND($C9=$K9,$D9=$L9),3,(IF(AND($C9>$D9,$K9>$L9),1,(IF(AND($D9>$C9,$L9>$K9),1,(IF(AND($C9=$D9,$K9=$L9),1,0)))))))),"") -> 0 | N9: 1 | O9: 1 | P9: =IF($G9=1,(IF(AND($C9=$N9,$D9=$O9),3,(IF(AND($C9>$D9,$N9>$O9),1,(IF(AND($D9>$C9,$O9>$N9),1,(IF(AND($C9=$D9,$N9=$O9),1,0)))))))),"") -> 0 | Q9: 0 | R9: 2 | S9: =IF($G9=1,(IF(AND($C9=$Q9,$D9=$R9),3,(IF(AND($C9>$D9,$Q9>$R9),1,(IF(AND($D9>$C9,$R9>$Q9),1,(IF(AND($C9=$D9,$Q9=$R9),1,0)))))))),"") -> 1 | T9: 1 | U9: 1 | V9: =IF($G9=1,(IF(AND($C9=$T9,$D9=$U9),3,(IF(AND($C9>$D9,$T9>$U9),1,(IF(AND($D9>$C9,$U9>$T9),1,(IF(AND($C9=$D9,$T9=$U9),1,0)))))))),"") -> 0
B10: Svizzera | C10: =IF(('Coopa del Mondo 2014'!F15=""), "",'Coopa del Mondo 2014'!F15) -> 2 | D10: =IF(('Coopa del Mondo 2014'!G15=""), "",'Coopa del Mondo 2014'!G15) -> 1 | E10: Ecuador | G10: =IF(ISBLANK('Coopa del Mondo 2014'!F15),0,1) -> 1 | H10: 0 | I10: 0 | J10: =IF($G10=1,(IF(AND($C10=$H10,$D10=$I10),3,(IF(AND($C10>$D10,$H10>$I10),1,(IF(AND($D10>$C10,$I10>$H10),1,(IF(AND($C10=$D10,$H10=$I10),1,0)))))))),"") -> 0 | K10: 1 | L10: 0 | M10: =IF($G10=1,(IF(AND($C10=$K10,$D10=$L10),3,(IF(AND($C10>$D10,$K10>$L10),1,(IF(AND($D10>$C10,$L10>$K10),1,(IF(AND($C10=$D10,$K10=$L10),1,0)))))))),"") -> 1 | N10: 2 | O10: 1 | P10: =IF($G10=1,(IF(AND($C10=$N10,$D10=$O10),3,(IF(AND($C10>$D10,$N10>$O10),1,(IF(AND($D10>$C10,$O10>$N10),1,(IF(AND($C10=$D10,$N10=$O10),1,0)))))))),"") -> 3 | Q10: 0 | R10: 3 | S10: =IF($G10=1,(IF(AND($C10=$Q10,$D10=$R10),3,(IF(AND($C10>$D10,$Q10>$R10),1,(IF(AND($D10>$C10,$R10>$Q10),1,(IF(AND($C10=$D10,$Q10=$R10),1,0)))))))),"") -> 0 | T10: 0 | U10: 0 | V10: =IF($G10=1,(IF(AND($C10=$T10,$D10=$U10),3,(IF(AND($C10>$D10,$T10>$U10),1,(IF(AND($D10>$C10,$U10>$T10),1,(IF(AND($C10=$D10,$T10=$U10),1,0)))))))),"") -> 0
B11: Francia | C11: =IF(('Coopa del Mondo 2014'!F16=""), "",'Coopa del Mondo 2014'!F16) -> 3 | D11: =IF(('Coopa del Mondo 2014'!G16=""), "",'Coopa del Mondo 2014'!G16) -> 0 | E11: Honduras | G11: =IF(ISBLANK('Coopa del Mondo 2014'!F16),0,1) -> 1 | H11: 3 | I11: 0 | J11: =IF($G11=1,(IF(AND($C11=$H11,$D11=$I11),3,(IF(AND($C11>$D11,$H11>$I11),1,(IF(AND($D11>$C11,$I11>$H11),1,(IF(AND($C11=$D11,$H11=$I11),1,0)))))))),"") -> 3 | K11: 1 | L11: 0 | M11: =IF($G11=1,(IF(AND($C11=$K11,$D11=$L11),3,(IF(AND($C11>$D11,$K11>$L11),1,(IF(AND($D11>$C11,$L11>$K11),1,(IF(AND($C11=$D11,$K11=$L11),1,0)))))))),"") -> 1 | N11: 2 | O11: 1 | P11: =IF($G11=1,(IF(AND($C11=$N11,$D11=$O11),3,(IF(AND($C11>$D11,$N11>$O11),1,(IF(AND($D11>$C11,$O11>$N11),1,(IF(AND($C11=$D11,$N11=$O11),1,0)))))))),"") -> 1 | Q11: 2 | R11: 2 | S11: =IF($G11=1,(IF(AND($C11=$Q11,$D11=$R11),3,(IF(AND($C11>$D11,$Q11>$R11),1,(IF(AND($D11>$C11,$R11>$Q11),1,(IF(AND($C11=$D11,$Q11=$R11),1,0)))))))),"") -> 0 | T11: 2 | U11: 0 | V11: =IF($G11=1,(IF(AND($C11=$T11,$D11=$U11),3,(IF(AND($C11>$D11,$T11>$U11),1,(IF(AND($D11>$C11,$U11>$T11),1,(IF(AND($C11=$D11,$T11=$U11),1,0)))))))),"") -> 1
B12: Argentina | C12: =IF(('Coopa del Mondo 2014'!F17=""), "",'Coopa del Mondo 2014'!F17) -> 2 | D12: =IF(('Coopa del Mondo 2014'!G17=""), "",'Coopa del Mondo 2014'!G17) -> 1 | E12: Bosnia - Erzegovina | G12: =IF(ISBLANK('Coopa del Mondo 2014'!F17),0,1) -> 1 | H12: 3 | I12: 1 | J12: =IF($G12=1,(IF(AND($C12=$H12,$D12=$I12),3,(IF(AND($C12>$D12,$H12>$I12),1,(IF(AND($D12>$C12,$I12>$H12),1,(IF(AND($C12=$D12,$H12=$I12),1,0)))))))),"") -> 1 | K12: 2 | L12: 1 | M12: =IF($G12=1,(IF(AND($C12=$K12,$D12=$L12),3,(IF(AND($C12>$D12,$K12>$L12),1,(IF(AND($D12>$C12,$L12>$K12),1,(IF(AND($C12=$D12,$K12=$L12),1,0)))))))),"") -> 3 | N12: 2 | O12: 0 | P12: =IF($G12=1,(IF(AND($C12=$N12,$D12=$O12),3,(IF(AND($C12>$D12,$N12>$O12),1,(IF(AND($D12>$C12,$O12>$N12),1,(IF(AND($C12=$D12,$N12=$O12),1,0)))))))),"") -> 1 | Q12: 3 | R12: 1 | S12: =IF($G12=1,(IF(AND($C12=$Q12,$D12=$R12),3,(IF(AND($C12>$D12,$Q12>$R12),1,(IF(AND($D12>$C12,$R12>$Q12),1,(IF(AND($C12=$D12,$Q12=$R12),1,0)))))))),"") -> 1 | T12: 1 | U12: 0 | V12: =IF($G12=1,(IF(AND($C12=$T12,$D12=$U12),3,(IF(AND($C12>$D12,$T12>$U12),1,(IF(AND($D12>$C12,$U12>$T12),1,(IF(AND($C12=$D12,$T12=$U12),1,0)))))))),"") -> 1
B13: Germania | C13: =IF(('Coopa del Mondo 2014'!F18=""), "",'Coopa del Mondo 2014'!F18) -> 4 | D13: =IF(('Coopa del Mondo 2014'!G18=""), "",'Coopa del Mondo 2014'!G18) -> 0 | E13: Portogallo | G13: =IF(ISBLANK('Coopa del Mondo 2014'!F18),0,1) -> 1 | H13: 2 | I13: 1 | J13: =IF($G13=1,(IF(AND($C13=$H13,$D13=$I13),3,(IF(AND($C13>$D13,$H13>$I13),1,(IF(AND($D13>$C13,$I13>$H13),1,(IF(AND($C13=$D13,$H13=$I13),1,0)))))))),"") -> 1 | K13: 1 | L13: 1 | M13: =IF($G13=1,(IF(AND($C13=$K13,$D13=$L13),3,(IF(AND($C13>$D13,$K13>$L13),1,(IF(AND($D13>$C13,$L13>$K13),1,(IF(AND($C13=$D13,$K13=$L13),1,0)))))))),"") -> 0 | N13: 1 | O13: 0 | P13: =IF($G13=1,(IF(AND($C13=$N13,$D13=$O13),3,(IF(AND($C13>$D13,$N13>$O13),1,(IF(AND($D13>$C13,$O13>$N13),1,(IF(AND($C13=$D13,$N13=$O13),1,0)))))))),"") -> 1 | Q13: 2 | R13: 1 | S13: =IF($G13=1,(IF(AND($C13=$Q13,$D13=$R13),3,(IF(AND($C13>$D13,$Q13>$R13),1,(IF(AND($D13>$C13,$R13>$Q13),1,(IF(AND($C13=$D13,$Q13=$R13),1,0)))))))),"") -> 1 | T13: 2 | U13: 0 | V13: =IF($G13=1,(IF(AND($C13=$T13,$D13=$U13),3,(IF(AND($C13>$D13,$T13>$U13),1,(IF(AND($D13>$C13,$U13>$T13),1,(IF(AND($C13=$D13,$T13=$U13),1,0)))))))),"") -> 1
... B49: Algeria | C49: =IF(('Coopa del Mondo 2014'!F54=""), "",'Coopa del Mondo 2014'!F54) | D49: =IF(('Coopa del Mondo 2014'!G54=""), "",'Coopa del Mondo 2014'!G54) | E49: Russia | G49: =IF(ISBLANK('Coopa del Mondo 2014'!F54),0,1) -> 0 | H49: 1 | I49: 3 | J49: =IF($G49=1,(IF(AND($C49=$H49,$D49=$I49),3,(IF(AND($C49>$D49,$H49>$I49),1,(IF(AND($D49>$C49,$I49>$H49),1,(IF(AND($C49=$D49,$H49=$I49),1,0)))))))),"") | K49: 0 | L49: 0 | M49: =IF($G49=1,(IF(AND($C49=$K49,$D49=$L49),3,(IF(AND($C49>$D49,$K49>$L49),1,(IF(AND($D49>$C49,$L49>$K49),1,(IF(AND($C49=$D49,$K49=$L49),1,0)))))))),"") | N49: 1 | O49: 1 | P49: =IF($G49=1,(IF(AND($C49=$N49,$D49=$O49),3,(IF(AND($C49>$D49,$N49>$O49),1,(IF(AND($D49>$C49,$O49>$N49),1,(IF(AND($C49=$D49,$N49=$O49),1,0)))))))),"") | Q49: 2 | R49: 2 | S49: =IF($G49=1,(IF(AND($C49=$Q49,$D49=$R49),3,(IF(AND($C49>$D49,$Q49>$R49),1,(IF(AND($D49>$C49,$R49>$Q49),1,(IF(AND($C49=$D49,$Q49=$R49),1,0)))))))),"") | T49: 1 | U49: 3 | V49: =IF($G49=1,(IF(AND($C49=$T49,$D49=$U49),3,(IF(AND($C49>$D49,$T49>$U49),1,(IF(AND($D49>$C49,$U49>$T49),1,(IF(AND($C49=$D49,$T49=$U49),1,0)))))))),"")
E51: Total | J51: =SUM(J2:J49) -> 7 | M51: =SUM(M2:M49) -> 7 | P51: =SUM(P2:P49) -> 7 | S51: =SUM(S2:S49) -> 8 | V51: =SUM(V2:V49) -> 12

Sheet Classifica
B1: =Pronostici!T1 -> n-dru | C1: =Pronostici!V51 -> 12
B2: =Pronostici!Q1 -> Toroseduto | C2: =Pronostici!S51 -> 8
B3: =Pronostici!H1 -> AirDemis | C3: =Pronostici!J51 -> 7
B4: =Pronostici!N1 -> Basile | C4: =Pronostici!P51 -> 7
B5: =Pronostici!K1 -> Tritaz | C5: =Pronostici!M51 -> 7
