Workbook
Name db_fifarank: Settings!$B$15:$C$46
Name gmt_delta: Settings!$G$14
Name itype: Settings!$G$46
Name lang: Settings!$G$13
Name lang_list: T!$1:$1
Name T: T!$1:$1048576

Sheet T
A1: English | B1: Albanian | C1: Arabic | D1: Armenian | E1: Azerbaijan | F1: Bulgarian | G1: Català | H1: Chinese (Simplified) | I1: Chinese (Traditional) | J1: Croatian | K1: Czech | L1: Danish | M1: Dutch | N1: French | O1: Georgian | P1: German | Q1: Greek | R1: Hebrew | S1: Hungarian | T1: Indonesia | U1: Icelandic | V1: Italian | W1: Korean | X1: Lithuanian | Y1: Macedonian | Z1: Maltese | AA1: Norwegian | AB1: Persian | AC1: Polish | AD1: Portuguese | AE1: Romanian | AF1: Russian | AG1: Serbian | AH1: Slovak | AI1: Slovenian | AJ1: Spanish | AK1: Swedish | AL1: Thai | AM1: Turkish | AN1: Vietnamese | AO1: Ukrainian | AP1: Urdu
A2: 2014 World Cup Final Tournament Schedule | B2: Kupa Botërore 2014 | C2: جدول مباريات كأس العالم 2014 | D2: Աշխարհի 2014թ. առաջնություն | E2: 2014 - cu il Dünya Çempionatinin Final Mərhələsinin Cədvəli | F2: График на срещите - Световно първенство 2014 | G2: Calendari de la Fase Final de la Copa del Món de futbol 2014 | H2: 2014南非世界杯决赛阶段赛程 | I2: 2014 世界盃賽程 | J2: Svjetsko prvenstvo 2014 raspored utakmica | K2: Mistrovství světa ve fotbale 2014 | L2: 2014 Verdensmesterskabs Oversigt | M2: Wereldkampioenschap 2014 Toernooischema | N2: Coupe du Monde de la FIFA 2014 - Calendrier des matchs | O2: მსოფლიო ჩემპიონატი ფეხბურთში - სამხრეთ აფრიკა 2014 | P2: Spielplan Weltmeisterschafts endrunde 2014 | Q2: Πρόγραμμα Τελικών Παγκοσμίου Κυπέλλου 2014 | R2: 2014 גביע העולם טורניר הגמר תזמן | S2: 2014 Labdarúgó-világbajnokság döntő sorozata | T2: Jadwal Turnamen Final Piala Dunia 2014 | U2: HM 2014 lokakeppnin | V2: Calendario Coppa del mondo 2014 | W2: 2014 월드컵 최종 토너먼트 일정 | X2: 2014 Pasaulio Futbolo Čempionato Tvarkaraštis | Y2: Светски првенство 2014 - Распоред на натпревари | Z2: Skeda tat-Tazza tad-Dinja 2014 | AA2: Verdensmesterskapet i fotball 2014 | AB2: جدول مسابقات فینال جام جهانی 2014 | AC2: 2014 Mistrzostwa Świata Terminarz Meczy | AD2: Calendário Fase Final Mundial 2014 | AE2: Programul Turneului Final FIFA World Cup 2014 | AF2: Расписание Игр Финальной Стадии Чемпионата Мира по Футболу 2014 | AG2: Svetsko prvenstvo u fudbalu 2014 - Raspored utakmica | AH2: Majstrovstvá sveta vo futbale 2014 | AI2: Svetovno prvenstvo 2014 razpored tekem | AJ2: Copa Mundial de Fútbol - Brasil 2014 | AK2: Schema för VM-slutspelet 2014 | AL2: ตารางการแข่งขันฟุตบอลโลก 2014 | AM2: 2014 Dünya Kupası Finalleri Turnuva Fikstürü | AN2: Lịch Thi Đấu Cúp Bóng Đá Thế Giới 2014 | AO2: Календар Чемпіонату Світу 2014 | AP2: ۲۰۱۰ فٹبال عالمی کپ ٹورنمنٹ کا خاکہ
A3: Group Stage | B3: Grupet | C3: الدور الأول | D3: Խմբային փուլ | E3: Qrup Mərhələsi | F3: Групова фаза | G3: Fase de grups | H3: 小组赛阶段 | I3: 分組賽 | J3: Prvi krug | K3: Základní skupiny | L3: Gruppespil | M3: Groepsfase | N3: Phase de groupes | O3: ჯგუფური ეტაპი | P3: Gruppenphase | Q3: Φάση Ομίλων | R3: שלב הבתים | S3: Csoportkörök | T3: Babak Kualifikasi | U3: Riðlakeppnin | V3: Fase a gironi | W3: 조별 리그 | X3: Grupės Etapas | Y3: Фаза по групи | Z3: Fażi tal-Gruppi | AA3: Gruppespill | AB3: مرحله گروهی | AC3: Faza Grupowa | AD3: Fase de grupos | AE3: Faza Grupelor | AF3: Групповой Раунд | AG3: Grupno takmičenje | AH3: Skupinová fáza | AI3: Skupinski del | AJ3: Fase de grupos | AK3: Gruppspel | AL3: รอบแรก | AM3: Grup Aşaması | AN3: Vòng Bảng | AO3: Груповий етап | AP3: گروپ بندی
A4: Round of 16 | B4: Rundi I 16 | C4: دور الستة عشر | D4: 1/8 Եզրափակիչ | E4: 16-da bir raund | F4: 1/8 - финали | G4: Vuitens de final | H4: 16强赛 | I4: 十六強 | J4: Drugi krug | K4: Osmifinále | L4: Runde af 16 | M4: Achtste finales | N4: Huitièmes de finale | O4: მერვედფინალი | P4: Achtelfinale | Q4: Φάση των 16 | R4: שמינית גמר | S4: Nyolcaddöntők | T4: Per Delapan Final | U4: 16 liða úrslit | V4: Ottavi di finale | W4: 16강전 | X4: 16-tuko Raundas | Y4: 1/8 финале | Z4: L-Aħħar Sittax | AA4: 8-dels finale | AB4: یک هشتم نهائی | AC4: 1/8 Finału | AD4: Oitavos de Final | AE4: Optimi | AF4: 1/8 Финала | AG4: Šesnaestina finala | AH4: Osemfinále | AI4: Osminafinala | AJ4: Octavos de final | AK4: Åttondelsfinal | AL4: รอบสอง | AM4: Son 16 | AN4: Vòng 1/16 | AO4: 1/8 фіналу | AP4: سولھواں دور
A5: Quarterfinals | B5: Qerekfinalja | C5: دور الربع نهائي | D5: 1/4 Եզրափակիչ | E5: Dörddə bir Final | F5: 1/4 - финали | G5: Quarts de final | H5: 8强赛 | I5: 八強 | J5: Četvrtfinale | K5: Čtvrtfinále | L5: Kvartfinale | M5: Kwartfinales | N5: Quart de Finale | O5: მეოთხედფინალი | P5: Viertelfinale | Q5: Προημιτελικοί | R5: רבע גמר | S5: Negyeddöntők | T5: Perempat Final | U5: 8 liða úrslit | V5: Quarti di finale | W5: 8강전 | X5: Ketvirtfinaliai | Y5: 1/4 финале | Z5: Kwarti-Finali | AA5: Kvartfinale | AB5: یک چهارم نهائی | AC5: Ćwierćfinały | AD5: Quartos de Final | AE5: Sferturi de finala | AF5: Четвертьфиналы | AG5: Četvrtfinale | AH5: Štvrťfinále | AI5: Četrtfinale | AJ5: Cuartos de Final | AK5: Kvartsfinal | AL5: รอบก่อนรองชนะเลิศ | AM5: Çeyrek Final | AN5: Tứ kết | AO5: Чвертьфінал | AP5: کواٹر فائنل
A6: Semi-Finals | B6: Gjysmëfinalja | C6: دور النصف نهائي | D6: Կիսաեզրափակիչ | E6: Yarım Final | F6: 1/2 - финали | G6: Semifinals | H6: 半决赛 | I6: 準決賽 | J6: Polufinale | K6: Semifinále | L6: Semifinale | M6: Halve finales | N6: Demi-Finale | O6: ნახევარფინალი | P6: Halbfinale | Q6: Ημιτελικοί | R6: חצי גמר | S6: Elődöntők | T6: Semi Final | U6: Undanúrslit | V6: Semifinali | W6: 준결승전 | X6: Pusfinaliai | Y6: 1/2 финале | Z6: Semi-Finali | AA6: Semifinale | AB6: نیمه نهائی | AC6: Półfinały | AD6: Semi-final | AE6: Semifinale | AF6: Полуфиналы | AG6: Polufinale | AH6: Semifinále | AI6: Polfinale | AJ6: Semifinales | AK6: Semifinal | AL6: รอบรองชนะเลิศ | AM6: Yarı Final | AN6: Bán kết | AO6: Півфінал | AP6: سیمی فائنل
A7: Third-Place Play-Off | B7: Takimi për vendin e tretë | C7: تحديد المركزين الثالث والرابع | D7: 3-րդ տեղի համար եզրափակիչ | E7: Üçüncü Yer Uğrunda | F7: Мач за трето място | G7: 3r i 4t lloc | H7: 季军赛 | I7: 季軍賽 | J7: Za treće mjesto | K7: Zápas o 3.místo | L7: Tredjeplads Kamp | M7: Derde en vierde plaats | N7: Match pour la troisième place | O7: მესამე ადგილი | P7: Spiel um den dritten Platz | Q7: Μικρός Τελικός | R7: מקום 3-4 | S7: Bronzmeccs | T7: Perebutan Tempat Ketiga | U7: Leikur um 3.sæti | V7: Finale 3°- 4° posto | W7: 3,4위전 | X7: Rungtynės dėl Trečios Vietos | Y7: Натпревар за трето место | Z7: Final għat-Tielet u r-Raba' Post | AA7: Bronsefinale | AB7: رده بندی | AC7: Mecz o trzecie miejsce | AD7: 3º/4º lugar | AE7: Finala mica | AF7: Матч за Третье Место | AG7: Za treće mjesto | AH7: Zápas o 3. miesto | AI7: Za tretje mesto | AJ7: Tercer puesto | AK7: Match om tredje pris | AL7: รอบชิงที่ 3 | AM7: Üçüncülük Maçı | AN7: Tranh hạng 3 | AO7: Матч за третє місце | AP7: تیسرے مقام کے لئے کھیل
A8: Final | B8: Finalja | C8: المباراة النهائية | D8: Եզրափակիչ | E8: Final | F8: Финал | G8: Final | H8: 总决赛 | I8: 總決賽 | J8: Finale | K8: Finále | L8: Finale | M8: Finale | N8: Finale | O8: ფინალი | P8: Finale | Q8: Τελικός | R8: גמר | S8: Döntő | T8: Final | U8: Úrslit | V8: Finale | W8: 결승전 | X8: Finalas | Y8: Финале | Z8: Finali | AA8: Finale | AB8: فینال | AC8: Finał | AD8: Final | AE8: FINALA | AF8: Финал | AG8: Finale | AH8: Finále | AI8: Finale | AJ8: Final | AK8: Final | AL8: รอบชิงชนะเลิศ | AM8: Final | AN8: Chung Kết | AO8: Фінал | AP8: فائنل
A9: Group | B9: Grupi | C9: المجموعة | D9: Խումբ | E9: Qrup | F9: Група | G9: Grup | H9: 小组 | I9: 小組 | J9: Grupa | K9: Skupina | L9: Gruppe | M9: Groep | N9: Groupe | O9: ჯგუფი | P9: Gruppe | Q9: Όμιλος | R9: בית | S9: Csoport | T9: Kelompok | U9: Riðill | V9: Gruppo | W9: 그룹 | X9: Grupė | Y9: Група | Z9: Grupp | AA9: Gruppe | AB9: گروه | AC9: Grupa | AD9: Grupo | AE9: Grupa | AF9: Группа | AG9: Grupa | AH9: Skupina | AI9: Skupina | AJ9: Grupo | AK9: Grupp | AL9: สาย | AM9: Grup | AN9: Bảng | AO9: Група | AP9: گروپ بندی
A10: PL | B10: L | C10: لعب | D10: Խ | E10: O | F10: М | G10: J | H10: 场次 | I10: 賽 | J10: PL | K10: Z | L10: SP | M10: WG | N10: J | O10: თ | P10: SP | Q10: ΑΓ | R10: משחקים | S10: M | T10: Main | U10: L | V10: G | W10: 경기 | X10: Žst | Y10: О | Z10: L | AA10: S | AB10: بازی | AC10: M | AD10: J | AE10: J | AF10: И | AG10: UT | AH10: Z | AI10: PL | AJ10: J | AK10: Sp | AL10: แข่ง | AM10: O | AN10: Trận | AO10: І | AP10: کھیلے گئے مقابلے
A11: W | B11: F | C11: فاز | D11: Հ | E11: Q | F11: П | G11: G | H11: 胜 | I11: 勝 | J11: W | K11: V | L11: V | M11: W | N11: V | O11: მოგ | P11: S | Q11: Ν | R11: נצחונות | S11: GY | T11: Menang | U11: U | V11: V | W11: 승 | X11: L | Y11: П | Z11: R | AA11: V | AB11: برد | AC11: Z | AD11: V | AE11: V | AF11: В | AG11: P | AH11: V | AI11: W | AJ11: G | AK11: V | AL11: ชนะ | AM11: G | AN11: T | AO11: В | AP11: جیت
A12: DRAW | B12: BAR | C12: تعادل | D12: Ո | E12: H | F12: Р | G12: E | H12: 平 | I12: 和 | J12: DRAW | K12: R | L12: Uafgjort | M12: G | N12: DRAW | O12: ფრე | P12: DRAW | Q12: Ι | R12: תיקו | S12: D | T12: Seri | U12: Jafnt | V12: P | W12: 무 | X12: Lyg | Y12: Н | Z12: I | AA12: T | AB12: مساوی | AC12: R | AD12: E | AE12: E | AF12: Н | AG12: NER. | AH12: R | AI12: DRAW | AJ12: DRAW | AK12: O | AL12: เสมอ | AM12: B | AN12: H | AO12: Н | AP12: برابر
... A115: en | B115: sq | C115: ar | D115: hy | E115: az | F115: bg | G115: ca | H115: zh-CN | I115: zh-TW | J115: hr | K115: cs | L115: da | M115: nl | N115: fr | O115: ka | P115: de | Q115: el | R115: iw | S115: hu | T115: id | U115: is | V115: it | W115: ko | X115: lt | Y115: mk | Z115: mt | AA115: no | AB115: fa | AC115: pl | AD115: pt | AE115: ro | AF115: ru | AG115: sr | AH115: sk | AI115: sl | AJ115: es | AK115: sv | AL115: th | AM115: tr | AN115: vi | AO115: uk | AP115: ur

Sheet Settings
B2: Settings | F2: Group Round Sorting
B4: Language | C4: Italian
F5: Step #1 | G5: Punti
B6: Summer Time | C6: Yes | F6: Step #2 | G6: Differenza Reti
F7: Step #3 | G7: Reti Segnate
B8: GTM-Time | C8: GMT | F8: Step #4 | G8: Classifica Avulsa
F9: Step #5 | G9: FIFA Rank
B10: Minutes | C10: +0 min
F13: Language ID | G13: =IF(ISERROR(MATCH(C4,lang_list,0)),1,MATCH(C4,lang_list,0)) -> 22
C14: FIFA Rank | F14: GMT Delta | G14: =TIME(VLOOKUP(C8,F16:G39,2,FALSE),VLOOKUP(C10,F41:G44,2,FALSE),0)+IF(C6="Yes",TIME(1,0,0),0) -> 0.5
B15: =INDEX(T,66,lang) -> Spagna | C15: 1460
B16: =INDEX(T,50,lang) -> Germania | C16: 1340 | F16: GMT - 11:00 | G16: 0
B17: =INDEX(T,65,lang) -> Portogallo | C17: 1245 | F17: GMT - 10:00 | G17: 1
B18: =INDEX(T,52,lang) -> Colombia | C18: 1186 | F18: GMT - 9:00 | G18: 2
B19: =INDEX(T,40,lang) -> Uruguay | C19: 1181 | F19: GMT - 8:00 | G19: 3
B20: =INDEX(T,42,lang) -> Argentina | C20: 1174 | F20: GMT - 7:00 | G20: 4
B21: =INDEX(T,62,lang) -> Brasile | C21: 1174 | F21: GMT - 6:00 | G21: 5
B22: =INDEX(T,67,lang) -> Svizzera | C22: 1161 | F22: GMT - 5:00 | G22: 6
B23: =INDEX(T,58,lang) -> Italia | C23: 1115 | F23: GMT - 4:00 | G23: 7
B24: =INDEX(T,45,lang) -> Grecia | C24: 1082 | F24: GMT - 3:00 | G24: 8
B25: =INDEX(T,46,lang) -> Inghilterra | C25: 1043 | F25: GMT - 2:00 | G25: 9
B26: =INDEX(T,63,lang) -> Belgio | C26: 1039 | F26: GMT - 1:00 | G26: 10
B27: =INDEX(T,47,lang) -> Stati Uniti d'America | C27: 1015 | F27: GMT | G27: 11
B28: =INDEX(T,69,lang) -> Cile | C28: 1011 | F28: GMT + 1:00 | G28: 12
B29: =INDEX(T,54,lang) -> Paesi Bassi | C29: 967 | F29: GMT + 2:00 | G29: 13
B30: =INDEX(T,41,lang) -> Francia | C30: 935 | F30: GMT + 3:00 | G30: 14
B31: =INDEX(T,49,lang) -> Russia | C31: 903 | F31: GMT + 4:00 | G31: 15
B32: =INDEX(T,39,lang) -> Messico | C32: 876 | F32: GMT + 5:00 | G32: 16
B33: =INDEX(T,38,lang) -> Croazia | C33: 871 | F33: GMT + 6:00 | G33: 17
B34: =INDEX(T,64,lang) -> Costa d' Avorio | C34: 830 | F34: GMT + 7:00 | G34: 18
B35: =INDEX(T,48,lang) -> Algeria | C35: 795 | F35: GMT + 8:00 | G35: 19
B36: =INDEX(T,60,lang) -> Bosnia - Erzegovina | C36: 795 | F36: GMT + 9:00 | G36: 20
B37: =INDEX(T,59,lang) -> Ecuador | C37: 790 | F37: GMT + 10:00 | G37: 21
B38: =INDEX(T,55,lang) -> Costarica | C38: 744 | F38: GMT + 11:00 | G38: 22
B39: =INDEX(T,68,lang) -> Honduras | C39: 754 | F39: GMT + 12:00 | G39: 23
B40: =INDEX(T,61,lang) -> Iran | C40: 715
B41: =INDEX(T,53,lang) -> Ghana | C41: 713 | F41: +0 min | G41: 0
B42: =INDEX(T,43,lang) -> Nigeria | C42: 620 | F42: +15 min | G42: 15
B43: =INDEX(T,56,lang) -> Giappone | C43: 613 | F43: +30 min | G43: 30
B44: =INDEX(T,57,lang) -> Camerun | C44: 583 | F44: +45 min | G44: 45
...

Sheet Coopa del Mondo 2014
A1: =INDEX(T,2,lang) -> Calendario Coppa del mondo 2014
R3: ="Language: " & Settings!C4 -> Language: Italian
A5: =INDEX(T,3,lang) -> Fase a gironi
U6: Date + Time + GMT | Y6: GF | Z6: GA | AB6: Place | AC6: Team | AD6: W | AE6: D | AF6: L | AG6: GF | AH6: GA | AI6: Delta | AJ6: Delta | AL6: Pnt | AM6: R | AN6: FIFA | AO6: Rank | AQ6: W | AR6: D | AS6: GF | AT6: GA | AU6: F-A
A7: 1 | B7: =INDEX(T,18+INT(MOD(U7-1,7)),lang) -> Gio | C7: =INDEX(T,24+MONTH(U7),lang) & " " & DAY(U7) & ", " & YEAR(U7) -> Giu 12, 2014 | D7: =TIME(HOUR(U7),MINUTE(U7),0) -> 0.875 | E7: =AC8 -> Brasile | F7: 3 | G7: 1 | H7: =AC9 -> Croazia | I7: =INDEX(T,114,lang) -> Sao Paulo | U7: =DATE(2014,6,12)+TIME(9,0,0)+gmt_delta -> 41802.875 | V7: =IF(OR(F7="",G7=""),"",IF(F7>G7,E7&"_win",IF(F7<G7,E7&"_lose",E7&"_draw"))) -> Brasile_win | W7: =IF(V7="","",IF(F7<G7,H7&"_win",IF(F7>G7,H7&"_lose",H7&"_draw"))) -> Croazia_lose | X7: =IF(V7="",0,IF(VLOOKUP(E7,$AC$8:$AL$53,7,FALSE)=VLOOKUP(H7,$AC$8:$AL$53,7,FALSE),1,0)) -> 0 | Y7: =X7*F7 -> 0 | Z7: =X7*G7 -> 0
A8: 2 | B8: =INDEX(T,18+INT(MOD(U8-1,7)),lang) -> Ven | C8: =INDEX(T,24+MONTH(U8),lang) & " " & DAY(U8) & ", " & YEAR(U8) -> Giu 13, 2014 | D8: =TIME(HOUR(U8),MINUTE(U8),0) -> 0.70833333 | E8: =AC10 -> Messico | F8: 1 | G8: 0 | H8: =AC11 -> Camerun | I8: =INDEX(T,109,lang) -> natale | M8: =INDEX(T,9,lang) & " " & "A" -> Gruppo A | N8: =INDEX(T,10,lang) -> G | O8: =INDEX(T,11,lang) -> V | P8: =INDEX(T,12,lang) -> P | Q8: =INDEX(T,13,lang) -> S | R8: =INDEX(T,14,lang) -> GF - GS | S8: =INDEX(T,15,lang) -> Punti | U8: =DATE(2014,6,13)+TIME(5,0,0)+gmt_delta -> 41803.708 | V8: =IF(OR(F8="",G8=""),"",IF(F8>G8,E8&"_win",IF(F8<G8,E8&"_lose",E8&"_draw"))) -> Messico_win | W8: =IF(V8="","",IF(F8<G8,H8&"_win",IF(F8>G8,H8&"_lose",H8&"_draw"))) -> Camerun_lose | X8: =IF(V8="",0,IF(VLOOKUP(E8,$AC$8:$AL$53,7,FALSE)=VLOOKUP(H8,$AC$8:$AL$53,7,FALSE),1,0)) -> 0 | Y8: =X8*F8 -> 0 | Z8: =X8*G8 -> 0 | AB8: =COUNTIF(AO8:AO11,CONCATENATE(">=",AO8)) -> 1 | AC8: =INDEX(T,62,lang) -> Brasile | AD8: =COUNTIF($V$7:$W$54,"=" & AC8 & "_win") -> 1 | AE8: =COUNTIF($V$7:$W$54,"=" & AC8 & "_draw") -> 0 | AF8: =COUNTIF($V$7:$W$54,"=" & AC8 & "_lose") -> 0 | AG8: =SUMIF($E$7:$E$54,$AC8,$F$7:$F$54) + SUMIF($H$7:$H$54,$AC8,$G$7:$G$54) -> 3 | AH8: =SUMIF($E$7:$E$54,$AC8,$G$7:$G$54) + SUMIF($H$7:$H$54,$AC8,$F$7:$F$54) -> 1 | AI8: =(AG8-AH8)+1 -> 3 | AJ8: =AG8-AH8 -> 2 | AK8: =(AJ8-AJ13)/AJ12 -> 0.8 | AL8: =AD8*3+AE8 -> 3 | AM8: =AQ8/AQ12*1000+AR8/AR12*100+AU8/AU12*10+AS8/AS12 -> 0 | AN8: =VLOOKUP(AC8,db_fifarank,2,FALSE)/2000000 -> 0.000587 | AO8: =1000*AL8/AL12+100*AK8+10*AG8/AG12+1*AM8/AM12+AN8 -> 837.50059 | AP8: =IF(SUM(AD8:AF11)=12,M9,INDEX(T,70,lang)) -> 1A | AQ8: =SUMPRODUCT(($V$7:$V$54=AC8&"_win")*($X$7:$X$54))+SUMPRODUCT(($W$7:$W$54=AC8&"_win")*($X$7:$X$54)) -> 0 | AR8: =SUMPRODUCT(($V$7:$V$54=AC8&"_draw")*($X$7:$X$54))+SUMPRODUCT(($W$7:$W$54=AC8&"_draw")*($X$7:$X$54)) -> 0 | AS8: =SUMPRODUCT(($E$7:$E$54=AC8)*($X$7:$X$54)*($F$7:$F$54))+SUMPRODUCT(($H$7:$H$54=AC8)*($X$7:$X$54)*($G$7:$G$54)) -> 0 | AT8: =SUMPRODUCT(($E$7:$E$54=AC8)*($X$7:$X$54)*($G$7:$G$54))+SUMPRODUCT(($H$7:$H$54=AC8)*($X$7:$X$54)*($F$7:$F$54)) -> 0 | AU8: =AS8-AT8 -> 0
A9: 3 | B9: =INDEX(T,18+INT(MOD(U9-1,7)),lang) -> Ven | C9: =INDEX(T,24+MONTH(U9),lang) & " " & DAY(U9) & ", " & YEAR(U9) -> Giu 13, 2014 | D9: =TIME(HOUR(U9),MINUTE(U9),0) -> 0.83333333 | E9: =AC14 -> Spagna | F9: 1 | G9: 5 | H9: =AC15 -> Paesi Bassi | I9: =INDEX(T,113,lang) -> Salvador | M9: =VLOOKUP(1,AB8:AL11,2,FALSE) -> Brasile | N9: =O9+P9+Q9 -> 1 | O9: =VLOOKUP(1,AB8:AL11,3,FALSE) -> 1 | P9: =VLOOKUP(1,AB8:AL11,4,FALSE) -> 0 | Q9: =VLOOKUP(1,AB8:AL11,5,FALSE) -> 0 | R9: =VLOOKUP(1,AB8:AL11,6,FALSE) & " - " & VLOOKUP(1,AB8:AL11,7,FALSE) -> 3 - 1 | S9: =O9*3+P9 -> 3 | U9: =DATE(2014,6,13)+TIME(8,0,0)+gmt_delta -> 41803.833 | V9: =IF(OR(F9="",G9=""),"",IF(F9>G9,E9&"_win",IF(F9<G9,E9&"_lose",E9&"_draw"))) -> Spagna_lose | W9: =IF(V9="","",IF(F9<G9,H9&"_win",IF(F9>G9,H9&"_lose",H9&"_draw"))) -> Paesi Bassi_win | X9: =IF(V9="",0,IF(VLOOKUP(E9,$AC$8:$AL$53,7,FALSE)=VLOOKUP(H9,$AC$8:$AL$53,7,FALSE),1,0)) -> 0 | Y9: =X9*F9 -> 0 | Z9: =X9*G9 -> 0 | AB9: =COUNTIF(AO8:AO11,CONCATENATE(">=",AO9)) -> 4 | AC9: =INDEX(T,38,lang) -> Croazia | AD9: =COUNTIF($V$7:$W$54,"=" & AC9 & "_win") -> 0 | AE9: =COUNTIF($V$7:$W$54,"=" & AC9 & "_draw") -> 0 | AF9: =COUNTIF($V$7:$W$54,"=" & AC9 & "_lose") -> 1 | AG9: =SUMIF($E$7:$E$54,$AC9,$F$7:$F$54) + SUMIF($H$7:$H$54,$AC9,$G$7:$G$54) -> 1 | AH9: =SUMIF($E$7:$E$54,$AC9,$G$7:$G$54) + SUMIF($H$7:$H$54,$AC9,$F$7:$F$54) -> 3 | AI9: =(AG9-AH9)+1 -> -1 | AJ9: =AG9-AH9 -> -2 | AK9: =(AJ9-AJ13)/AJ12 -> 0 | AL9: =AD9*3+AE9 -> 0 | AM9: =AQ9/AQ12*1000+AR9/AR12*100+AU9/AU12*10+AS9/AS12 -> 0 | AN9: =VLOOKUP(AC9,db_fifarank,2,FALSE)/2000000 -> 0.0004355 | AO9: =1000*AL9/AL12+100*AK9+10*AG9/AG12+1*AM9/AM12+AN9 -> 2.5004355 | AP9: =IF(SUM(AD8:AF11)=12,M10,INDEX(T,71,lang)) -> 2A | AQ9: =SUMPRODUCT(($V$7:$V$54=AC9&"_win")*($X$7:$X$54))+SUMPRODUCT(($W$7:$W$54=AC9&"_win")*($X$7:$X$54)) -> 0 | AR9: =SUMPRODUCT(($V$7:$V$54=AC9&"_draw")*($X$7:$X$54))+SUMPRODUCT(($W$7:$W$54=AC9&"_draw")*($X$7:$X$54)) -> 0 | AS9: =SUMPRODUCT(($E$7:$E$54=AC9)*($X$7:$X$54)*($F$7:$F$54))+SUMPRODUCT(($H$7:$H$54=AC9)*($X$7:$X$54)*($G$7:$G$54)) -> 0 | AT9: =SUMPRODUCT(($E$7:$E$54=AC9)*($X$7:$X$54)*($G$7:$G$54))+SUMPRODUCT(($H$7:$H$54=AC9)*($X$7:$X$54)*($F$7:$F$54)) -> 0 | AU9: =AS9-AT9 -> 0
A10: 4 | B10: =INDEX(T,18+INT(MOD(U10-1,7)),lang) -> Ven | C10: =INDEX(T,24+MONTH(U10),lang) & " " & DAY(U10) & ", " & YEAR(U10) -> Giu 13, 2014 | D10: =TIME(HOUR(U10),MINUTE(U10),0) -> 0.95833333 | E10: =AC16 -> Cile | F10: 3 | G10: 1 | H10: =AC17 -> Australia | I10: =INDEX(T,106,lang) -> Curitiba | M10: =VLOOKUP(2,AB8:AL11,2,FALSE) -> Messico | N10: =O10+P10+Q10 -> 1 | O10: =VLOOKUP(2,AB8:AL11,3,FALSE) -> 1 | P10: =VLOOKUP(2,AB8:AL11,4,FALSE) -> 0 | Q10: =VLOOKUP(2,AB8:AL11,5,FALSE) -> 0 | R10: =VLOOKUP(2,AB8:AL11,6,FALSE) & " - " & VLOOKUP(2,AB8:AL11,7,FALSE) -> 1 - 0 | S10: =O10*3+P10 -> 3 | U10: =DATE(2014,6,13)+TIME(11,0,0)+gmt_delta -> 41803.958 | V10: =IF(OR(F10="",G10=""),"",IF(F10>G10,E10&"_win",IF(F10<G10,E10&"_lose",E10&"_draw"))) -> Cile_win | W10: =IF(V10="","",IF(F10<G10,H10&"_win",IF(F10>G10,H10&"_lose",H10&"_draw"))) -> Australia_lose | X10: =IF(V10="",0,IF(VLOOKUP(E10,$AC$8:$AL$53,7,FALSE)=VLOOKUP(H10,$AC$8:$AL$53,7,FALSE),1,0)) -> 0 | Y10: =X10*F10 -> 0 | Z10: =X10*G10 -> 0 | AB10: =COUNTIF(AO8:AO11,CONCATENATE(">=",AO10)) -> 2 | AC10: =INDEX(T,39,lang) -> Messico | AD10: =COUNTIF($V$7:$W$54,"=" & AC10 & "_win") -> 1 | AE10: =COUNTIF($V$7:$W$54,"=" & AC10 & "_draw") -> 0 | AF10: =COUNTIF($V$7:$W$54,"=" & AC10 & "_lose") -> 0 | AG10: =SUMIF($E$7:$E$54,$AC10,$F$7:$F$54) + SUMIF($H$7:$H$54,$AC10,$G$7:$G$54) -> 1 | AH10: =SUMIF($E$7:$E$54,$AC10,$G$7:$G$54) + SUMIF($H$7:$H$54,$AC10,$F$7:$F$54) -> 0 | AI10: =(AG10-AH10)+1 -> 2 | AJ10: =AG10-AH10 -> 1 | AK10: =(AJ10-AJ13)/AJ12 -> 0.6 | AL10: =AD10*3+AE10 -> 3 | AM10: =AQ10/AQ12*1000+AR10/AR12*100+AU10/AU12*10+AS10/AS12 -> 0 | AN10: =VLOOKUP(AC10,db_fifarank,2,FALSE)/2000000 -> 0.000438 | AO10: =1000*AL10/AL12+100*AK10+10*AG10/AG12+1*AM10/AM12+AN10 -> 812.50044 | AQ10: =SUMPRODUCT(($V$7:$V$54=AC10&"_win")*($X$7:$X$54))+SUMPRODUCT(($W$7:$W$54=AC10&"_win")*($X$7:$X$54)) -> 0 | AR10: =SUMPRODUCT(($V$7:$V$54=AC10&"_draw")*($X$7:$X$54))+SUMPRODUCT(($W$7:$W$54=AC10&"_draw")*($X$7:$X$54)) -> 0 | AS10: =SUMPRODUCT(($E$7:$E$54=AC10)*($X$7:$X$54)*($F$7:$F$54))+SUMPRODUCT(($H$7:$H$54=AC10)*($X$7:$X$54)*($G$7:$G$54)) -> 0 | AT10: =SUMPRODUCT(($E$7:$E$54=AC10)*($X$7:$X$54)*($G$7:$G$54))+SUMPRODUCT(($H$7:$H$54=AC10)*($X$7:$X$54)*($F$7:$F$54)) -> 0 | AU10: =AS10-AT10 -> 0
A11: 5 | B11: =INDEX(T,18+INT(MOD(U11-1,7)),lang) -> Sab | C11: =INDEX(T,24+MONTH(U11),lang) & " " & DAY(U11) & ", " & YEAR(U11) -> Giu 14, 2014 | D11: =TIME(HOUR(U11),MINUTE(U11),0) -> 0.70833333 | E11: =AC20 -> Colombia | F11: 3 | G11: 0 | H11: =AC21 -> Grecia | I11: =INDEX(T,103,lang) -> Belo Horizonte | M11: =VLOOKUP(3,AB8:AL11,2,FALSE) -> Camerun | N11: =O11+P11+Q11 -> 1 | O11: =VLOOKUP(3,AB8:AL11,3,FALSE) -> 0 | P11: =VLOOKUP(3,AB8:AL11,4,FALSE) -> 0 | Q11: =VLOOKUP(3,AB8:AL11,5,FALSE) -> 1 | R11: =VLOOKUP(3,AB8:AL11,6,FALSE) & " - " & VLOOKUP(3,AB8:AL11,7,FALSE) -> 0 - 1 | S11: =O11*3+P11 -> 0 | U11: =DATE(2014,6,14)+TIME(5,0,0)+gmt_delta -> 41804.708 | V11: =IF(OR(F11="",G11=""),"",IF(F11>G11,E11&"_win",IF(F11<G11,E11&"_lose",E11&"_draw"))) -> Colombia_win | W11: =IF(V11="","",IF(F11<G11,H11&"_win",IF(F11>G11,H11&"_lose",H11&"_draw"))) -> Grecia_lose | X11: =IF(V11="",0,IF(VLOOKUP(E11,$AC$8:$AL$53,7,FALSE)=VLOOKUP(H11,$AC$8:$AL$53,7,FALSE),1,0)) -> 0 | Y11: =X11*F11 -> 0 | Z11: =X11*G11 -> 0 | AB11: =COUNTIF(AO8:AO11,CONCATENATE(">=",AO11)) -> 3 | AC11: =INDEX(T,57,lang) -> Camerun | AD11: =COUNTIF($V$7:$W$54,"=" & AC11 & "_win") -> 0 | AE11: =COUNTIF($V$7:$W$54,"=" & AC11 & "_draw") -> 0 | AF11: =COUNTIF($V$7:$W$54,"=" & AC11 & "_lose") -> 1 | AG11: =SUMIF($E$7:$E$54,$AC11,$F$7:$F$54) + SUMIF($H$7:$H$54,$AC11,$G$7:$G$54) -> 0 | AH11: =SUMIF($E$7:$E$54,$AC11,$G$7:$G$54) + SUMIF($H$7:$H$54,$AC11,$F$7:$F$54) -> 1 | AI11: =(AG11-AH11)+1 -> 0 | AJ11: =AG11-AH11 -> -1 | AK11: =(AJ11-AJ13)/AJ12 -> 0.2 | AL11: =AD11*3+AE11 -> 0 | AM11: =AQ11/AQ12*1000+AR11/AR12*100+AU11/AU12*10+AS11/AS12 -> 0 | AN11: =VLOOKUP(AC11,db_fifarank,2,FALSE)/2000000 -> 0.0002915 | AO11: =1000*AL11/AL12+100*AK11+10*AG11/AG12+1*AM11/AM12+AN11 -> 20.000291 | AQ11: =SUMPRODUCT(($V$7:$V$54=AC11&"_win")*($X$7:$X$54))+SUMPRODUCT(($W$7:$W$54=AC11&"_win")*($X$7:$X$54)) -> 0 | AR11: =SUMPRODUCT(($V$7:$V$54=AC11&"_draw")*($X$7:$X$54))+SUMPRODUCT(($W$7:$W$54=AC11&"_draw")*($X$7:$X$54)) -> 0 | AS11: =SUMPRODUCT(($E$7:$E$54=AC11)*($X$7:$X$54)*($F$7:$F$54))+SUMPRODUCT(($H$7:$H$54=AC11)*($X$7:$X$54)*($G$7:$G$54)) -> 0 | AT11: =SUMPRODUCT(($E$7:$E$54=AC11)*($X$7:$X$54)*($G$7:$G$54))+SUMPRODUCT(($H$7:$H$54=AC11)*($X$7:$X$54)*($F$7:$F$54)) -> 0 | AU11: =AS11-AT11 -> 0
A12: 6 | B12: =INDEX(T,18+INT(MOD(U12-1,7)),lang) -> Dom | C12: =INDEX(T,24+MONTH(U12),lang) & " " & DAY(U12) & ", " & YEAR(U12) -> Giu 15, 2014 | D12: =TIME(HOUR(U12),MINUTE(U12),0) -> 0.083333333 | E12: =AC22 -> Costa d' Avorio | F12: 2 | G12: 1 | H12: =AC23 -> Giappone | I12: =INDEX(T,111,lang) -> Recife | M12: =VLOOKUP(4,AB8:AL11,2,FALSE) -> Croazia | N12: =O12+P12+Q12 -> 1 | O12: =VLOOKUP(4,AB8:AL11,3,FALSE) -> 0 | P12: =VLOOKUP(4,AB8:AL11,4,FALSE) -> 0 | Q12: =VLOOKUP(4,AB8:AL11,5,FALSE) -> 1 | R12: =VLOOKUP(4,AB8:AL11,6,FALSE) & " - " & VLOOKUP(4,AB8:AL11,7,FALSE) -> 1 - 3 | S12: =O12*3+P12 -> 0 | U12: =DATE(2014,6,14)+TIME(14,0,0)+gmt_delta -> 41805.083 | V12: =IF(OR(F12="",G12=""),"",IF(F12>G12,E12&"_win",IF(F12<G12,E12&"_lose",E12&"_draw"))) -> Costa d' Avorio_win | W12: =IF(V12="","",IF(F12<G12,H12&"_win",IF(F12>G12,H12&"_lose",H12&"_draw"))) -> Giappone_lose | X12: =IF(V12="",0,IF(VLOOKUP(E12,$AC$8:$AL$53,7,FALSE)=VLOOKUP(H12,$AC$8:$AL$53,7,FALSE),1,0)) -> 0 | Y12: =X12*F12 -> 0 | Z12: =X12*G12 -> 0 | AD12: =MAX(AD8:AD11)-MIN(AD8:AD11)+1 -> 2 | AE12: =MAX(AE8:AE11)-MIN(AE8:AE11)+1 -> 1 | AF12: =MAX(AF8:AF11)-MIN(AF8:AF11)+1 -> 2 | AG12: =MAX(AG8:AG11)-MIN(AG8:AG11)+1 -> 4 | AH12: =MAX(AH8:AH11)-MIN(AH8:AH11)+1 -> 4 | AI12: =MAX(AI8:AI11)-AI13+1 -> 5 | AJ12: =MAX(AJ8:AJ11)-AJ13+1 -> 5 | AL12: =MAX(AL8:AL11)-MIN(AL8:AL11)+1 -> 4 | AM12: =MAX(AM8:AM11)-MIN(AM8:AM11)+1 -> 1 | AQ12: =MAX(AQ8:AQ11)-MIN(AQ8:AQ11)+1 -> 1 | AR12: =MAX(AR8:AR11)-MIN(AR8:AR11)+1 -> 1 | AS12: =MAX(AS8:AS11)-MIN(AS8:AS11)+1 -> 1 | AT12: =MAX(AT8:AT11)-MIN(AT8:AT11)+1 -> 1 | AU12: =MAX(AU8:AU11)-MIN(AU8:AU11)+1 -> 1
A13: 7 | B13: =INDEX(T,18+INT(MOD(U13-1,7)),lang) -> Sab | C13: =INDEX(T,24+MONTH(U13),lang) & " " & DAY(U13) & ", " & YEAR(U13) -> Giu 14, 2014 | D13: =TIME(HOUR(U13),MINUTE(U13),0) -> 0.83333333 | E13: =AC26 -> Uruguay | F13: 1 | G13: 3 | H13: =AC27 -> Costarica | I13: =INDEX(T,107,lang) -> Fortaleza | U13: =DATE(2014,6,14)+TIME(8,0,0)+gmt_delta -> 41804.833 | V13: =IF(OR(F13="",G13=""),"",IF(F13>G13,E13&"_win",IF(F13<G13,E13&"_lose",E13&"_draw"))) -> Uruguay_lose | W13: =IF(V13="","",IF(F13<G13,H13&"_win",IF(F13>G13,H13&"_lose",H13&"_draw"))) -> Costarica_win | X13: =IF(V13="",0,IF(VLOOKUP(E13,$AC$8:$AL$53,7,FALSE)=VLOOKUP(H13,$AC$8:$AL$53,7,FALSE),1,0)) -> 0 | Y13: =X13*F13 -> 0 | Z13: =X13*G13 -> 0 | AI13: =MIN(AI8:AI11) -> -1 | AJ13: =MIN(AJ8:AJ11) -> -2
A14: 8 | B14: =INDEX(T,18+INT(MOD(U14-1,7)),lang) -> Sab | C14: =INDEX(T,24+MONTH(U14),lang) & " " & DAY(U14) & ", " & YEAR(U14) -> Giu 14, 2014 | D14: =TIME(HOUR(U14),MINUTE(U14),0) -> 0.95833333 | E14: =AC28 -> Inghilterra | F14: 1 | G14: 2 | H14: =AC29 -> Italia | I14: =INDEX(T,108,lang) -> Manaus | M14: =INDEX(T,9,lang) & " " & "B" -> Gruppo B | N14: =INDEX(T,10,lang) -> G | O14: =INDEX(T,11,lang) -> V | P14: =INDEX(T,12,lang) -> P | Q14: =INDEX(T,13,lang) -> S | R14: =INDEX(T,14,lang) -> GF - GS | S14: =INDEX(T,15,lang) -> Punti | U14: =DATE(2014,6,14)+TIME(11,0,0)+gmt_delta -> 41804.958 | V14: =IF(OR(F14="",G14=""),"",IF(F14>G14,E14&"_win",IF(F14<G14,E14&"_lose",E14&"_draw"))) -> Inghilterra_lose | W14: =IF(V14="","",IF(F14<G14,H14&"_win",IF(F14>G14,H14&"_lose",H14&"_draw"))) -> Italia_win | X14: =IF(V14="",0,IF(VLOOKUP(E14,$AC$8:$AL$53,7,FALSE)=VLOOKUP(H14,$AC$8:$AL$53,7,FALSE),1,0)) -> 0 | Y14: =X14*F14 -> 0 | Z14: =X14*G14 -> 0 | AB14: =COUNTIF(AO14:AO17,CONCATENATE(">=",AO14)) -> 4 | AC14: =INDEX(T,66,lang) -> Spagna | AD14: =COUNTIF($V$7:$W$54,"=" & AC14 & "_win") -> 0 | AE14: =COUNTIF($V$7:$W$54,"=" & AC14 & "_draw") -> 0 | AF14: =COUNTIF($V$7:$W$54,"=" & AC14 & "_lose") -> 1 | AG14: =SUMIF($E$7:$E$54,$AC14,$F$7:$F$54) + SUMIF($H$7:$H$54,$AC14,$G$7:$G$54) -> 1 | AH14: =SUMIF($E$7:$E$54,$AC14,$G$7:$G$54) + SUMIF($H$7:$H$54,$AC14,$F$7:$F$54) -> 5 | AI14: =(AG14-AH14)*100+AL14*10000+AG14 -> -399 | AJ14: =AG14-AH14 -> -4 | AK14: =(AJ14-AJ19)/AJ18 -> 0 | AL14: =AD14*3+AE14 -> 0 | AM14: =AQ14/AQ18*1000+AR14/AR18*100+AU14/AU18*10+AS14/AS18 -> 0 | AN14: =VLOOKUP(AC14,db_fifarank,2,FALSE)/2000000 -> 0.00073 | AO14: =1000*AL14/AL18+100*AK14+10*AG14/AG18+1*AM14/AM18+AN14 -> 2.00073 | AP14: =IF(SUM(AD14:AF17)=12,M15,INDEX(T,72,lang)) -> 1B | AQ14: =SUMPRODUCT(($V$7:$V$54=AC14&"_win")*($X$7:$X$54))+SUMPRODUCT(($W$7:$W$54=AC14&"_win")*($X$7:$X$54)) -> 0 | AR14: =SUMPRODUCT(($V$7:$V$54=AC14&"_draw")*($X$7:$X$54))+SUMPRODUCT(($W$7:$W$54=AC14&"_draw")*($X$7:$X$54)) -> 0 | AS14: =SUMPRODUCT(($E$7:$E$54=AC14)*($X$7:$X$54)*($F$7:$F$54))+SUMPRODUCT(($H$7:$H$54=AC14)*($X$7:$X$54)*($G$7:$G$54)) -> 0 | AT14: =SUMPRODUCT(($E$7:$E$54=AC14)*($X$7:$X$54)*($G$7:$G$54))+SUMPRODUCT(($H$7:$H$54=AC14)*($X$7:$X$54)*($F$7:$F$54)) -> 0 | AU14: =AS14-AT14 -> 0
A15: 9 | B15: =INDEX(T,18+INT(MOD(U15-1,7)),lang) -> Dom | C15: =INDEX(T,24+MONTH(U15),lang) & " " & DAY(U15) & ", " & YEAR(U15) -> Giu 15, 2014 | D15: =TIME(HOUR(U15),MINUTE(U15),0) -> 0.70833333 | E15: =AC32 -> Svizzera | F15: 2 | G15: 1 | H15: =AC33 -> Ecuador | I15: =INDEX(T,104,lang) -> Brasilia | M15: =VLOOKUP(1,AB14:AL17,2,FALSE) -> Paesi Bassi | N15: =O15+P15+Q15 -> 1 | O15: =VLOOKUP(1,AB14:AL17,3,FALSE) -> 1 | P15: =VLOOKUP(1,AB14:AL17,4,FALSE) -> 0 | Q15: =VLOOKUP(1,AB14:AL17,5,FALSE) -> 0 | R15: =VLOOKUP(1,AB14:AL17,6,FALSE) & " - " & VLOOKUP(1,AB14:AL17,7,FALSE) -> 5 - 1 | S15: =O15*3+P15 -> 3 | U15: =DATE(2014,6,15)+TIME(5,0,0)+gmt_delta -> 41805.708 | V15: =IF(OR(F15="",G15=""),"",IF(F15>G15,E15&"_win",IF(F15<G15,E15&"_lose",E15&"_draw"))) -> Svizzera_win | W15: =IF(V15="","",IF(F15<G15,H15&"_win",IF(F15>G15,H15&"_lose",H15&"_draw"))) -> Ecuador_lose | X15: =IF(V15="",0,IF(VLOOKUP(E15,$AC$8:$AL$53,7,FALSE)=VLOOKUP(H15,$AC$8:$AL$53,7,FALSE),1,0)) -> 0 | Y15: =X15*F15 -> 0 | Z15: =X15*G15 -> 0 | AB15: =COUNTIF(AO14:AO17,CONCATENATE(">=",AO15)) -> 1 | AC15: =INDEX(T,54,lang) -> Paesi Bassi | AD15: =COUNTIF($V$7:$W$54,"=" & AC15 & "_win") -> 1 | AE15: =COUNTIF($V$7:$W$54,"=" & AC15 & "_draw") -> 0 | AF15: =COUNTIF($V$7:$W$54,"=" & AC15 & "_lose") -> 0 | AG15: =SUMIF($E$7:$E$54,$AC15,$F$7:$F$54) + SUMIF($H$7:$H$54,$AC15,$G$7:$G$54) -> 5 | AH15: =SUMIF($E$7:$E$54,$AC15,$G$7:$G$54) + SUMIF($H$7:$H$54,$AC15,$F$7:$F$54) -> 1 | AI15: =(AG15-AH15)*100+AL15*10000+AG15 -> 30405 | AJ15: =AG15-AH15 -> 4 | AK15: =(AJ15-AJ19)/AJ18 -> 0.88888889 | AL15: =AD15*3+AE15 -> 3 | AM15: =AQ15/AQ18*1000+AR15/AR18*100+AU15/AU18*10+AS15/AS18 -> 0 | AN15: =VLOOKUP(AC15,db_fifarank,2,FALSE)/2000000 -> 0.0004835 | AO15: =1000*AL15/AL18+100*AK15+10*AG15/AG18+1*AM15/AM18+AN15 -> 848.88937 | AP15: =IF(SUM(AD14:AF17)=12,M16,INDEX(T,73,lang)) -> 2B | AQ15: =SUMPRODUCT(($V$7:$V$54=AC15&"_win")*($X$7:$X$54))+SUMPRODUCT(($W$7:$W$54=AC15&"_win")*($X$7:$X$54)) -> 0 | AR15: =SUMPRODUCT(($V$7:$V$54=AC15&"_draw")*($X$7:$X$54))+SUMPRODUCT(($W$7:$W$54=AC15&"_draw")*($X$7:$X$54)) -> 0 | AS15: =SUMPRODUCT(($E$7:$E$54=AC15)*($X$7:$X$54)*($F$7:$F$54))+SUMPRODUCT(($H$7:$H$54=AC15)*($X$7:$X$54)*($G$7:$G$54)) -> 0 | AT15: =SUMPRODUCT(($E$7:$E$54=AC15)*($X$7:$X$54)*($G$7:$G$54))+SUMPRODUCT(($H$7:$H$54=AC15)*($X$7:$X$54)*($F$7:$F$54)) -> 0 | AU15: =AS15-AT15 -> 0
A16: 10 | B16: =INDEX(T,18+INT(MOD(U16-1,7)),lang) -> Dom | C16: =INDEX(T,24+MONTH(U16),lang) & " " & DAY(U16) & ", " & YEAR(U16) -> Giu 15, 2014 | D16: =TIME(HOUR(U16),MINUTE(U16),0) -> 0.83333333 | E16: =AC34 -> Francia | F16: 3 | G16: 0 | H16: =AC35 -> Honduras | I16: =INDEX(T,110,lang) -> Porto Alegre | M16: =VLOOKUP(2,AB14:AL17,2,FALSE) -> Cile | N16: =O16+P16+Q16 -> 1 | O16: =VLOOKUP(2,AB14:AL17,3,FALSE) -> 1 | P16: =VLOOKUP(2,AB14:AL17,4,FALSE) -> 0 | Q16: =VLOOKUP(2,AB14:AL17,5,FALSE) -> 0 | R16: =VLOOKUP(2,AB14:AL17,6,FALSE) & " - " & VLOOKUP(2,AB14:AL17,7,FALSE) -> 3 - 1 | S16: =O16*3+P16 -> 3 | U16: =DATE(2014,6,15)+TIME(8,0,0)+gmt_delta -> 41805.833 | V16: =IF(OR(F16="",G16=""),"",IF(F16>G16,E16&"_win",IF(F16<G16,E16&"_lose",E16&"_draw"))) -> Francia_win | W16: =IF(V16="","",IF(F16<G16,H16&"_win",IF(F16>G16,H16&"_lose",H16&"_draw"))) -> Honduras_lose | X16: =IF(V16="",0,IF(VLOOKUP(E16,$AC$8:$AL$53,7,FALSE)=VLOOKUP(H16,$AC$8:$AL$53,7,FALSE),1,0)) -> 0 | Y16: =X16*F16 -> 0 | Z16: =X16*G16 -> 0 | AB16: =COUNTIF(AO14:AO17,CONCATENATE(">=",AO16)) -> 2 | AC16: =INDEX(T,69,lang) -> Cile | AD16: =COUNTIF($V$7:$W$54,"=" & AC16 & "_win") -> 1 | AE16: =COUNTIF($V$7:$W$54,"=" & AC16 & "_draw") -> 0 | AF16: =COUNTIF($V$7:$W$54,"=" & AC16 & "_lose") -> 0 | AG16: =SUMIF($E$7:$E$54,$AC16,$F$7:$F$54) + SUMIF($H$7:$H$54,$AC16,$G$7:$G$54) -> 3 | AH16: =SUMIF($E$7:$E$54,$AC16,$G$7:$G$54) + SUMIF($H$7:$H$54,$AC16,$F$7:$F$54) -> 1 | AI16: =(AG16-AH16)*100+AL16*10000+AG16 -> 30203 | AJ16: =AG16-AH16 -> 2 | AK16: =(AJ16-AJ19)/AJ18 -> 0.66666667 | AL16: =AD16*3+AE16 -> 3 | AM16: =AQ16/AQ18*1000+AR16/AR18*100+AU16/AU18*10+AS16/AS18 -> 0 | AN16: =VLOOKUP(AC16,db_fifarank,2,FALSE)/2000000 -> 0.0005055 | AO16: =1000*AL16/AL18+100*AK16+10*AG16/AG18+1*AM16/AM18+AN16 -> 822.66717 | AQ16: =SUMPRODUCT(($V$7:$V$54=AC16&"_win")*($X$7:$X$54))+SUMPRODUCT(($W$7:$W$54=AC16&"_win")*($X$7:$X$54)) -> 0 | AR16: =SUMPRODUCT(($V$7:$V$54=AC16&"_draw")*($X$7:$X$54))+SUMPRODUCT(($W$7:$W$54=AC16&"_draw")*($X$7:$X$54)) -> 0 | AS16: =SUMPRODUCT(($E$7:$E$54=AC16)*($X$7:$X$54)*($F$7:$F$54))+SUMPRODUCT(($H$7:$H$54=AC16)*($X$7:$X$54)*($G$7:$G$54)) -> 0 | AT16: =SUMPRODUCT(($E$7:$E$54=AC16)*($X$7:$X$54)*($G$7:$G$54))+SUMPRODUCT(($H$7:$H$54=AC16)*($X$7:$X$54)*($F$7:$F$54)) -> 0 | AU16: =AS16-AT16 -> 0
A17: 11 | B17: =INDEX(T,18+INT(MOD(U17-1,7)),lang) -> Dom | C17: =INDEX(T,24+MONTH(U17),lang) & " " & DAY(U17) & ", " & YEAR(U17) -> Giu 15, 2014 | D17: =TIME(HOUR(U17),MINUTE(U17),0) -> 0.95833333 | E17: =AC38 -> Argentina | F17: 2 | G17: 1 | H17: =AC39 -> Bosnia - Erzegovina | I17: =INDEX(T,112,lang) -> Rio De Janeiro | M17: =VLOOKUP(3,AB14:AL17,2,FALSE) -> Australia | N17: =O17+P17+Q17 -> 1 | O17: =VLOOKUP(3,AB14:AL17,3,FALSE) -> 0 | P17: =VLOOKUP(3,AB14:AL17,4,FALSE) -> 0 | Q17: =VLOOKUP(3,AB14:AL17,5,FALSE) -> 1 | R17: =VLOOKUP(3,AB14:AL17,6,FALSE) & " - " & VLOOKUP(3,AB14:AL17,7,FALSE) -> 1 - 3 | S17: =O17*3+P17 -> 0 | U17: =DATE(2014,6,15)+TIME(11,0,0)+gmt_delta -> 41805.958 | V17: =IF(OR(F17="",G17=""),"",IF(F17>G17,E17&"_win",IF(F17<G17,E17&"_lose",E17&"_draw"))) -> Argentina_win | W17: =IF(V17="","",IF(F17<G17,H17&"_win",IF(F17>G17,H17&"_lose",H17&"_draw"))) -> Bosnia - Erzegovina_lose | X17: =IF(V17="",0,IF(VLOOKUP(E17,$AC$8:$AL$53,7,FALSE)=VLOOKUP(H17,$AC$8:$AL$53,7,FALSE),1,0)) -> 0 | Y17: =X17*F17 -> 0 | Z17: =X17*G17 -> 0 | AB17: =COUNTIF(AO14:AO17,CONCATENATE(">=",AO17)) -> 3 | AC17: =INDEX(T,51,lang) -> Australia | AD17: =COUNTIF($V$7:$W$54,"=" & AC17 & "_win") -> 0 | AE17: =COUNTIF($V$7:$W$54,"=" & AC17 & "_draw") -> 0 | AF17: =COUNTIF($V$7:$W$54,"=" & AC17 & "_lose") -> 1 | AG17: =SUMIF($E$7:$E$54,$AC17,$F$7:$F$54) + SUMIF($H$7:$H$54,$AC17,$G$7:$G$54) -> 1 | AH17: =SUMIF($E$7:$E$54,$AC17,$G$7:$G$54) + SUMIF($H$7:$H$54,$AC17,$F$7:$F$54) -> 3 | AI17: =(AG17-AH17)*100+AL17*10000+AG17 -> -199 | AJ17: =AG17-AH17 -> -2 | AK17: =(AJ17-AJ19)/AJ18 -> 0.22222222 | AL17: =AD17*3+AE17 -> 0 | AM17: =AQ17/AQ18*1000+AR17/AR18*100+AU17/AU18*10+AS17/AS18 -> 0 | AN17: =VLOOKUP(AC17,db_fifarank,2,FALSE)/2000000 -> 0.0002725 | AO17: =1000*AL17/AL18+100*AK17+10*AG17/AG18+1*AM17/AM18+AN17 -> 24.222495 | AQ17: =SUMPRODUCT(($V$7:$V$54=AC17&"_win")*($X$7:$X$54))+SUMPRODUCT(($W$7:$W$54=AC17&"_win")*($X$7:$X$54)) -> 0 | AR17: =SUMPRODUCT(($V$7:$V$54=AC17&"_draw")*($X$7:$X$54))+SUMPRODUCT(($W$7:$W$54=AC17&"_draw")*($X$7:$X$54)) -> 0 | AS17: =SUMPRODUCT(($E$7:$E$54=AC17)*($X$7:$X$54)*($F$7:$F$54))+SUMPRODUCT(($H$7:$H$54=AC17)*($X$7:$X$54)*($G$7:$G$54)) -> 0 | AT17: =SUMPRODUCT(($E$7:$E$54=AC17)*($X$7:$X$54)*($G$7:$G$54))+SUMPRODUCT(($H$7:$H$54=AC17)*($X$7:$X$54)*($F$7:$F$54)) -> 0 | AU17: =AS17-AT17 -> 0
A18: 12 | B18: =INDEX(T,18+INT(MOD(U18-1,7)),lang) -> Lun | C18: =INDEX(T,24+MONTH(U18),lang) & " " & DAY(U18) & ", " & YEAR(U18) -> Giu 16, 2014 | D18: =TIME(HOUR(U18),MINUTE(U18),0) -> 0.70833333 | E18: =AC44 -> Germania | F18: 4 | G18: 0 | H18: =AC45 -> Portogallo | I18: =INDEX(T,113,lang) -> Salvador | M18: =VLOOKUP(4,AB14:AL17,2,FALSE) -> Spagna | N18: =O18+P18+Q18 -> 1 | O18: =VLOOKUP(4,AB14:AL17,3,FALSE) -> 0 | P18: =VLOOKUP(4,AB14:AL17,4,FALSE) -> 0 | Q18: =VLOOKUP(4,AB14:AL17,5,FALSE) -> 1 | R18: =VLOOKUP(4,AB14:AL17,6,FALSE) & " - " & VLOOKUP(4,AB14:AL17,7,FALSE) -> 1 - 5 | S18: =O18*3+P18 -> 0 | U18: =DATE(2014,6,16)+TIME(5,0,0)+gmt_delta -> 41806.708 | V18: =IF(OR(F18="",G18=""),"",IF(F18>G18,E18&"_win",IF(F18<G18,E18&"_lose",E18&"_draw"))) -> Germania_win | W18: =IF(V18="","",IF(F18<G18,H18&"_win",IF(F18>G18,H18&"_lose",H18&"_draw"))) -> Portogallo_lose | X18: =IF(V18="",0,IF(VLOOKUP(E18,$AC$8:$AL$53,7,FALSE)=VLOOKUP(H18,$AC$8:$AL$53,7,FALSE),1,0)) -> 0 | Y18: =X18*F18 -> 0 | Z18: =X18*G18 -> 0 | AD18: =MAX(AD14:AD17)-MIN(AD14:AD17)+1 -> 2 | AE18: =MAX(AE14:AE17)-MIN(AE14:AE17)+1 -> 1 | AF18: =MAX(AF14:AF17)-MIN(AF14:AF17)+1 -> 2 | AG18: =MAX(AG14:AG17)-MIN(AG14:AG17)+1 -> 5 | AH18: =MAX(AH14:AH17)-MIN(AH14:AH17)+1 -> 5 | AI18: =MAX(AI14:AI17)-AI19+1 -> 30805 | AJ18: =MAX(AJ14:AJ17)-AJ19+1 -> 9 | AL18: =MAX(AL14:AL17)-MIN(AL14:AL17)+1 -> 4 | AM18: =MAX(AM14:AM17)-MIN(AM14:AM17)+1 -> 1 | AQ18: =MAX(AQ14:AQ17)-MIN(AQ14:AQ17)+1 -> 1 | AR18: =MAX(AR14:AR17)-MIN(AR14:AR17)+1 -> 1 | AS18: =MAX(AS14:AS17)-MIN(AS14:AS17)+1 -> 1 | AT18: =MAX(AT14:AT17)-MIN(AT14:AT17)+1 -> 1 | AU18: =MAX(AU14:AU17)-MIN(AU14:AU17)+1 -> 1
A19: 13 | B19: =INDEX(T,18+INT(MOD(U19-1,7)),lang) -> Lun | C19: =INDEX(T,24+MONTH(U19),lang) & " " & DAY(U19) & ", " & YEAR(U19) -> Giu 16, 2014 | D19: =TIME(HOUR(U19),MINUTE(U19),0) -> 0.83333333 | E19: =AC40 -> Iran | F19: 0 | G19: 0 | H19: =AC41 -> Nigeria | I19: =INDEX(T,106,lang) -> Curitiba | U19: =DATE(2014,6,16)+TIME(8,0,0)+gmt_delta -> 41806.833 | V19: =IF(OR(F19="",G19=""),"",IF(F19>G19,E19&"_win",IF(F19<G19,E19&"_lose",E19&"_draw"))) -> Iran_draw | W19: =IF(V19="","",IF(F19<G19,H19&"_win",IF(F19>G19,H19&"_lose",H19&"_draw"))) -> Nigeria_draw | X19: =IF(V19="",0,IF(VLOOKUP(E19,$AC$8:$AL$53,7,FALSE)=VLOOKUP(H19,$AC$8:$AL$53,7,FALSE),1,0)) -> 1 | Y19: =X19*F19 -> 0 | Z19: =X19*G19 -> 0 | AI19: =MIN(AI14:AI17) -> -399 | AJ19: =MIN(AJ14:AJ17) -> -4
A20: 14 | B20: =INDEX(T,18+INT(MOD(U20-1,7)),lang) -> Lun | C20: =INDEX(T,24+MONTH(U20),lang) & " " & DAY(U20) & ", " & YEAR(U20) -> Giu 16, 2014 | D20: =TIME(HOUR(U20),MINUTE(U20),0) -> 0.95833333 | E20: =AC46 -> Ghana | F20: 1 | G20: 2 | H20: =AC47 -> Stati Uniti d'America | I20: =INDEX(T,109,lang) -> natale | M20: =INDEX(T,9,lang) & " " & "C" -> Gruppo C | N20: =INDEX(T,10,lang) -> G | O20: =INDEX(T,11,lang) -> V | P20: =INDEX(T,12,lang) -> P | Q20: =INDEX(T,13,lang) -> S | R20: =INDEX(T,14,lang) -> GF - GS | S20: =INDEX(T,15,lang) -> Punti | U20: =DATE(2014,6,16)+TIME(11,0,0)+gmt_delta -> 41806.958 | V20: =IF(OR(F20="",G20=""),"",IF(F20>G20,E20&"_win",IF(F20<G20,E20&"_lose",E20&"_draw"))) -> Ghana_lose | W20: =IF(V20="","",IF(F20<G20,H20&"_win",IF(F20>G20,H20&"_lose",H20&"_draw"))) -> Stati Uniti d'America_win | X20: =IF(V20="",0,IF(VLOOKUP(E20,$AC$8:$AL$53,7,FALSE)=VLOOKUP(H20,$AC$8:$AL$53,7,FALSE),1,0)) -> 0 | Y20: =X20*F20 -> 0 | Z20: =X20*G20 -> 0 | AB20: =COUNTIF(AO20:AO23,CONCATENATE(">=",AO20)) -> 1 | AC20: =INDEX(T,52,lang) -> Colombia | AD20: =COUNTIF($V$7:$W$54,"=" & AC20 & "_win") -> 1 | AE20: =COUNTIF($V$7:$W$54,"=" & AC20 & "_draw") -> 0 | AF20: =COUNTIF($V$7:$W$54,"=" & AC20 & "_lose") -> 0 | AG20: =SUMIF($E$7:$E$54,$AC20,$F$7:$F$54) + SUMIF($H$7:$H$54,$AC20,$G$7:$G$54) -> 3 | AH20: =SUMIF($E$7:$E$54,$AC20,$G$7:$G$54) + SUMIF($H$7:$H$54,$AC20,$F$7:$F$54) -> 0 | AI20: =(AG20-AH20)*100+AL20*10000+AG20 -> 30303 | AJ20: =AG20-AH20 -> 3 | AK20: =(AJ20-AJ25)/AJ24 -> 0.85714286 | AL20: =AD20*3+AE20 -> 3 | AM20: =AQ20/AQ24*1000+AR20/AR24*100+AU20/AU24*10+AS20/AS24 -> 0 | AN20: =VLOOKUP(AC20,db_fifarank,2,FALSE)/2000000 -> 0.000593 | AO20: =1000*AL20/AL24+100*AK20+10*AG20/AG24+1*AM20/AM24+AN20 -> 843.21488 | AP20: =IF(SUM(AD20:AF23)=12,M21,INDEX(T,74,lang)) -> 1C | AQ20: =SUMPRODUCT(($V$7:$V$54=AC20&"_win")*($X$7:$X$54))+SUMPRODUCT(($W$7:$W$54=AC20&"_win")*($X$7:$X$54)) -> 0 | AR20: =SUMPRODUCT(($V$7:$V$54=AC20&"_draw")*($X$7:$X$54))+SUMPRODUCT(($W$7:$W$54=AC20&"_draw")*($X$7:$X$54)) -> 0 | AS20: =SUMPRODUCT(($E$7:$E$54=AC20)*($X$7:$X$54)*($F$7:$F$54))+SUMPRODUCT(($H$7:$H$54=AC20)*($X$7:$X$54)*($G$7:$G$54)) -> 0 | AT20: =SUMPRODUCT(($E$7:$E$54=AC20)*($X$7:$X$54)*($G$7:$G$54))+SUMPRODUCT(($H$7:$H$54=AC20)*($X$7:$X$54)*($F$7:$F$54)) -> 0 | AU20: =AS20-AT20 -> 0
A21: 15 | B21: =INDEX(T,18+INT(MOD(U21-1,7)),lang) -> Mar | C21: =INDEX(T,24+MONTH(U21),lang) & " " & DAY(U21) & ", " & YEAR(U21) -> Giu 17, 2014 | D21: =TIME(HOUR(U21),MINUTE(U21),0) -> 0.70833333 | E21: =AC50 -> Belgio | H21: =AC51 -> Algeria | I21: =INDEX(T,103,lang) -> Belo Horizonte | M21: =VLOOKUP(1,AB20:AL23,2,FALSE) -> Colombia | N21: =O21+P21+Q21 -> 1 | O21: =VLOOKUP(1,AB20:AL23,3,FALSE) -> 1 | P21: =VLOOKUP(1,AB20:AL23,4,FALSE) -> 0 | Q21: =VLOOKUP(1,AB20:AL23,5,FALSE) -> 0 | R21: =VLOOKUP(1,AB20:AL23,6,FALSE) & " - " & VLOOKUP(1,AB20:AL23,7,FALSE) -> 3 - 0 | S21: =O21*3+P21 -> 3 | U21: =DATE(2014,6,17)+TIME(5,0,0)+gmt_delta -> 41807.708 | V21: =IF(OR(F21="",G21=""),"",IF(F21>G21,E21&"_win",IF(F21<G21,E21&"_lose",E21&"_draw"))) | W21: =IF(V21="","",IF(F21<G21,H21&"_win",IF(F21>G21,H21&"_lose",H21&"_draw"))) | X21: =IF(V21="",0,IF(VLOOKUP(E21,$AC$8:$AL$53,7,FALSE)=VLOOKUP(H21,$AC$8:$AL$53,7,FALSE),1,0)) -> 0 | Y21: =X21*F21 -> 0 | Z21: =X21*G21 -> 0 | AB21: =COUNTIF(AO20:AO23,CONCATENATE(">=",AO21)) -> 4 | AC21: =INDEX(T,45,lang) -> Grecia | AD21: =COUNTIF($V$7:$W$54,"=" & AC21 & "_win") -> 0 | AE21: =COUNTIF($V$7:$W$54,"=" & AC21 & "_draw") -> 0 | AF21: =COUNTIF($V$7:$W$54,"=" & AC21 & "_lose") -> 1 | AG21: =SUMIF($E$7:$E$54,$AC21,$F$7:$F$54) + SUMIF($H$7:$H$54,$AC21,$G$7:$G$54) -> 0 | AH21: =SUMIF($E$7:$E$54,$AC21,$G$7:$G$54) + SUMIF($H$7:$H$54,$AC21,$F$7:$F$54) -> 3 | AI21: =(AG21-AH21)*100+AL21*10000+AG21 -> -300 | AJ21: =AG21-AH21 -> -3 | AK21: =(AJ21-AJ25)/AJ24 -> 0 | AL21: =AD21*3+AE21 -> 0 | AM21: =AQ21/AQ24*1000+AR21/AR24*100+AU21/AU24*10+AS21/AS24 -> 0 | AN21: =VLOOKUP(AC21,db_fifarank,2,FALSE)/2000000 -> 0.000541 | AO21: =1000*AL21/AL24+100*AK21+10*AG21/AG24+1*AM21/AM24+AN21 -> 0.000541 | AP21: =IF(SUM(AD20:AF23)=12,M22,INDEX(T,75,lang)) -> 2C | AQ21: =SUMPRODUCT(($V$7:$V$54=AC21&"_win")*($X$7:$X$54))+SUMPRODUCT(($W$7:$W$54=AC21&"_win")*($X$7:$X$54)) -> 0 | AR21: =SUMPRODUCT(($V$7:$V$54=AC21&"_draw")*($X$7:$X$54))+SUMPRODUCT(($W$7:$W$54=AC21&"_draw")*($X$7:$X$54)) -> 0 | AS21: =SUMPRODUCT(($E$7:$E$54=AC21)*($X$7:$X$54)*($F$7:$F$54))+SUMPRODUCT(($H$7:$H$54=AC21)*($X$7:$X$54)*($G$7:$G$54)) -> 0 | AT21: =SUMPRODUCT(($E$7:$E$54=AC21)*($X$7:$X$54)*($G$7:$G$54))+SUMPRODUCT(($H$7:$H$54=AC21)*($X$7:$X$54)*($F$7:$F$54)) -> 0 | AU21: =AS21-AT21 -> 0
A22: 16 | B22: =INDEX(T,18+INT(MOD(U22-1,7)),lang) -> Mar | C22: =INDEX(T,24+MONTH(U22),lang) & " " & DAY(U22) & ", " & YEAR(U22) -> Giu 17, 2014 | D22: =TIME(HOUR(U22),MINUTE(U22),0) -> 0.83333333 | E22: =AC8 -> Brasile | H22: =AC10 -> Messico | I22: =INDEX(T,107,lang) -> Fortaleza | M22: =VLOOKUP(2,AB20:AL23,2,FALSE) -> Costa d' Avorio | N22: =O22+P22+Q22 -> 1 | O22: =VLOOKUP(2,AB20:AL23,3,FALSE) -> 1 | P22: =VLOOKUP(2,AB20:AL23,4,FALSE) -> 0 | Q22: =VLOOKUP(2,AB20:AL23,5,FALSE) -> 0 | R22: =VLOOKUP(2,AB20:AL23,6,FALSE) & " - " & VLOOKUP(2,AB20:AL23,7,FALSE) -> 2 - 1 | S22: =O22*3+P22 -> 3 | U22: =DATE(2014,6,17)+TIME(8,0,0)+gmt_delta -> 41807.833 | V22: =IF(OR(F22="",G22=""),"",IF(F22>G22,E22&"_win",IF(F22<G22,E22&"_lose",E22&"_draw"))) | W22: =IF(V22="","",IF(F22<G22,H22&"_win",IF(F22>G22,H22&"_lose",H22&"_draw"))) | X22: =IF(V22="",0,IF(VLOOKUP(E22,$AC$8:$AL$53,7,FALSE)=VLOOKUP(H22,$AC$8:$AL$53,7,FALSE),1,0)) -> 0 | Y22: =X22*F22 -> 0 | Z22: =X22*G22 -> 0 | AB22: =COUNTIF(AO20:AO23,CONCATENATE(">=",AO22)) -> 2 | AC22: =INDEX(T,64,lang) -> Costa d' Avorio | AD22: =COUNTIF($V$7:$W$54,"=" & AC22 & "_win") -> 1 | AE22: =COUNTIF($V$7:$W$54,"=" & AC22 & "_draw") -> 0 | AF22: =COUNTIF($V$7:$W$54,"=" & AC22 & "_lose") -> 0 | AG22: =SUMIF($E$7:$E$54,$AC22,$F$7:$F$54) + SUMIF($H$7:$H$54,$AC22,$G$7:$G$54) -> 2 | AH22: =SUMIF($E$7:$E$54,$AC22,$G$7:$G$54) + SUMIF($H$7:$H$54,$AC22,$F$7:$F$54) -> 1 | AI22: =(AG22-AH22)*100+AL22*10000+AG22 -> 30102 | AJ22: =AG22-AH22 -> 1 | AK22: =(AJ22-AJ25)/AJ24 -> 0.57142857 | AL22: =AD22*3+AE22 -> 3 | AM22: =AQ22/AQ24*1000+AR22/AR24*100+AU22/AU24*10+AS22/AS24 -> 0 | AN22: =VLOOKUP(AC22,db_fifarank,2,FALSE)/2000000 -> 0.000415 | AO22: =1000*AL22/AL24+100*AK22+10*AG22/AG24+1*AM22/AM24+AN22 -> 812.14327 | AQ22: =SUMPRODUCT(($V$7:$V$54=AC22&"_win")*($X$7:$X$54))+SUMPRODUCT(($W$7:$W$54=AC22&"_win")*($X$7:$X$54)) -> 0 | AR22: =SUMPRODUCT(($V$7:$V$54=AC22&"_draw")*($X$7:$X$54))+SUMPRODUCT(($W$7:$W$54=AC22&"_draw")*($X$7:$X$54)) -> 0 | AS22: =SUMPRODUCT(($E$7:$E$54=AC22)*($X$7:$X$54)*($F$7:$F$54))+SUMPRODUCT(($H$7:$H$54=AC22)*($X$7:$X$54)*($G$7:$G$54)) -> 0 | AT22: =SUMPRODUCT(($E$7:$E$54=AC22)*($X$7:$X$54)*($G$7:$G$54))+SUMPRODUCT(($H$7:$H$54=AC22)*($X$7:$X$54)*($F$7:$F$54)) -> 0 | AU22: =AS22-AT22 -> 0
A23: 17 | B23: =INDEX(T,18+INT(MOD(U23-1,7)),lang) -> Mar | C23: =INDEX(T,24+MONTH(U23),lang) & " " & DAY(U23) & ", " & YEAR(U23) -> Giu 17, 2014 | D23: =TIME(HOUR(U23),MINUTE(U23),0) -> 0.95833333 | E23: =AC52 -> Russia | H23: =AC53 -> Corea del Sud | I23: =INDEX(T,105,lang) -> Cuiaba | M23: =VLOOKUP(3,AB20:AL23,2,FALSE) -> Giappone | N23: =O23+P23+Q23 -> 1 | O23: =VLOOKUP(3,AB20:AL23,3,FALSE) -> 0 | P23: =VLOOKUP(3,AB20:AL23,4,FALSE) -> 0 | Q23: =VLOOKUP(3,AB20:AL23,5,FALSE) -> 1 | R23: =VLOOKUP(3,AB20:AL23,6,FALSE) & " - " & VLOOKUP(3,AB20:AL23,7,FALSE) -> 1 - 2 | S23: =O23*3+P23 -> 0 | U23: =DATE(2014,6,17)+TIME(11,0,0)+gmt_delta -> 41807.958 | V23: =IF(OR(F23="",G23=""),"",IF(F23>G23,E23&"_win",IF(F23<G23,E23&"_lose",E23&"_draw"))) | W23: =IF(V23="","",IF(F23<G23,H23&"_win",IF(F23>G23,H23&"_lose",H23&"_draw"))) | X23: =IF(V23="",0,IF(VLOOKUP(E23,$AC$8:$AL$53,7,FALSE)=VLOOKUP(H23,$AC$8:$AL$53,7,FALSE),1,0)) -> 0 | Y23: =X23*F23 -> 0 | Z23: =X23*G23 -> 0 | AB23: =COUNTIF(AO20:AO23,CONCATENATE(">=",AO23)) -> 3 | AC23: =INDEX(T,56,lang) -> Giappone | AD23: =COUNTIF($V$7:$W$54,"=" & AC23 & "_win") -> 0 | AE23: =COUNTIF($V$7:$W$54,"=" & AC23 & "_draw") -> 0 | AF23: =COUNTIF($V$7:$W$54,"=" & AC23 & "_lose") -> 1 | AG23: =SUMIF($E$7:$E$54,$AC23,$F$7:$F$54) + SUMIF($H$7:$H$54,$AC23,$G$7:$G$54) -> 1 | AH23: =SUMIF($E$7:$E$54,$AC23,$G$7:$G$54) + SUMIF($H$7:$H$54,$AC23,$F$7:$F$54) -> 2 | AI23: =(AG23-AH23)*100+AL23*10000+AG23 -> -99 | AJ23: =AG23-AH23 -> -1 | AK23: =(AJ23-AJ25)/AJ24 -> 0.28571429 | AL23: =AD23*3+AE23 -> 0 | AM23: =AQ23/AQ24*1000+AR23/AR24*100+AU23/AU24*10+AS23/AS24 -> 0 | AN23: =VLOOKUP(AC23,db_fifarank,2,FALSE)/2000000 -> 0.0003065 | AO23: =1000*AL23/AL24+100*AK23+10*AG23/AG24+1*AM23/AM24+AN23 -> 31.071735 | AQ23: =SUMPRODUCT(($V$7:$V$54=AC23&"_win")*($X$7:$X$54))+SUMPRODUCT(($W$7:$W$54=AC23&"_win")*($X$7:$X$54)) -> 0 | AR23: =SUMPRODUCT(($V$7:$V$54=AC23&"_draw")*($X$7:$X$54))+SUMPRODUCT(($W$7:$W$54=AC23&"_draw")*($X$7:$X$54)) -> 0 | AS23: =SUMPRODUCT(($E$7:$E$54=AC23)*($X$7:$X$54)*($F$7:$F$54))+SUMPRODUCT(($H$7:$H$54=AC23)*($X$7:$X$54)*($G$7:$G$54)) -> 0 | AT23: =SUMPRODUCT(($E$7:$E$54=AC23)*($X$7:$X$54)*($G$7:$G$54))+SUMPRODUCT(($H$7:$H$54=AC23)*($X$7:$X$54)*($F$7:$F$54)) -> 0 | AU23: =AS23-AT23 -> 0
A24: 18 | B24: =INDEX(T,18+INT(MOD(U24-1,7)),lang) -> Mer | C24: =INDEX(T,24+MONTH(U24),lang) & " " & DAY(U24) & ", " & YEAR(U24) -> Giu 18, 2014 | D24: =TIME(HOUR(U24),MINUTE(U24),0) -> 0.70833333 | E24: =AC17 -> Australia | H24: =AC15 -> Paesi Bassi | I24: =INDEX(T,110,lang) -> Porto Alegre | M24: =VLOOKUP(4,AB20:AL23,2,FALSE) -> Grecia | N24: =O24+P24+Q24 -> 1 | O24: =VLOOKUP(4,AB20:AL23,3,FALSE) -> 0 | P24: =VLOOKUP(4,AB20:AL23,4,FALSE) -> 0 | Q24: =VLOOKUP(4,AB20:AL23,5,FALSE) -> 1 | R24: =VLOOKUP(4,AB20:AL23,6,FALSE) & " - " & VLOOKUP(4,AB20:AL23,7,FALSE) -> 0 - 3 | S24: =O24*3+P24 -> 0 | U24: =DATE(2014,6,18)+TIME(5,0,0)+gmt_delta -> 41808.708 | V24: =IF(OR(F24="",G24=""),"",IF(F24>G24,E24&"_win",IF(F24<G24,E24&"_lose",E24&"_draw"))) | W24: =IF(V24="","",IF(F24<G24,H24&"_win",IF(F24>G24,H24&"_lose",H24&"_draw"))) | X24: =IF(V24="",0,IF(VLOOKUP(E24,$AC$8:$AL$53,7,FALSE)=VLOOKUP(H24,$AC$8:$AL$53,7,FALSE),1,0)) -> 0 | Y24: =X24*F24 -> 0 | Z24: =X24*G24 -> 0 | AD24: =MAX(AD20:AD23)-MIN(AD20:AD23)+1 -> 2 | AE24: =MAX(AE20:AE23)-MIN(AE20:AE23)+1 -> 1 | AF24: =MAX(AF20:AF23)-MIN(AF20:AF23)+1 -> 2 | AG24: =MAX(AG20:AG23)-MIN(AG20:AG23)+1 -> 4 | AH24: =MAX(AH20:AH23)-MIN(AH20:AH23)+1 -> 4 | AI24: =MAX(AI20:AI23)-AI25+1 -> 30604 | AJ24: =MAX(AJ20:AJ23)-AJ25+1 -> 7 | AL24: =MAX(AL20:AL23)-MIN(AL20:AL23)+1 -> 4 | AM24: =MAX(AM20:AM23)-MIN(AM20:AM23)+1 -> 1 | AQ24: =MAX(AQ20:AQ23)-MIN(AQ20:AQ23)+1 -> 1 | AR24: =MAX(AR20:AR23)-MIN(AR20:AR23)+1 -> 1 | AS24: =MAX(AS20:AS23)-MIN(AS20:AS23)+1 -> 1 | AT24: =MAX(AT20:AT23)-MIN(AT20:AT23)+1 -> 1 | AU24: =MAX(AU20:AU23)-MIN(AU20:AU23)+1 -> 1
A25: 19 | B25: =INDEX(T,18+INT(MOD(U25-1,7)),lang) -> Mer | C25: =INDEX(T,24+MONTH(U25),lang) & " " & DAY(U25) & ", " & YEAR(U25) -> Giu 18, 2014 | D25: =TIME(HOUR(U25),MINUTE(U25),0) -> 0.95833333 | E25: =AC11 -> Camerun | H25: =AC9 -> Croazia | I25: =INDEX(T,108,lang) -> Manaus | U25: =DATE(2014,6,18)+TIME(11,0,0)+gmt_delta -> 41808.958 | V25: =IF(OR(F25="",G25=""),"",IF(F25>G25,E25&"_win",IF(F25<G25,E25&"_lose",E25&"_draw"))) | W25: =IF(V25="","",IF(F25<G25,H25&"_win",IF(F25>G25,H25&"_lose",H25&"_draw"))) | X25: =IF(V25="",0,IF(VLOOKUP(E25,$AC$8:$AL$53,7,FALSE)=VLOOKUP(H25,$AC$8:$AL$53,7,FALSE),1,0)) -> 0 | Y25: =X25*F25 -> 0 | Z25: =X25*G25 -> 0 | AI25: =MIN(AI20:AI23) -> -300 | AJ25: =MIN(AJ20:AJ23) -> -3
A26: 20 | B26: =INDEX(T,18+INT(MOD(U26-1,7)),lang) -> Mer | C26: =INDEX(T,24+MONTH(U26),lang) & " " & DAY(U26) & ", " & YEAR(U26) -> Giu 18, 2014 | D26: =TIME(HOUR(U26),MINUTE(U26),0) -> 0.83333333 | E26: =AC14 -> Spagna | H26: =AC16 -> Cile | I26: =INDEX(T,112,lang) -> Rio De Janeiro | M26: =INDEX(T,9,lang) & " " & "D" -> Gruppo D | N26: =INDEX(T,10,lang) -> G | O26: =INDEX(T,11,lang) -> V | P26: =INDEX(T,12,lang) -> P | Q26: =INDEX(T,13,lang) -> S | R26: =INDEX(T,14,lang) -> GF - GS | S26: =INDEX(T,15,lang) -> Punti | U26: =DATE(2014,6,18)+TIME(8,0,0)+gmt_delta -> 41808.833 | V26: =IF(OR(F26="",G26=""),"",IF(F26>G26,E26&"_win",IF(F26<G26,E26&"_lose",E26&"_draw"))) | W26: =IF(V26="","",IF(F26<G26,H26&"_win",IF(F26>G26,H26&"_lose",H26&"_draw"))) | X26: =IF(V26="",0,IF(VLOOKUP(E26,$AC$8:$AL$53,7,FALSE)=VLOOKUP(H26,$AC$8:$AL$53,7,FALSE),1,0)) -> 0 | Y26: =X26*F26 -> 0 | Z26: =X26*G26 -> 0 | AB26: =COUNTIF(AO26:AO29,CONCATENATE(">=",AO26)) -> 4 | AC26: =INDEX(T,40,lang) -> Uruguay | AD26: =COUNTIF($V$7:$W$54,"=" & AC26 & "_win") -> 0 | AE26: =COUNTIF($V$7:$W$54,"=" & AC26 & "_draw") -> 0 | AF26: =COUNTIF($V$7:$W$54,"=" & AC26 & "_lose") -> 1 | AG26: =SUMIF($E$7:$E$54,$AC26,$F$7:$F$54) + SUMIF($H$7:$H$54,$AC26,$G$7:$G$54) -> 1 | AH26: =SUMIF($E$7:$E$54,$AC26,$G$7:$G$54) + SUMIF($H$7:$H$54,$AC26,$F$7:$F$54) -> 3 | AI26: =(AG26-AH26)*100+AL26*10000+AG26 -> -199 | AJ26: =AG26-AH26 -> -2 | AK26: =(AJ26-AJ31)/AJ30 -> 0 | AL26: =AD26*3+AE26 -> 0 | AM26: =AQ26/AQ30*1000+AR26/AR30*100+AU26/AU30*10+AS26/AS30 -> 0 | AN26: =VLOOKUP(AC26,db_fifarank,2,FALSE)/2000000 -> 0.0005905 | AO26: =1000*AL26/AL30+100*AK26+10*AG26/AG30+1*AM26/AM30+AN26 -> 3.3339238 | AP26: =IF(SUM(AD26:AF29)=12,M27,INDEX(T,76,lang)) -> 1D | AQ26: =SUMPRODUCT(($V$7:$V$54=AC26&"_win")*($X$7:$X$54))+SUMPRODUCT(($W$7:$W$54=AC26&"_win")*($X$7:$X$54)) -> 0 | AR26: =SUMPRODUCT(($V$7:$V$54=AC26&"_draw")*($X$7:$X$54))+SUMPRODUCT(($W$7:$W$54=AC26&"_draw")*($X$7:$X$54)) -> 0 | AS26: =SUMPRODUCT(($E$7:$E$54=AC26)*($X$7:$X$54)*($F$7:$F$54))+SUMPRODUCT(($H$7:$H$54=AC26)*($X$7:$X$54)*($G$7:$G$54)) -> 0 | AT26: =SUMPRODUCT(($E$7:$E$54=AC26)*($X$7:$X$54)*($G$7:$G$54))+SUMPRODUCT(($H$7:$H$54=AC26)*($X$7:$X$54)*($F$7:$F$54)) -> 0 | AU26: =AS26-AT26 -> 0
A27: 21 | B27: =INDEX(T,18+INT(MOD(U27-1,7)),lang) -> Gio | C27: =INDEX(T,24+MONTH(U27),lang) & " " & DAY(U27) & ", " & YEAR(U27) -> Giu 19, 2014 | D27: =TIME(HOUR(U27),MINUTE(U27),0) -> 0.70833333 | E27: =AC20 -> Colombia | H27: =AC22 -> Costa d' Avorio | I27: =INDEX(T,104,lang) -> Brasilia | M27: =VLOOKUP(1,AB26:AL29,2,FALSE) -> Costarica | N27: =O27+P27+Q27 -> 1 | O27: =VLOOKUP(1,AB26:AL29,3,FALSE) -> 1 | P27: =VLOOKUP(1,AB26:AL29,4,FALSE) -> 0 | Q27: =VLOOKUP(1,AB26:AL29,5,FALSE) -> 0 | R27: =VLOOKUP(1,AB26:AL29,6,FALSE) & " - " & VLOOKUP(1,AB26:AL29,7,FALSE) -> 3 - 1 | S27: =O27*3+P27 -> 3 | U27: =DATE(2014,6,19)+TIME(5,0,0)+gmt_delta -> 41809.708 | V27: =IF(OR(F27="",G27=""),"",IF(F27>G27,E27&"_win",IF(F27<G27,E27&"_lose",E27&"_draw"))) | W27: =IF(V27="","",IF(F27<G27,H27&"_win",IF(F27>G27,H27&"_lose",H27&"_draw"))) | X27: =IF(V27="",0,IF(VLOOKUP(E27,$AC$8:$AL$53,7,FALSE)=VLOOKUP(H27,$AC$8:$AL$53,7,FALSE),1,0)) -> 0 | Y27: =X27*F27 -> 0 | Z27: =X27*G27 -> 0 | AB27: =COUNTIF(AO26:AO29,CONCATENATE(">=",AO27)) -> 1 | AC27: =INDEX(T,55,lang) -> Costarica | AD27: =COUNTIF($V$7:$W$54,"=" & AC27 & "_win") -> 1 | AE27: =COUNTIF($V$7:$W$54,"=" & AC27 & "_draw") -> 0 | AF27: =COUNTIF($V$7:$W$54,"=" & AC27 & "_lose") -> 0 | AG27: =SUMIF($E$7:$E$54,$AC27,$F$7:$F$54) + SUMIF($H$7:$H$54,$AC27,$G$7:$G$54) -> 3 | AH27: =SUMIF($E$7:$E$54,$AC27,$G$7:$G$54) + SUMIF($H$7:$H$54,$AC27,$F$7:$F$54) -> 1 | AI27: =(AG27-AH27)*100+AL27*10000+AG27 -> 30203 | AJ27: =AG27-AH27 -> 2 | AK27: =(AJ27-AJ31)/AJ30 -> 0.8 | AL27: =AD27*3+AE27 -> 3 | AM27: =AQ27/AQ30*1000+AR27/AR30*100+AU27/AU30*10+AS27/AS30 -> 0 | AN27: =VLOOKUP(AC27,db_fifarank,2,FALSE)/2000000 -> 0.000372 | AO27: =1000*AL27/AL30+100*AK27+10*AG27/AG30+1*AM27/AM30+AN27 -> 840.00037 | AP27: =IF(SUM(AD26:AF29)=12,M28,INDEX(T,77,lang)) -> 2D | AQ27: =SUMPRODUCT(($V$7:$V$54=AC27&"_win")*($X$7:$X$54))+SUMPRODUCT(($W$7:$W$54=AC27&"_win")*($X$7:$X$54)) -> 0 | AR27: =SUMPRODUCT(($V$7:$V$54=AC27&"_draw")*($X$7:$X$54))+SUMPRODUCT(($W$7:$W$54=AC27&"_draw")*($X$7:$X$54)) -> 0 | AS27: =SUMPRODUCT(($E$7:$E$54=AC27)*($X$7:$X$54)*($F$7:$F$54))+SUMPRODUCT(($H$7:$H$54=AC27)*($X$7:$X$54)*($G$7:$G$54)) -> 0 | AT27: =SUMPRODUCT(($E$7:$E$54=AC27)*($X$7:$X$54)*($G$7:$G$54))+SUMPRODUCT(($H$7:$H$54=AC27)*($X$7:$X$54)*($F$7:$F$54)) -> 0 | AU27: =AS27-AT27 -> 0
A28: 22 | B28: =INDEX(T,18+INT(MOD(U28-1,7)),lang) -> Gio | C28: =INDEX(T,24+MONTH(U28),lang) & " " & DAY(U28) & ", " & YEAR(U28) -> Giu 19, 2014 | D28: =TIME(HOUR(U28),MINUTE(U28),0) -> 0.83333333 | E28: =AC26 -> Uruguay | H28: =AC28 -> Inghilterra | I28: =INDEX(T,114,lang) -> Sao Paulo | M28: =VLOOKUP(2,AB26:AL29,2,FALSE) -> Italia | N28: =O28+P28+Q28 -> 1 | O28: =VLOOKUP(2,AB26:AL29,3,FALSE) -> 1 | P28: =VLOOKUP(2,AB26:AL29,4,FALSE) -> 0 | Q28: =VLOOKUP(2,AB26:AL29,5,FALSE) -> 0 | R28: =VLOOKUP(2,AB26:AL29,6,FALSE) & " - " & VLOOKUP(2,AB26:AL29,7,FALSE) -> 2 - 1 | S28: =O28*3+P28 -> 3 | U28: =DATE(2014,6,19)+TIME(8,0,0)+gmt_delta -> 41809.833 | V28: =IF(OR(F28="",G28=""),"",IF(F28>G28,E28&"_win",IF(F28<G28,E28&"_lose",E28&"_draw"))) | W28: =IF(V28="","",IF(F28<G28,H28&"_win",IF(F28>G28,H28&"_lose",H28&"_draw"))) | X28: =IF(V28="",0,IF(VLOOKUP(E28,$AC$8:$AL$53,7,FALSE)=VLOOKUP(H28,$AC$8:$AL$53,7,FALSE),1,0)) -> 0 | Y28: =X28*F28 -> 0 | Z28: =X28*G28 -> 0 | AB28: =COUNTIF(AO26:AO29,CONCATENATE(">=",AO28)) -> 3 | AC28: =INDEX(T,46,lang) -> Inghilterra | AD28: =COUNTIF($V$7:$W$54,"=" & AC28 & "_win") -> 0 | AE28: =COUNTIF($V$7:$W$54,"=" & AC28 & "_draw") -> 0 | AF28: =COUNTIF($V$7:$W$54,"=" & AC28 & "_lose") -> 1 | AG28: =SUMIF($E$7:$E$54,$AC28,$F$7:$F$54) + SUMIF($H$7:$H$54,$AC28,$G$7:$G$54) -> 1 | AH28: =SUMIF($E$7:$E$54,$AC28,$G$7:$G$54) + SUMIF($H$7:$H$54,$AC28,$F$7:$F$54) -> 2 | AI28: =(AG28-AH28)*100+AL28*10000+AG28 -> -99 | AJ28: =AG28-AH28 -> -1 | AK28: =(AJ28-AJ31)/AJ30 -> 0.2 | AL28: =AD28*3+AE28 -> 0 | AM28: =AQ28/AQ30*1000+AR28/AR30*100+AU28/AU30*10+AS28/AS30 -> 0 | AN28: =VLOOKUP(AC28,db_fifarank,2,FALSE)/2000000 -> 0.0005215 | AO28: =1000*AL28/AL30+100*AK28+10*AG28/AG30+1*AM28/AM30+AN28 -> 23.333855 | AQ28: =SUMPRODUCT(($V$7:$V$54=AC28&"_win")*($X$7:$X$54))+SUMPRODUCT(($W$7:$W$54=AC28&"_win")*($X$7:$X$54)) -> 0 | AR28: =SUMPRODUCT(($V$7:$V$54=AC28&"_draw")*($X$7:$X$54))+SUMPRODUCT(($W$7:$W$54=AC28&"_draw")*($X$7:$X$54)) -> 0 | AS28: =SUMPRODUCT(($E$7:$E$54=AC28)*($X$7:$X$54)*($F$7:$F$54))+SUMPRODUCT(($H$7:$H$54=AC28)*($X$7:$X$54)*($G$7:$G$54)) -> 0 | AT28: =SUMPRODUCT(($E$7:$E$54=AC28)*($X$7:$X$54)*($G$7:$G$54))+SUMPRODUCT(($H$7:$H$54=AC28)*($X$7:$X$54)*($F$7:$F$54)) -> 0 | AU28: =AS28-AT28 -> 0
A29: 23 | B29: =INDEX(T,18+INT(MOD(U29-1,7)),lang) -> Gio | C29: =INDEX(T,24+MONTH(U29),lang) & " " & DAY(U29) & ", " & YEAR(U29) -> Giu 19, 2014 | D29: =TIME(HOUR(U29),MINUTE(U29),0) -> 0.95833333 | E29: =AC23 -> Giappone | H29: =AC21 -> Grecia | I29: =INDEX(T,109,lang) -> natale | M29: =VLOOKUP(3,AB26:AL29,2,FALSE) -> Inghilterra | N29: =O29+P29+Q29 -> 1 | O29: =VLOOKUP(3,AB26:AL29,3,FALSE) -> 0 | P29: =VLOOKUP(3,AB26:AL29,4,FALSE) -> 0 | Q29: =VLOOKUP(3,AB26:AL29,5,FALSE) -> 1 | R29: =VLOOKUP(3,AB26:AL29,6,FALSE) & " - " & VLOOKUP(3,AB26:AL29,7,FALSE) -> 1 - 2 | S29: =O29*3+P29 -> 0 | U29: =DATE(2014,6,19)+TIME(11,0,0)+gmt_delta -> 41809.958 | V29: =IF(OR(F29="",G29=""),"",IF(F29>G29,E29&"_win",IF(F29<G29,E29&"_lose",E29&"_draw"))) | W29: =IF(V29="","",IF(F29<G29,H29&"_win",IF(F29>G29,H29&"_lose",H29&"_draw"))) | X29: =IF(V29="",0,IF(VLOOKUP(E29,$AC$8:$AL$53,7,FALSE)=VLOOKUP(H29,$AC$8:$AL$53,7,FALSE),1,0)) -> 0 | Y29: =X29*F29 -> 0 | Z29: =X29*G29 -> 0 | AB29: =COUNTIF(AO26:AO29,CONCATENATE(">=",AO29)) -> 2 | AC29: =INDEX(T,58,lang) -> Italia | AD29: =COUNTIF($V$7:$W$54,"=" & AC29 & "_win") -> 1 | AE29: =COUNTIF($V$7:$W$54,"=" & AC29 & "_draw") -> 0 | AF29: =COUNTIF($V$7:$W$54,"=" & AC29 & "_lose") -> 0 | AG29: =SUMIF($E$7:$E$54,$AC29,$F$7:$F$54) + SUMIF($H$7:$H$54,$AC29,$G$7:$G$54) -> 2 | AH29: =SUMIF($E$7:$E$54,$AC29,$G$7:$G$54) + SUMIF($H$7:$H$54,$AC29,$F$7:$F$54) -> 1 | AI29: =(AG29-AH29)*100+AL29*10000+AG29 -> 30102 | AJ29: =AG29-AH29 -> 1 | AK29: =(AJ29-AJ31)/AJ30 -> 0.6 | AL29: =AD29*3+AE29 -> 3 | AM29: =AQ29/AQ30*1000+AR29/AR30*100+AU29/AU30*10+AS29/AS30 -> 0 | AN29: =VLOOKUP(AC29,db_fifarank,2,FALSE)/2000000 -> 0.0005575 | AO29: =1000*AL29/AL30+100*AK29+10*AG29/AG30+1*AM29/AM30+AN29 -> 816.66722 | AQ29: =SUMPRODUCT(($V$7:$V$54=AC29&"_win")*($X$7:$X$54))+SUMPRODUCT(($W$7:$W$54=AC29&"_win")*($X$7:$X$54)) -> 0 | AR29: =SUMPRODUCT(($V$7:$V$54=AC29&"_draw")*($X$7:$X$54))+SUMPRODUCT(($W$7:$W$54=AC29&"_draw")*($X$7:$X$54)) -> 0 | AS29: =SUMPRODUCT(($E$7:$E$54=AC29)*($X$7:$X$54)*($F$7:$F$54))+SUMPRODUCT(($H$7:$H$54=AC29)*($X$7:$X$54)*($G$7:$G$54)) -> 0 | AT29: =SUMPRODUCT(($E$7:$E$54=AC29)*($X$7:$X$54)*($G$7:$G$54))+SUMPRODUCT(($H$7:$H$54=AC29)*($X$7:$X$54)*($F$7:$F$54)) -> 0 | AU29: =AS29-AT29 -> 0
A30: 24 | B30: =INDEX(T,18+INT(MOD(U30-1,7)),lang) -> Ven | C30: =INDEX(T,24+MONTH(U30),lang) & " " & DAY(U30) & ", " & YEAR(U30) -> Giu 20, 2014 | D30: =TIME(HOUR(U30),MINUTE(U30),0) -> 0.70833333 | E30: =AC29 -> Italia | H30: =AC27 -> Costarica | I30: =INDEX(T,111,lang) -> Recife | M30: =VLOOKUP(4,AB26:AL29,2,FALSE) -> Uruguay | N30: =O30+P30+Q30 -> 1 | O30: =VLOOKUP(4,AB26:AL29,3,FALSE) -> 0 | P30: =VLOOKUP(4,AB26:AL29,4,FALSE) -> 0 | Q30: =VLOOKUP(4,AB26:AL29,5,FALSE) -> 1 | R30: =VLOOKUP(4,AB26:AL29,6,FALSE) & " - " & VLOOKUP(4,AB26:AL29,7,FALSE) -> 1 - 3 | S30: =O30*3+P30 -> 0 | U30: =DATE(2014,6,20)+TIME(5,0,0)+gmt_delta -> 41810.708 | V30: =IF(OR(F30="",G30=""),"",IF(F30>G30,E30&"_win",IF(F30<G30,E30&"_lose",E30&"_draw"))) | W30: =IF(V30="","",IF(F30<G30,H30&"_win",IF(F30>G30,H30&"_lose",H30&"_draw"))) | X30: =IF(V30="",0,IF(VLOOKUP(E30,$AC$8:$AL$53,7,FALSE)=VLOOKUP(H30,$AC$8:$AL$53,7,FALSE),1,0)) -> 0 | Y30: =X30*F30 -> 0 | Z30: =X30*G30 -> 0 | AD30: =MAX(AD26:AD29)-MIN(AD26:AD29)+1 -> 2 | AE30: =MAX(AE26:AE29)-MIN(AE26:AE29)+1 -> 1 | AF30: =MAX(AF26:AF29)-MIN(AF26:AF29)+1 -> 2 | AG30: =MAX(AG26:AG29)-MIN(AG26:AG29)+1 -> 3 | AH30: =MAX(AH26:AH29)-MIN(AH26:AH29)+1 -> 3 | AI30: =MAX(AI26:AI29)-AI31+1 -> 30403 | AJ30: =MAX(AJ26:AJ29)-AJ31+1 -> 5 | AL30: =MAX(AL26:AL29)-MIN(AL26:AL29)+1 -> 4 | AM30: =MAX(AM26:AM29)-MIN(AM26:AM29)+1 -> 1 | AQ30: =MAX(AQ26:AQ29)-MIN(AQ26:AQ29)+1 -> 1 | AR30: =MAX(AR26:AR29)-MIN(AR26:AR29)+1 -> 1 | AS30: =MAX(AS26:AS29)-MIN(AS26:AS29)+1 -> 1 | AT30: =MAX(AT26:AT29)-MIN(AT26:AT29)+1 -> 1 | AU30: =MAX(AU26:AU29)-MIN(AU26:AU29)+1 -> 1
A31: 25 | B31: =INDEX(T,18+INT(MOD(U31-1,7)),lang) -> Ven | C31: =INDEX(T,24+MONTH(U31),lang) & " " & DAY(U31) & ", " & YEAR(U31) -> Giu 20, 2014 | D31: =TIME(HOUR(U31),MINUTE(U31),0) -> 0.83333333 | E31: =AC32 -> Svizzera | H31: =AC34 -> Francia | I31: =INDEX(T,113,lang) -> Salvador | U31: =DATE(2014,6,20)+TIME(8,0,0)+gmt_delta -> 41810.833 | V31: =IF(OR(F31="",G31=""),"",IF(F31>G31,E31&"_win",IF(F31<G31,E31&"_lose",E31&"_draw"))) | W31: =IF(V31="","",IF(F31<G31,H31&"_win",IF(F31>G31,H31&"_lose",H31&"_draw"))) | X31: =IF(V31="",0,IF(VLOOKUP(E31,$AC$8:$AL$53,7,FALSE)=VLOOKUP(H31,$AC$8:$AL$53,7,FALSE),1,0)) -> 0 | Y31: =X31*F31 -> 0 | Z31: =X31*G31 -> 0 | AI31: =MIN(AI26:AI29) -> -199 | AJ31: =MIN(AJ26:AJ29) -> -2
